BEGIN:VCALENDAR
VERSION:2.0
PRODID:spatie/icalendar-generator
NAME:zoersel_1h_35_reminders
X-WR-CALNAME:zoersel_1h_35_reminders
BEGIN:VTIMEZONE
TZID:Europe/Brussels
BEGIN:DAYLIGHT
DTSTART:20240331T010000
TZOFFSETFROM:+0100
TZOFFSETTO:+0200
END:DAYLIGHT
BEGIN:STANDARD
DTSTART:20241027T030000
TZOFFSETFROM:+0200
TZOFFSETTO:+0100
END:STANDARD
BEGIN:DAYLIGHT
DTSTART:20250330T010000
TZOFFSETFROM:+0100
TZOFFSETTO:+0200
END:DAYLIGHT
END:VTIMEZONE
BEGIN:VTIMEZONE
TZID:UTC
BEGIN:STANDARD
DTSTART:20250724T070546
TZOFFSETFROM:+0000
TZOFFSETTO:+0000
END:STANDARD
END:VTIMEZONE
BEGIN:VEVENT
UID:7A79EC4D-D9C5-4EF0-8466-03CF82E25DAE-6-1162_homereminder@42.badmintonne
 rs.net
DTSTAMP:20260420T070546Z
SUMMARY:Thuismatch ingevuld? (Zoersel 1H (35) - Huirtuits Dropke 1H (42))
DESCRIPTION:Je hebt 36 uur na aanvang om een thuismatch op Badmintonvlaande
 ren in te vullen. Match info: Zoersel 1H (35) - Huirtuits Dropke 1H (42) -
  Link: https://www.badmintonvlaanderen.be/sport/teammatch.aspx?id=7A79EC4D
 -D9C5-4EF0-8466-03CF82E25DAE&match=1162
DTSTART;TZID=Europe/Brussels:20241001T000000
DTEND;TZID=Europe/Brussels:20241001T000000
END:VEVENT
BEGIN:VEVENT
UID:7A79EC4D-D9C5-4EF0-8466-03CF82E25DAE-6-1160_homereminder@42.badmintonne
 rs.net
DTSTAMP:20260420T070546Z
SUMMARY:Thuismatch ingevuld? (Zoersel 1H (35) - Dijlevallei 4H (35))
DESCRIPTION:Je hebt 36 uur na aanvang om een thuismatch op Badmintonvlaande
 ren in te vullen. Match info: Zoersel 1H (35) - Dijlevallei 4H (35) - Link
 : https://www.badmintonvlaanderen.be/sport/teammatch.aspx?id=7A79EC4D-D9C5
 -4EF0-8466-03CF82E25DAE&match=1160
DTSTART;TZID=Europe/Brussels:20241112T000000
DTEND;TZID=Europe/Brussels:20241112T000000
END:VEVENT
BEGIN:VEVENT
UID:7A79EC4D-D9C5-4EF0-8466-03CF82E25DAE-6-1164_homereminder@42.badmintonne
 rs.net
DTSTAMP:20260420T070546Z
SUMMARY:Thuismatch ingevuld? (Zoersel 1H (35) - Klein Boom 1H (37))
DESCRIPTION:Je hebt 36 uur na aanvang om een thuismatch op Badmintonvlaande
 ren in te vullen. Match info: Zoersel 1H (35) - Klein Boom 1H (37) - Link:
  https://www.badmintonvlaanderen.be/sport/teammatch.aspx?id=7A79EC4D-D9C5-
 4EF0-8466-03CF82E25DAE&match=1164
DTSTART;TZID=Europe/Brussels:20241210T000000
DTEND;TZID=Europe/Brussels:20241210T000000
END:VEVENT
BEGIN:VEVENT
UID:7A79EC4D-D9C5-4EF0-8466-03CF82E25DAE-6-1161_homereminder@42.badmintonne
 rs.net
DTSTAMP:20260420T070546Z
SUMMARY:Thuismatch ingevuld? (Zoersel 1H (35) - Geelse 1H (36))
DESCRIPTION:Je hebt 36 uur na aanvang om een thuismatch op Badmintonvlaande
 ren in te vullen. Match info: Zoersel 1H (35) - Geelse 1H (36) - Link: htt
 ps://www.badmintonvlaanderen.be/sport/teammatch.aspx?id=7A79EC4D-D9C5-4EF0
 -8466-03CF82E25DAE&match=1161
DTSTART;TZID=Europe/Brussels:20250107T000000
DTEND;TZID=Europe/Brussels:20250107T000000
END:VEVENT
BEGIN:VEVENT
UID:7A79EC4D-D9C5-4EF0-8466-03CF82E25DAE-6-1165_homereminder@42.badmintonne
 rs.net
DTSTAMP:20260420T070546Z
SUMMARY:Thuismatch ingevuld? (Zoersel 1H (35) - Tots Keerbergen 1H (32))
DESCRIPTION:Je hebt 36 uur na aanvang om een thuismatch op Badmintonvlaande
 ren in te vullen. Match info: Zoersel 1H (35) - Tots Keerbergen 1H (32) - 
 Link: https://www.badmintonvlaanderen.be/sport/teammatch.aspx?id=7A79EC4D-
 D9C5-4EF0-8466-03CF82E25DAE&match=1165
DTSTART;TZID=Europe/Brussels:20250318T000000
DTEND;TZID=Europe/Brussels:20250318T000000
END:VEVENT
BEGIN:VEVENT
UID:7A79EC4D-D9C5-4EF0-8466-03CF82E25DAE-6-1163_homereminder@42.badmintonne
 rs.net
DTSTAMP:20260420T070546Z
SUMMARY:Thuismatch ingevuld? (Zoersel 1H (35) - Kill Leuven 1H (31))
DESCRIPTION:Je hebt 36 uur na aanvang om een thuismatch op Badmintonvlaande
 ren in te vullen. Match info: Zoersel 1H (35) - Kill Leuven 1H (31) - Link
 : https://www.badmintonvlaanderen.be/sport/teammatch.aspx?id=7A79EC4D-D9C5
 -4EF0-8466-03CF82E25DAE&match=1163
DTSTART;TZID=Europe/Brussels:20250325T000000
DTEND;TZID=Europe/Brussels:20250325T000000
END:VEVENT
BEGIN:VEVENT
UID:7A79EC4D-D9C5-4EF0-8466-03CF82E25DAE-6-1167_awayreminder@42.badmintonne
 rs.net
DTSTAMP:20260420T070546Z
SUMMARY:Uitmatch bevestigd? (Geelse 1H (36) - Zoersel 1H (35))
DESCRIPTION:Je hebt 72 uur na aanvang om een uitmatch op Badmintonvlaandere
 n in te vullen. Match info: Geelse 1H (36) - Zoersel 1H (35) - Link: https
 ://www.badmintonvlaanderen.be/sport/teammatch.aspx?id=7A79EC4D-D9C5-4EF0-8
 466-03CF82E25DAE&match=1167
DTSTART;TZID=Europe/Brussels:20241006T200000
DTEND;TZID=Europe/Brussels:20241006T200000
END:VEVENT
BEGIN:VEVENT
UID:7A79EC4D-D9C5-4EF0-8466-03CF82E25DAE-6-1169_awayreminder@42.badmintonne
 rs.net
DTSTAMP:20260420T070546Z
SUMMARY:Uitmatch bevestigd? (Kill Leuven 1H (31) - Zoersel 1H (35))
DESCRIPTION:Je hebt 72 uur na aanvang om een uitmatch op Badmintonvlaandere
 n in te vullen. Match info: Kill Leuven 1H (31) - Zoersel 1H (35) - Link: 
 https://www.badmintonvlaanderen.be/sport/teammatch.aspx?id=7A79EC4D-D9C5-4
 EF0-8466-03CF82E25DAE&match=1169
DTSTART;TZID=Europe/Brussels:20241015T130000
DTEND;TZID=Europe/Brussels:20241015T130000
END:VEVENT
BEGIN:VEVENT
UID:7A79EC4D-D9C5-4EF0-8466-03CF82E25DAE-6-1171_awayreminder@42.badmintonne
 rs.net
DTSTAMP:20260420T070546Z
SUMMARY:Uitmatch bevestigd? (Tots Keerbergen 1H (32) - Zoersel 1H (35))
DESCRIPTION:Je hebt 72 uur na aanvang om een uitmatch op Badmintonvlaandere
 n in te vullen. Match info: Tots Keerbergen 1H (32) - Zoersel 1H (35) - Li
 nk: https://www.badmintonvlaanderen.be/sport/teammatch.aspx?id=7A79EC4D-D9
 C5-4EF0-8466-03CF82E25DAE&match=1171
DTSTART;TZID=Europe/Brussels:20241030T190000
DTEND;TZID=Europe/Brussels:20241030T190000
END:VEVENT
BEGIN:VEVENT
UID:7A79EC4D-D9C5-4EF0-8466-03CF82E25DAE-6-1168_awayreminder@42.badmintonne
 rs.net
DTSTAMP:20260420T070546Z
SUMMARY:Uitmatch bevestigd? (Huirtuits Dropke 1H (42) - Zoersel 1H (35))
DESCRIPTION:Je hebt 72 uur na aanvang om een uitmatch op Badmintonvlaandere
 n in te vullen. Match info: Huirtuits Dropke 1H (42) - Zoersel 1H (35) - L
 ink: https://www.badmintonvlaanderen.be/sport/teammatch.aspx?id=7A79EC4D-D
 9C5-4EF0-8466-03CF82E25DAE&match=1168
DTSTART;TZID=Europe/Brussels:20250122T183000
DTEND;TZID=Europe/Brussels:20250122T183000
END:VEVENT
BEGIN:VEVENT
UID:7A79EC4D-D9C5-4EF0-8466-03CF82E25DAE-6-1170_awayreminder@42.badmintonne
 rs.net
DTSTAMP:20260420T070546Z
SUMMARY:Uitmatch bevestigd? (Klein Boom 1H (37) - Zoersel 1H (35))
DESCRIPTION:Je hebt 72 uur na aanvang om een uitmatch op Badmintonvlaandere
 n in te vullen. Match info: Klein Boom 1H (37) - Zoersel 1H (35) - Link: h
 ttps://www.badmintonvlaanderen.be/sport/teammatch.aspx?id=7A79EC4D-D9C5-4E
 F0-8466-03CF82E25DAE&match=1170
DTSTART;TZID=Europe/Brussels:20250205T190000
DTEND;TZID=Europe/Brussels:20250205T190000
END:VEVENT
BEGIN:VEVENT
UID:7A79EC4D-D9C5-4EF0-8466-03CF82E25DAE-6-1166_awayreminder@42.badmintonne
 rs.net
DTSTAMP:20260420T070546Z
SUMMARY:Uitmatch bevestigd? (Dijlevallei 4H (35) - Zoersel 1H (35))
DESCRIPTION:Je hebt 72 uur na aanvang om een uitmatch op Badmintonvlaandere
 n in te vullen. Match info: Dijlevallei 4H (35) - Zoersel 1H (35) - Link: 
 https://www.badmintonvlaanderen.be/sport/teammatch.aspx?id=7A79EC4D-D9C5-4
 EF0-8466-03CF82E25DAE&match=1166
DTSTART;TZID=Europe/Brussels:20250226T140000
DTEND;TZID=Europe/Brussels:20250226T140000
END:VEVENT
END:VCALENDAR