BEGIN:VCALENDAR
VERSION:2.0
PRODID:spatie/icalendar-generator
NAME:dijlevallei_4h_35_reminders
X-WR-CALNAME:dijlevallei_4h_35_reminders
BEGIN:VTIMEZONE
TZID:Europe/Brussels
BEGIN:DAYLIGHT
DTSTART:20240331T010000
TZOFFSETFROM:+0100
TZOFFSETTO:+0200
END:DAYLIGHT
BEGIN:STANDARD
DTSTART:20241027T030000
TZOFFSETFROM:+0200
TZOFFSETTO:+0100
END:STANDARD
BEGIN:DAYLIGHT
DTSTART:20250330T010000
TZOFFSETFROM:+0100
TZOFFSETTO:+0200
END:DAYLIGHT
END:VTIMEZONE
BEGIN:VTIMEZONE
TZID:UTC
BEGIN:STANDARD
DTSTART:20250724T070545
TZOFFSETFROM:+0000
TZOFFSETTO:+0000
END:STANDARD
END:VTIMEZONE
BEGIN:VEVENT
UID:7A79EC4D-D9C5-4EF0-8466-03CF82E25DAE-6-261_homereminder@51.badmintonner
 s.net
DTSTAMP:20260420T070545Z
SUMMARY:Thuismatch ingevuld? (Dijlevallei 4H (35) - Geelse 1H (36))
DESCRIPTION:Je hebt 36 uur na aanvang om een thuismatch op Badmintonvlaande
 ren in te vullen. Match info: Dijlevallei 4H (35) - Geelse 1H (36) - Link:
  https://www.badmintonvlaanderen.be/sport/teammatch.aspx?id=7A79EC4D-D9C5-
 4EF0-8466-03CF82E25DAE&match=261
DTSTART;TZID=Europe/Brussels:20241022T050000
DTEND;TZID=Europe/Brussels:20241022T050000
END:VEVENT
BEGIN:VEVENT
UID:7A79EC4D-D9C5-4EF0-8466-03CF82E25DAE-6-271_homereminder@51.badmintonner
 s.net
DTSTAMP:20260420T070545Z
SUMMARY:Thuismatch ingevuld? (Dijlevallei 4H (35) - Kill Leuven 1H (31))
DESCRIPTION:Je hebt 36 uur na aanvang om een thuismatch op Badmintonvlaande
 ren in te vullen. Match info: Dijlevallei 4H (35) - Kill Leuven 1H (31) - 
 Link: https://www.badmintonvlaanderen.be/sport/teammatch.aspx?id=7A79EC4D-
 D9C5-4EF0-8466-03CF82E25DAE&match=271
DTSTART;TZID=Europe/Brussels:20241202T043000
DTEND;TZID=Europe/Brussels:20241202T043000
END:VEVENT
BEGIN:VEVENT
UID:7A79EC4D-D9C5-4EF0-8466-03CF82E25DAE-6-281_homereminder@51.badmintonner
 s.net
DTSTAMP:20260420T070545Z
SUMMARY:Thuismatch ingevuld? (Dijlevallei 4H (35) - Tots Keerbergen 1H (32)
 )
DESCRIPTION:Je hebt 36 uur na aanvang om een thuismatch op Badmintonvlaande
 ren in te vullen. Match info: Dijlevallei 4H (35) - Tots Keerbergen 1H (32
 ) - Link: https://www.badmintonvlaanderen.be/sport/teammatch.aspx?id=7A79E
 C4D-D9C5-4EF0-8466-03CF82E25DAE&match=281
DTSTART;TZID=Europe/Brussels:20241210T050000
DTEND;TZID=Europe/Brussels:20241210T050000
END:VEVENT
BEGIN:VEVENT
UID:7A79EC4D-D9C5-4EF0-8466-03CF82E25DAE-6-266_homereminder@51.badmintonner
 s.net
DTSTAMP:20260420T070545Z
SUMMARY:Thuismatch ingevuld? (Dijlevallei 4H (35) - Huirtuits Dropke 1H (42
 ))
DESCRIPTION:Je hebt 36 uur na aanvang om een thuismatch op Badmintonvlaande
 ren in te vullen. Match info: Dijlevallei 4H (35) - Huirtuits Dropke 1H (4
 2) - Link: https://www.badmintonvlaanderen.be/sport/teammatch.aspx?id=7A79
 EC4D-D9C5-4EF0-8466-03CF82E25DAE&match=266
DTSTART;TZID=Europe/Brussels:20250211T020000
DTEND;TZID=Europe/Brussels:20250211T020000
END:VEVENT
BEGIN:VEVENT
UID:7A79EC4D-D9C5-4EF0-8466-03CF82E25DAE-6-1166_homereminder@51.badmintonne
 rs.net
DTSTAMP:20260420T070545Z
SUMMARY:Thuismatch ingevuld? (Dijlevallei 4H (35) - Zoersel 1H (35))
DESCRIPTION:Je hebt 36 uur na aanvang om een thuismatch op Badmintonvlaande
 ren in te vullen. Match info: Dijlevallei 4H (35) - Zoersel 1H (35) - Link
 : https://www.badmintonvlaanderen.be/sport/teammatch.aspx?id=7A79EC4D-D9C5
 -4EF0-8466-03CF82E25DAE&match=1166
DTSTART;TZID=Europe/Brussels:20250225T020000
DTEND;TZID=Europe/Brussels:20250225T020000
END:VEVENT
BEGIN:VEVENT
UID:7A79EC4D-D9C5-4EF0-8466-03CF82E25DAE-6-276_homereminder@51.badmintonner
 s.net
DTSTAMP:20260420T070545Z
SUMMARY:Thuismatch ingevuld? (Dijlevallei 4H (35) - Klein Boom 1H (37))
DESCRIPTION:Je hebt 36 uur na aanvang om een thuismatch op Badmintonvlaande
 ren in te vullen. Match info: Dijlevallei 4H (35) - Klein Boom 1H (37) - L
 ink: https://www.badmintonvlaanderen.be/sport/teammatch.aspx?id=7A79EC4D-D
 9C5-4EF0-8466-03CF82E25DAE&match=276
DTSTART;TZID=Europe/Brussels:20250401T050000
DTEND;TZID=Europe/Brussels:20250401T050000
END:VEVENT
BEGIN:VEVENT
UID:7A79EC4D-D9C5-4EF0-8466-03CF82E25DAE-6-257_awayreminder@51.badmintonner
 s.net
DTSTAMP:20260420T070545Z
SUMMARY:Uitmatch bevestigd? (Huirtuits Dropke 1H (42) - Dijlevallei 4H (35)
 )
DESCRIPTION:Je hebt 72 uur na aanvang om een uitmatch op Badmintonvlaandere
 n in te vullen. Match info: Huirtuits Dropke 1H (42) - Dijlevallei 4H (35)
  - Link: https://www.badmintonvlaanderen.be/sport/teammatch.aspx?id=7A79EC
 4D-D9C5-4EF0-8466-03CF82E25DAE&match=257
DTSTART;TZID=Europe/Brussels:20241107T200000
DTEND;TZID=Europe/Brussels:20241107T200000
END:VEVENT
BEGIN:VEVENT
UID:7A79EC4D-D9C5-4EF0-8466-03CF82E25DAE-6-1160_awayreminder@51.badmintonne
 rs.net
DTSTAMP:20260420T070545Z
SUMMARY:Uitmatch bevestigd? (Zoersel 1H (35) - Dijlevallei 4H (35))
DESCRIPTION:Je hebt 72 uur na aanvang om een uitmatch op Badmintonvlaandere
 n in te vullen. Match info: Zoersel 1H (35) - Dijlevallei 4H (35) - Link: 
 https://www.badmintonvlaanderen.be/sport/teammatch.aspx?id=7A79EC4D-D9C5-4
 EF0-8466-03CF82E25DAE&match=1160
DTSTART;TZID=Europe/Brussels:20241113T120000
DTEND;TZID=Europe/Brussels:20241113T120000
END:VEVENT
BEGIN:VEVENT
UID:7A79EC4D-D9C5-4EF0-8466-03CF82E25DAE-6-259_awayreminder@51.badmintonner
 s.net
DTSTAMP:20260420T070545Z
SUMMARY:Uitmatch bevestigd? (Klein Boom 1H (37) - Dijlevallei 4H (35))
DESCRIPTION:Je hebt 72 uur na aanvang om een uitmatch op Badmintonvlaandere
 n in te vullen. Match info: Klein Boom 1H (37) - Dijlevallei 4H (35) - Lin
 k: https://www.badmintonvlaanderen.be/sport/teammatch.aspx?id=7A79EC4D-D9C
 5-4EF0-8466-03CF82E25DAE&match=259
DTSTART;TZID=Europe/Brussels:20241127T190000
DTEND;TZID=Europe/Brussels:20241127T190000
END:VEVENT
BEGIN:VEVENT
UID:7A79EC4D-D9C5-4EF0-8466-03CF82E25DAE-6-256_awayreminder@51.badmintonner
 s.net
DTSTAMP:20260420T070545Z
SUMMARY:Uitmatch bevestigd? (Geelse 1H (36) - Dijlevallei 4H (35))
DESCRIPTION:Je hebt 72 uur na aanvang om een uitmatch op Badmintonvlaandere
 n in te vullen. Match info: Geelse 1H (36) - Dijlevallei 4H (35) - Link: h
 ttps://www.badmintonvlaanderen.be/sport/teammatch.aspx?id=7A79EC4D-D9C5-4E
 F0-8466-03CF82E25DAE&match=256
DTSTART;TZID=Europe/Brussels:20250119T200000
DTEND;TZID=Europe/Brussels:20250119T200000
END:VEVENT
BEGIN:VEVENT
UID:7A79EC4D-D9C5-4EF0-8466-03CF82E25DAE-6-258_awayreminder@51.badmintonner
 s.net
DTSTAMP:20260420T070545Z
SUMMARY:Uitmatch bevestigd? (Kill Leuven 1H (31) - Dijlevallei 4H (35))
DESCRIPTION:Je hebt 72 uur na aanvang om een uitmatch op Badmintonvlaandere
 n in te vullen. Match info: Kill Leuven 1H (31) - Dijlevallei 4H (35) - Li
 nk: https://www.badmintonvlaanderen.be/sport/teammatch.aspx?id=7A79EC4D-D9
 C5-4EF0-8466-03CF82E25DAE&match=258
DTSTART;TZID=Europe/Brussels:20250318T130000
DTEND;TZID=Europe/Brussels:20250318T130000
END:VEVENT
BEGIN:VEVENT
UID:7A79EC4D-D9C5-4EF0-8466-03CF82E25DAE-6-260_awayreminder@51.badmintonner
 s.net
DTSTAMP:20260420T070545Z
SUMMARY:Uitmatch bevestigd? (Tots Keerbergen 1H (32) - Dijlevallei 4H (35))
DESCRIPTION:Je hebt 72 uur na aanvang om een uitmatch op Badmintonvlaandere
 n in te vullen. Match info: Tots Keerbergen 1H (32) - Dijlevallei 4H (35) 
 - Link: https://www.badmintonvlaanderen.be/sport/teammatch.aspx?id=7A79EC4
 D-D9C5-4EF0-8466-03CF82E25DAE&match=260
DTSTART;TZID=Europe/Brussels:20250416T190000
DTEND;TZID=Europe/Brussels:20250416T190000
END:VEVENT
END:VCALENDAR