BEGIN:VCALENDAR
VERSION:2.0
PRODID:spatie/icalendar-generator
NAME:de_pluim_3h_69_reminders
X-WR-CALNAME:de_pluim_3h_69_reminders
BEGIN:VTIMEZONE
TZID:Europe/Brussels
BEGIN:DAYLIGHT
DTSTART:20230326T010000
TZOFFSETFROM:+0100
TZOFFSETTO:+0200
END:DAYLIGHT
BEGIN:STANDARD
DTSTART:20231029T030000
TZOFFSETFROM:+0200
TZOFFSETTO:+0100
END:STANDARD
BEGIN:DAYLIGHT
DTSTART:20240331T010000
TZOFFSETFROM:+0100
TZOFFSETTO:+0200
END:DAYLIGHT
BEGIN:STANDARD
DTSTART:20241027T030000
TZOFFSETFROM:+0200
TZOFFSETTO:+0100
END:STANDARD
END:VTIMEZONE
BEGIN:VTIMEZONE
TZID:UTC
BEGIN:STANDARD
DTSTART:20250724T055131
TZOFFSETFROM:+0000
TZOFFSETTO:+0000
END:STANDARD
END:VTIMEZONE
BEGIN:VEVENT
UID:952A42C0-E06A-400D-BAE7-1F26DE702556-13-1478_homereminder@1899.badminto
 nners.net
DTSTAMP:20260420T055131Z
SUMMARY:Thuismatch ingevuld? (De Pluim 3H (69) - Olympia 2H (74))
DESCRIPTION:Je hebt 36 uur na aanvang om een thuismatch op Badmintonvlaande
 ren in te vullen. Match info: De Pluim 3H (69) - Olympia 2H (74) - Link: h
 ttps://www.badmintonvlaanderen.be/sport/teammatch.aspx?id=952A42C0-E06A-40
 0D-BAE7-1F26DE702556&match=1478
DTSTART;TZID=Europe/Brussels:20230912T061500
DTEND;TZID=Europe/Brussels:20230912T061500
END:VEVENT
BEGIN:VEVENT
UID:952A42C0-E06A-400D-BAE7-1F26DE702556-13-1476_homereminder@1899.badminto
 nners.net
DTSTAMP:20260420T055131Z
SUMMARY:Thuismatch ingevuld? (De Pluim 3H (69) - Olve 7H (72))
DESCRIPTION:Je hebt 36 uur na aanvang om een thuismatch op Badmintonvlaande
 ren in te vullen. Match info: De Pluim 3H (69) - Olve 7H (72) - Link: http
 s://www.badmintonvlaanderen.be/sport/teammatch.aspx?id=952A42C0-E06A-400D-
 BAE7-1F26DE702556&match=1476
DTSTART;TZID=Europe/Brussels:20231010T061500
DTEND;TZID=Europe/Brussels:20231010T061500
END:VEVENT
BEGIN:VEVENT
UID:952A42C0-E06A-400D-BAE7-1F26DE702556-13-1474_homereminder@1899.badminto
 nners.net
DTSTAMP:20260420T055131Z
SUMMARY:Thuismatch ingevuld? (De Pluim 3H (69) - Berlaar 2H (74))
DESCRIPTION:Je hebt 36 uur na aanvang om een thuismatch op Badmintonvlaande
 ren in te vullen. Match info: De Pluim 3H (69) - Berlaar 2H (74) - Link: h
 ttps://www.badmintonvlaanderen.be/sport/teammatch.aspx?id=952A42C0-E06A-40
 0D-BAE7-1F26DE702556&match=1474
DTSTART;TZID=Europe/Brussels:20231219T061500
DTEND;TZID=Europe/Brussels:20231219T061500
END:VEVENT
BEGIN:VEVENT
UID:952A42C0-E06A-400D-BAE7-1F26DE702556-13-1475_homereminder@1899.badminto
 nners.net
DTSTAMP:20260420T055131Z
SUMMARY:Thuismatch ingevuld? (De Pluim 3H (69) - Rijkerack 3H (75))
DESCRIPTION:Je hebt 36 uur na aanvang om een thuismatch op Badmintonvlaande
 ren in te vullen. Match info: De Pluim 3H (69) - Rijkerack 3H (75) - Link:
  https://www.badmintonvlaanderen.be/sport/teammatch.aspx?id=952A42C0-E06A-
 400D-BAE7-1F26DE702556&match=1475
DTSTART;TZID=Europe/Brussels:20240116T061500
DTEND;TZID=Europe/Brussels:20240116T061500
END:VEVENT
BEGIN:VEVENT
UID:952A42C0-E06A-400D-BAE7-1F26DE702556-13-1479_homereminder@1899.badminto
 nners.net
DTSTAMP:20260420T055131Z
SUMMARY:Thuismatch ingevuld? (De Pluim 3H (69) - Turnhout 2H (71))
DESCRIPTION:Je hebt 36 uur na aanvang om een thuismatch op Badmintonvlaande
 ren in te vullen. Match info: De Pluim 3H (69) - Turnhout 2H (71) - Link: 
 https://www.badmintonvlaanderen.be/sport/teammatch.aspx?id=952A42C0-E06A-4
 00D-BAE7-1F26DE702556&match=1479
DTSTART;TZID=Europe/Brussels:20240227T061500
DTEND;TZID=Europe/Brussels:20240227T061500
END:VEVENT
BEGIN:VEVENT
UID:952A42C0-E06A-400D-BAE7-1F26DE702556-13-1477_homereminder@1899.badminto
 nners.net
DTSTAMP:20260420T055131Z
SUMMARY:Thuismatch ingevuld? (De Pluim 3H (69) - Klein Boom 3H (68))
DESCRIPTION:Je hebt 36 uur na aanvang om een thuismatch op Badmintonvlaande
 ren in te vullen. Match info: De Pluim 3H (69) - Klein Boom 3H (68) - Link
 : https://www.badmintonvlaanderen.be/sport/teammatch.aspx?id=952A42C0-E06A
 -400D-BAE7-1F26DE702556&match=1477
DTSTART;TZID=Europe/Brussels:20240326T061500
DTEND;TZID=Europe/Brussels:20240326T061500
END:VEVENT
BEGIN:VEVENT
UID:952A42C0-E06A-400D-BAE7-1F26DE702556-13-1483_awayreminder@1899.badminto
 nners.net
DTSTAMP:20260420T055131Z
SUMMARY:Uitmatch bevestigd? (Klein Boom 3H (68) - De Pluim 3H (69))
DESCRIPTION:Je hebt 72 uur na aanvang om een uitmatch op Badmintonvlaandere
 n in te vullen. Match info: Klein Boom 3H (68) - De Pluim 3H (69) - Link: 
 https://www.badmintonvlaanderen.be/sport/teammatch.aspx?id=952A42C0-E06A-4
 00D-BAE7-1F26DE702556&match=1483
DTSTART;TZID=Europe/Brussels:20230927T190000
DTEND;TZID=Europe/Brussels:20230927T190000
END:VEVENT
BEGIN:VEVENT
UID:952A42C0-E06A-400D-BAE7-1F26DE702556-13-1481_awayreminder@1899.badminto
 nners.net
DTSTAMP:20260420T055131Z
SUMMARY:Uitmatch bevestigd? (Rijkerack 3H (75) - De Pluim 3H (69))
DESCRIPTION:Je hebt 72 uur na aanvang om een uitmatch op Badmintonvlaandere
 n in te vullen. Match info: Rijkerack 3H (75) - De Pluim 3H (69) - Link: h
 ttps://www.badmintonvlaanderen.be/sport/teammatch.aspx?id=952A42C0-E06A-40
 0D-BAE7-1F26DE702556&match=1481
DTSTART;TZID=Europe/Brussels:20231025T190000
DTEND;TZID=Europe/Brussels:20231025T190000
END:VEVENT
BEGIN:VEVENT
UID:952A42C0-E06A-400D-BAE7-1F26DE702556-13-1485_awayreminder@1899.badminto
 nners.net
DTSTAMP:20260420T055131Z
SUMMARY:Uitmatch bevestigd? (Turnhout 2H (71) - De Pluim 3H (69))
DESCRIPTION:Je hebt 72 uur na aanvang om een uitmatch op Badmintonvlaandere
 n in te vullen. Match info: Turnhout 2H (71) - De Pluim 3H (69) - Link: ht
 tps://www.badmintonvlaanderen.be/sport/teammatch.aspx?id=952A42C0-E06A-400
 D-BAE7-1F26DE702556&match=1485
DTSTART;TZID=Europe/Brussels:20231121T140000
DTEND;TZID=Europe/Brussels:20231121T140000
END:VEVENT
BEGIN:VEVENT
UID:952A42C0-E06A-400D-BAE7-1F26DE702556-13-1480_awayreminder@1899.badminto
 nners.net
DTSTAMP:20260420T055131Z
SUMMARY:Uitmatch bevestigd? (Berlaar 2H (74) - De Pluim 3H (69))
DESCRIPTION:Je hebt 72 uur na aanvang om een uitmatch op Badmintonvlaandere
 n in te vullen. Match info: Berlaar 2H (74) - De Pluim 3H (69) - Link: htt
 ps://www.badmintonvlaanderen.be/sport/teammatch.aspx?id=952A42C0-E06A-400D
 -BAE7-1F26DE702556&match=1480
DTSTART;TZID=Europe/Brussels:20240131T093000
DTEND;TZID=Europe/Brussels:20240131T093000
END:VEVENT
BEGIN:VEVENT
UID:952A42C0-E06A-400D-BAE7-1F26DE702556-13-1484_awayreminder@1899.badminto
 nners.net
DTSTAMP:20260420T055131Z
SUMMARY:Uitmatch bevestigd? (Olympia 2H (74) - De Pluim 3H (69))
DESCRIPTION:Je hebt 72 uur na aanvang om een uitmatch op Badmintonvlaandere
 n in te vullen. Match info: Olympia 2H (74) - De Pluim 3H (69) - Link: htt
 ps://www.badmintonvlaanderen.be/sport/teammatch.aspx?id=952A42C0-E06A-400D
 -BAE7-1F26DE702556&match=1484
DTSTART;TZID=Europe/Brussels:20240312T093000
DTEND;TZID=Europe/Brussels:20240312T093000
END:VEVENT
BEGIN:VEVENT
UID:952A42C0-E06A-400D-BAE7-1F26DE702556-13-1482_awayreminder@1899.badminto
 nners.net
DTSTAMP:20260420T055131Z
SUMMARY:Uitmatch bevestigd? (Olve 7H (72) - De Pluim 3H (69))
DESCRIPTION:Je hebt 72 uur na aanvang om een uitmatch op Badmintonvlaandere
 n in te vullen. Match info: Olve 7H (72) - De Pluim 3H (69) - Link: https:
 //www.badmintonvlaanderen.be/sport/teammatch.aspx?id=952A42C0-E06A-400D-BA
 E7-1F26DE702556&match=1482
DTSTART;TZID=Europe/Brussels:20240430T103000
DTEND;TZID=Europe/Brussels:20240430T103000
END:VEVENT
END:VCALENDAR