BEGIN:VCALENDAR
VERSION:2.0
PRODID:spatie/icalendar-generator
NAME:turnhout_2h_71_reminders
X-WR-CALNAME:turnhout_2h_71_reminders
BEGIN:VTIMEZONE
TZID:Europe/Brussels
BEGIN:DAYLIGHT
DTSTART:20230326T010000
TZOFFSETFROM:+0100
TZOFFSETTO:+0200
END:DAYLIGHT
BEGIN:STANDARD
DTSTART:20231029T030000
TZOFFSETFROM:+0200
TZOFFSETTO:+0100
END:STANDARD
BEGIN:DAYLIGHT
DTSTART:20240331T010000
TZOFFSETFROM:+0100
TZOFFSETTO:+0200
END:DAYLIGHT
END:VTIMEZONE
BEGIN:VTIMEZONE
TZID:UTC
BEGIN:STANDARD
DTSTART:20250724T072407
TZOFFSETFROM:+0000
TZOFFSETTO:+0000
END:STANDARD
END:VTIMEZONE
BEGIN:VEVENT
UID:952A42C0-E06A-400D-BAE7-1F26DE702556-13-590_homereminder@1947.badminton
 ners.net
DTSTAMP:20260420T072407Z
SUMMARY:Thuismatch ingevuld? (Turnhout 2H (71) - Klein Boom 3H (68))
DESCRIPTION:Je hebt 36 uur na aanvang om een thuismatch op Badmintonvlaande
 ren in te vullen. Match info: Turnhout 2H (71) - Klein Boom 3H (68) - Link
 : https://www.badmintonvlaanderen.be/sport/teammatch.aspx?id=952A42C0-E06A
 -400D-BAE7-1F26DE702556&match=590
DTSTART;TZID=Europe/Brussels:20231106T020000
DTEND;TZID=Europe/Brussels:20231106T020000
END:VEVENT
BEGIN:VEVENT
UID:952A42C0-E06A-400D-BAE7-1F26DE702556-13-1485_homereminder@1947.badminto
 nners.net
DTSTAMP:20260420T072407Z
SUMMARY:Thuismatch ingevuld? (Turnhout 2H (71) - De Pluim 3H (69))
DESCRIPTION:Je hebt 36 uur na aanvang om een thuismatch op Badmintonvlaande
 ren in te vullen. Match info: Turnhout 2H (71) - De Pluim 3H (69) - Link: 
 https://www.badmintonvlaanderen.be/sport/teammatch.aspx?id=952A42C0-E06A-4
 00D-BAE7-1F26DE702556&match=1485
DTSTART;TZID=Europe/Brussels:20231120T020000
DTEND;TZID=Europe/Brussels:20231120T020000
END:VEVENT
BEGIN:VEVENT
UID:952A42C0-E06A-400D-BAE7-1F26DE702556-13-580_homereminder@1947.badminton
 ners.net
DTSTAMP:20260420T072407Z
SUMMARY:Thuismatch ingevuld? (Turnhout 2H (71) - Rijkerack 3H (75))
DESCRIPTION:Je hebt 36 uur na aanvang om een thuismatch op Badmintonvlaande
 ren in te vullen. Match info: Turnhout 2H (71) - Rijkerack 3H (75) - Link:
  https://www.badmintonvlaanderen.be/sport/teammatch.aspx?id=952A42C0-E06A-
 400D-BAE7-1F26DE702556&match=580
DTSTART;TZID=Europe/Brussels:20231218T020000
DTEND;TZID=Europe/Brussels:20231218T020000
END:VEVENT
BEGIN:VEVENT
UID:952A42C0-E06A-400D-BAE7-1F26DE702556-13-575_homereminder@1947.badminton
 ners.net
DTSTAMP:20260420T072407Z
SUMMARY:Thuismatch ingevuld? (Turnhout 2H (71) - Berlaar 2H (74))
DESCRIPTION:Je hebt 36 uur na aanvang om een thuismatch op Badmintonvlaande
 ren in te vullen. Match info: Turnhout 2H (71) - Berlaar 2H (74) - Link: h
 ttps://www.badmintonvlaanderen.be/sport/teammatch.aspx?id=952A42C0-E06A-40
 0D-BAE7-1F26DE702556&match=575
DTSTART;TZID=Europe/Brussels:20240212T020000
DTEND;TZID=Europe/Brussels:20240212T020000
END:VEVENT
BEGIN:VEVENT
UID:952A42C0-E06A-400D-BAE7-1F26DE702556-13-585_homereminder@1947.badminton
 ners.net
DTSTAMP:20260420T072407Z
SUMMARY:Thuismatch ingevuld? (Turnhout 2H (71) - Olve 7H (72))
DESCRIPTION:Je hebt 36 uur na aanvang om een thuismatch op Badmintonvlaande
 ren in te vullen. Match info: Turnhout 2H (71) - Olve 7H (72) - Link: http
 s://www.badmintonvlaanderen.be/sport/teammatch.aspx?id=952A42C0-E06A-400D-
 BAE7-1F26DE702556&match=585
DTSTART;TZID=Europe/Brussels:20240304T020000
DTEND;TZID=Europe/Brussels:20240304T020000
END:VEVENT
BEGIN:VEVENT
UID:952A42C0-E06A-400D-BAE7-1F26DE702556-13-595_homereminder@1947.badminton
 ners.net
DTSTAMP:20260420T072407Z
SUMMARY:Thuismatch ingevuld? (Turnhout 2H (71) - Olympia 2H (74))
DESCRIPTION:Je hebt 36 uur na aanvang om een thuismatch op Badmintonvlaande
 ren in te vullen. Match info: Turnhout 2H (71) - Olympia 2H (74) - Link: h
 ttps://www.badmintonvlaanderen.be/sport/teammatch.aspx?id=952A42C0-E06A-40
 0D-BAE7-1F26DE702556&match=595
DTSTART;TZID=Europe/Brussels:20240325T020000
DTEND;TZID=Europe/Brussels:20240325T020000
END:VEVENT
BEGIN:VEVENT
UID:952A42C0-E06A-400D-BAE7-1F26DE702556-13-600_awayreminder@1947.badminton
 ners.net
DTSTAMP:20260420T072407Z
SUMMARY:Uitmatch bevestigd? (Olympia 2H (74) - Turnhout 2H (71))
DESCRIPTION:Je hebt 72 uur na aanvang om een uitmatch op Badmintonvlaandere
 n in te vullen. Match info: Olympia 2H (74) - Turnhout 2H (71) - Link: htt
 ps://www.badmintonvlaanderen.be/sport/teammatch.aspx?id=952A42C0-E06A-400D
 -BAE7-1F26DE702556&match=600
DTSTART;TZID=Europe/Brussels:20231010T093000
DTEND;TZID=Europe/Brussels:20231010T093000
END:VEVENT
BEGIN:VEVENT
UID:952A42C0-E06A-400D-BAE7-1F26DE702556-13-598_awayreminder@1947.badminton
 ners.net
DTSTAMP:20260420T072407Z
SUMMARY:Uitmatch bevestigd? (Olve 7H (72) - Turnhout 2H (71))
DESCRIPTION:Je hebt 72 uur na aanvang om een uitmatch op Badmintonvlaandere
 n in te vullen. Match info: Olve 7H (72) - Turnhout 2H (71) - Link: https:
 //www.badmintonvlaanderen.be/sport/teammatch.aspx?id=952A42C0-E06A-400D-BA
 E7-1F26DE702556&match=598
DTSTART;TZID=Europe/Brussels:20231017T103000
DTEND;TZID=Europe/Brussels:20231017T103000
END:VEVENT
BEGIN:VEVENT
UID:952A42C0-E06A-400D-BAE7-1F26DE702556-13-596_awayreminder@1947.badminton
 ners.net
DTSTAMP:20260420T072407Z
SUMMARY:Uitmatch bevestigd? (Berlaar 2H (74) - Turnhout 2H (71))
DESCRIPTION:Je hebt 72 uur na aanvang om een uitmatch op Badmintonvlaandere
 n in te vullen. Match info: Berlaar 2H (74) - Turnhout 2H (71) - Link: htt
 ps://www.badmintonvlaanderen.be/sport/teammatch.aspx?id=952A42C0-E06A-400D
 -BAE7-1F26DE702556&match=596
DTSTART;TZID=Europe/Brussels:20231206T093000
DTEND;TZID=Europe/Brussels:20231206T093000
END:VEVENT
BEGIN:VEVENT
UID:952A42C0-E06A-400D-BAE7-1F26DE702556-13-597_awayreminder@1947.badminton
 ners.net
DTSTAMP:20260420T072407Z
SUMMARY:Uitmatch bevestigd? (Rijkerack 3H (75) - Turnhout 2H (71))
DESCRIPTION:Je hebt 72 uur na aanvang om een uitmatch op Badmintonvlaandere
 n in te vullen. Match info: Rijkerack 3H (75) - Turnhout 2H (71) - Link: h
 ttps://www.badmintonvlaanderen.be/sport/teammatch.aspx?id=952A42C0-E06A-40
 0D-BAE7-1F26DE702556&match=597
DTSTART;TZID=Europe/Brussels:20240131T190000
DTEND;TZID=Europe/Brussels:20240131T190000
END:VEVENT
BEGIN:VEVENT
UID:952A42C0-E06A-400D-BAE7-1F26DE702556-13-1479_awayreminder@1947.badminto
 nners.net
DTSTAMP:20260420T072407Z
SUMMARY:Uitmatch bevestigd? (De Pluim 3H (69) - Turnhout 2H (71))
DESCRIPTION:Je hebt 72 uur na aanvang om een uitmatch op Badmintonvlaandere
 n in te vullen. Match info: De Pluim 3H (69) - Turnhout 2H (71) - Link: ht
 tps://www.badmintonvlaanderen.be/sport/teammatch.aspx?id=952A42C0-E06A-400
 D-BAE7-1F26DE702556&match=1479
DTSTART;TZID=Europe/Brussels:20240228T181500
DTEND;TZID=Europe/Brussels:20240228T181500
END:VEVENT
BEGIN:VEVENT
UID:952A42C0-E06A-400D-BAE7-1F26DE702556-13-599_awayreminder@1947.badminton
 ners.net
DTSTAMP:20260420T072407Z
SUMMARY:Uitmatch bevestigd? (Klein Boom 3H (68) - Turnhout 2H (71))
DESCRIPTION:Je hebt 72 uur na aanvang om een uitmatch op Badmintonvlaandere
 n in te vullen. Match info: Klein Boom 3H (68) - Turnhout 2H (71) - Link: 
 https://www.badmintonvlaanderen.be/sport/teammatch.aspx?id=952A42C0-E06A-4
 00D-BAE7-1F26DE702556&match=599
DTSTART;TZID=Europe/Brussels:20240410T190000
DTEND;TZID=Europe/Brussels:20240410T190000
END:VEVENT
END:VCALENDAR