BEGIN:VCALENDAR
VERSION:2.0
PRODID:spatie/icalendar-generator
NAME:olve_7h_72_reminders
X-WR-CALNAME:olve_7h_72_reminders
BEGIN:VTIMEZONE
TZID:Europe/Brussels
BEGIN:DAYLIGHT
DTSTART:20230326T010000
TZOFFSETFROM:+0100
TZOFFSETTO:+0200
END:DAYLIGHT
BEGIN:STANDARD
DTSTART:20231029T030000
TZOFFSETFROM:+0200
TZOFFSETTO:+0100
END:STANDARD
BEGIN:DAYLIGHT
DTSTART:20240331T010000
TZOFFSETFROM:+0100
TZOFFSETTO:+0200
END:DAYLIGHT
BEGIN:STANDARD
DTSTART:20241027T030000
TZOFFSETFROM:+0200
TZOFFSETTO:+0100
END:STANDARD
END:VTIMEZONE
BEGIN:VTIMEZONE
TZID:UTC
BEGIN:STANDARD
DTSTART:20250724T072408
TZOFFSETFROM:+0000
TZOFFSETTO:+0000
END:STANDARD
END:VTIMEZONE
BEGIN:VEVENT
UID:952A42C0-E06A-400D-BAE7-1F26DE702556-13-572_homereminder@1956.badminton
 ners.net
DTSTAMP:20260420T072408Z
SUMMARY:Thuismatch ingevuld? (Olve 7H (72) - Berlaar 2H (74))
DESCRIPTION:Je hebt 36 uur na aanvang om een thuismatch op Badmintonvlaande
 ren in te vullen. Match info: Olve 7H (72) - Berlaar 2H (74) - Link: https
 ://www.badmintonvlaanderen.be/sport/teammatch.aspx?id=952A42C0-E06A-400D-B
 AE7-1F26DE702556&match=572
DTSTART;TZID=Europe/Brussels:20230924T223000
DTEND;TZID=Europe/Brussels:20230924T223000
END:VEVENT
BEGIN:VEVENT
UID:952A42C0-E06A-400D-BAE7-1F26DE702556-13-598_homereminder@1956.badminton
 ners.net
DTSTAMP:20260420T072408Z
SUMMARY:Thuismatch ingevuld? (Olve 7H (72) - Turnhout 2H (71))
DESCRIPTION:Je hebt 36 uur na aanvang om een thuismatch op Badmintonvlaande
 ren in te vullen. Match info: Olve 7H (72) - Turnhout 2H (71) - Link: http
 s://www.badmintonvlaanderen.be/sport/teammatch.aspx?id=952A42C0-E06A-400D-
 BAE7-1F26DE702556&match=598
DTSTART;TZID=Europe/Brussels:20231015T223000
DTEND;TZID=Europe/Brussels:20231015T223000
END:VEVENT
BEGIN:VEVENT
UID:952A42C0-E06A-400D-BAE7-1F26DE702556-13-588_homereminder@1956.badminton
 ners.net
DTSTAMP:20260420T072408Z
SUMMARY:Thuismatch ingevuld? (Olve 7H (72) - Klein Boom 3H (68))
DESCRIPTION:Je hebt 36 uur na aanvang om een thuismatch op Badmintonvlaande
 ren in te vullen. Match info: Olve 7H (72) - Klein Boom 3H (68) - Link: ht
 tps://www.badmintonvlaanderen.be/sport/teammatch.aspx?id=952A42C0-E06A-400
 D-BAE7-1F26DE702556&match=588
DTSTART;TZID=Europe/Brussels:20231203T223000
DTEND;TZID=Europe/Brussels:20231203T223000
END:VEVENT
BEGIN:VEVENT
UID:952A42C0-E06A-400D-BAE7-1F26DE702556-13-593_homereminder@1956.badminton
 ners.net
DTSTAMP:20260420T072408Z
SUMMARY:Thuismatch ingevuld? (Olve 7H (72) - Olympia 2H (74))
DESCRIPTION:Je hebt 36 uur na aanvang om een thuismatch op Badmintonvlaande
 ren in te vullen. Match info: Olve 7H (72) - Olympia 2H (74) - Link: https
 ://www.badmintonvlaanderen.be/sport/teammatch.aspx?id=952A42C0-E06A-400D-B
 AE7-1F26DE702556&match=593
DTSTART;TZID=Europe/Brussels:20240218T223000
DTEND;TZID=Europe/Brussels:20240218T223000
END:VEVENT
BEGIN:VEVENT
UID:952A42C0-E06A-400D-BAE7-1F26DE702556-13-577_homereminder@1956.badminton
 ners.net
DTSTAMP:20260420T072408Z
SUMMARY:Thuismatch ingevuld? (Olve 7H (72) - Rijkerack 3H (75))
DESCRIPTION:Je hebt 36 uur na aanvang om een thuismatch op Badmintonvlaande
 ren in te vullen. Match info: Olve 7H (72) - Rijkerack 3H (75) - Link: htt
 ps://www.badmintonvlaanderen.be/sport/teammatch.aspx?id=952A42C0-E06A-400D
 -BAE7-1F26DE702556&match=577
DTSTART;TZID=Europe/Brussels:20240310T223000
DTEND;TZID=Europe/Brussels:20240310T223000
END:VEVENT
BEGIN:VEVENT
UID:952A42C0-E06A-400D-BAE7-1F26DE702556-13-1482_homereminder@1956.badminto
 nners.net
DTSTAMP:20260420T072408Z
SUMMARY:Thuismatch ingevuld? (Olve 7H (72) - De Pluim 3H (69))
DESCRIPTION:Je hebt 36 uur na aanvang om een thuismatch op Badmintonvlaande
 ren in te vullen. Match info: Olve 7H (72) - De Pluim 3H (69) - Link: http
 s://www.badmintonvlaanderen.be/sport/teammatch.aspx?id=952A42C0-E06A-400D-
 BAE7-1F26DE702556&match=1482
DTSTART;TZID=Europe/Brussels:20240428T223000
DTEND;TZID=Europe/Brussels:20240428T223000
END:VEVENT
BEGIN:VEVENT
UID:952A42C0-E06A-400D-BAE7-1F26DE702556-13-582_awayreminder@1956.badminton
 ners.net
DTSTAMP:20260420T072408Z
SUMMARY:Uitmatch bevestigd? (Rijkerack 3H (75) - Olve 7H (72))
DESCRIPTION:Je hebt 72 uur na aanvang om een uitmatch op Badmintonvlaandere
 n in te vullen. Match info: Rijkerack 3H (75) - Olve 7H (72) - Link: https
 ://www.badmintonvlaanderen.be/sport/teammatch.aspx?id=952A42C0-E06A-400D-B
 AE7-1F26DE702556&match=582
DTSTART;TZID=Europe/Brussels:20230913T190000
DTEND;TZID=Europe/Brussels:20230913T190000
END:VEVENT
BEGIN:VEVENT
UID:952A42C0-E06A-400D-BAE7-1F26DE702556-13-1476_awayreminder@1956.badminto
 nners.net
DTSTAMP:20260420T072408Z
SUMMARY:Uitmatch bevestigd? (De Pluim 3H (69) - Olve 7H (72))
DESCRIPTION:Je hebt 72 uur na aanvang om een uitmatch op Badmintonvlaandere
 n in te vullen. Match info: De Pluim 3H (69) - Olve 7H (72) - Link: https:
 //www.badmintonvlaanderen.be/sport/teammatch.aspx?id=952A42C0-E06A-400D-BA
 E7-1F26DE702556&match=1476
DTSTART;TZID=Europe/Brussels:20231011T181500
DTEND;TZID=Europe/Brussels:20231011T181500
END:VEVENT
BEGIN:VEVENT
UID:952A42C0-E06A-400D-BAE7-1F26DE702556-13-584_awayreminder@1956.badminton
 ners.net
DTSTAMP:20260420T072408Z
SUMMARY:Uitmatch bevestigd? (Olympia 2H (74) - Olve 7H (72))
DESCRIPTION:Je hebt 72 uur na aanvang om een uitmatch op Badmintonvlaandere
 n in te vullen. Match info: Olympia 2H (74) - Olve 7H (72) - Link: https:/
 /www.badmintonvlaanderen.be/sport/teammatch.aspx?id=952A42C0-E06A-400D-BAE
 7-1F26DE702556&match=584
DTSTART;TZID=Europe/Brussels:20231107T093000
DTEND;TZID=Europe/Brussels:20231107T093000
END:VEVENT
BEGIN:VEVENT
UID:952A42C0-E06A-400D-BAE7-1F26DE702556-13-585_awayreminder@1956.badminton
 ners.net
DTSTAMP:20260420T072408Z
SUMMARY:Uitmatch bevestigd? (Turnhout 2H (71) - Olve 7H (72))
DESCRIPTION:Je hebt 72 uur na aanvang om een uitmatch op Badmintonvlaandere
 n in te vullen. Match info: Turnhout 2H (71) - Olve 7H (72) - Link: https:
 //www.badmintonvlaanderen.be/sport/teammatch.aspx?id=952A42C0-E06A-400D-BA
 E7-1F26DE702556&match=585
DTSTART;TZID=Europe/Brussels:20240305T140000
DTEND;TZID=Europe/Brussels:20240305T140000
END:VEVENT
BEGIN:VEVENT
UID:952A42C0-E06A-400D-BAE7-1F26DE702556-13-581_awayreminder@1956.badminton
 ners.net
DTSTAMP:20260420T072408Z
SUMMARY:Uitmatch bevestigd? (Berlaar 2H (74) - Olve 7H (72))
DESCRIPTION:Je hebt 72 uur na aanvang om een uitmatch op Badmintonvlaandere
 n in te vullen. Match info: Berlaar 2H (74) - Olve 7H (72) - Link: https:/
 /www.badmintonvlaanderen.be/sport/teammatch.aspx?id=952A42C0-E06A-400D-BAE
 7-1F26DE702556&match=581
DTSTART;TZID=Europe/Brussels:20240327T093000
DTEND;TZID=Europe/Brussels:20240327T093000
END:VEVENT
BEGIN:VEVENT
UID:952A42C0-E06A-400D-BAE7-1F26DE702556-13-583_awayreminder@1956.badminton
 ners.net
DTSTAMP:20260420T072408Z
SUMMARY:Uitmatch bevestigd? (Klein Boom 3H (68) - Olve 7H (72))
DESCRIPTION:Je hebt 72 uur na aanvang om een uitmatch op Badmintonvlaandere
 n in te vullen. Match info: Klein Boom 3H (68) - Olve 7H (72) - Link: http
 s://www.badmintonvlaanderen.be/sport/teammatch.aspx?id=952A42C0-E06A-400D-
 BAE7-1F26DE702556&match=583
DTSTART;TZID=Europe/Brussels:20240424T190000
DTEND;TZID=Europe/Brussels:20240424T190000
END:VEVENT
END:VCALENDAR