BEGIN:VCALENDAR
VERSION:2.0
PRODID:spatie/icalendar-generator
NAME:klein_boom_3h_68_reminders
X-WR-CALNAME:klein_boom_3h_68_reminders
BEGIN:VTIMEZONE
TZID:Europe/Brussels
BEGIN:DAYLIGHT
DTSTART:20230326T010000
TZOFFSETFROM:+0100
TZOFFSETTO:+0200
END:DAYLIGHT
BEGIN:STANDARD
DTSTART:20231029T030000
TZOFFSETFROM:+0200
TZOFFSETTO:+0100
END:STANDARD
BEGIN:DAYLIGHT
DTSTART:20240331T010000
TZOFFSETFROM:+0100
TZOFFSETTO:+0200
END:DAYLIGHT
END:VTIMEZONE
BEGIN:VTIMEZONE
TZID:UTC
BEGIN:STANDARD
DTSTART:20250724T072407
TZOFFSETFROM:+0000
TZOFFSETTO:+0000
END:STANDARD
END:VTIMEZONE
BEGIN:VEVENT
UID:952A42C0-E06A-400D-BAE7-1F26DE702556-13-1483_homereminder@1960.badminto
 nners.net
DTSTAMP:20260420T072407Z
SUMMARY:Thuismatch ingevuld? (Klein Boom 3H (68) - De Pluim 3H (69))
DESCRIPTION:Je hebt 36 uur na aanvang om een thuismatch op Badmintonvlaande
 ren in te vullen. Match info: Klein Boom 3H (68) - De Pluim 3H (69) - Link
 : https://www.badmintonvlaanderen.be/sport/teammatch.aspx?id=952A42C0-E06A
 -400D-BAE7-1F26DE702556&match=1483
DTSTART;TZID=Europe/Brussels:20230926T070000
DTEND;TZID=Europe/Brussels:20230926T070000
END:VEVENT
BEGIN:VEVENT
UID:952A42C0-E06A-400D-BAE7-1F26DE702556-13-594_homereminder@1960.badminton
 ners.net
DTSTAMP:20260420T072407Z
SUMMARY:Thuismatch ingevuld? (Klein Boom 3H (68) - Olympia 2H (74))
DESCRIPTION:Je hebt 36 uur na aanvang om een thuismatch op Badmintonvlaande
 ren in te vullen. Match info: Klein Boom 3H (68) - Olympia 2H (74) - Link:
  https://www.badmintonvlaanderen.be/sport/teammatch.aspx?id=952A42C0-E06A-
 400D-BAE7-1F26DE702556&match=594
DTSTART;TZID=Europe/Brussels:20231024T070000
DTEND;TZID=Europe/Brussels:20231024T070000
END:VEVENT
BEGIN:VEVENT
UID:952A42C0-E06A-400D-BAE7-1F26DE702556-13-578_homereminder@1960.badminton
 ners.net
DTSTAMP:20260420T072407Z
SUMMARY:Thuismatch ingevuld? (Klein Boom 3H (68) - Rijkerack 3H (75))
DESCRIPTION:Je hebt 36 uur na aanvang om een thuismatch op Badmintonvlaande
 ren in te vullen. Match info: Klein Boom 3H (68) - Rijkerack 3H (75) - Lin
 k: https://www.badmintonvlaanderen.be/sport/teammatch.aspx?id=952A42C0-E06
 A-400D-BAE7-1F26DE702556&match=578
DTSTART;TZID=Europe/Brussels:20231121T070000
DTEND;TZID=Europe/Brussels:20231121T070000
END:VEVENT
BEGIN:VEVENT
UID:952A42C0-E06A-400D-BAE7-1F26DE702556-13-573_homereminder@1960.badminton
 ners.net
DTSTAMP:20260420T072407Z
SUMMARY:Thuismatch ingevuld? (Klein Boom 3H (68) - Berlaar 2H (74))
DESCRIPTION:Je hebt 36 uur na aanvang om een thuismatch op Badmintonvlaande
 ren in te vullen. Match info: Klein Boom 3H (68) - Berlaar 2H (74) - Link:
  https://www.badmintonvlaanderen.be/sport/teammatch.aspx?id=952A42C0-E06A-
 400D-BAE7-1F26DE702556&match=573
DTSTART;TZID=Europe/Brussels:20240312T070000
DTEND;TZID=Europe/Brussels:20240312T070000
END:VEVENT
BEGIN:VEVENT
UID:952A42C0-E06A-400D-BAE7-1F26DE702556-13-599_homereminder@1960.badminton
 ners.net
DTSTAMP:20260420T072407Z
SUMMARY:Thuismatch ingevuld? (Klein Boom 3H (68) - Turnhout 2H (71))
DESCRIPTION:Je hebt 36 uur na aanvang om een thuismatch op Badmintonvlaande
 ren in te vullen. Match info: Klein Boom 3H (68) - Turnhout 2H (71) - Link
 : https://www.badmintonvlaanderen.be/sport/teammatch.aspx?id=952A42C0-E06A
 -400D-BAE7-1F26DE702556&match=599
DTSTART;TZID=Europe/Brussels:20240409T070000
DTEND;TZID=Europe/Brussels:20240409T070000
END:VEVENT
BEGIN:VEVENT
UID:952A42C0-E06A-400D-BAE7-1F26DE702556-13-583_homereminder@1960.badminton
 ners.net
DTSTAMP:20260420T072407Z
SUMMARY:Thuismatch ingevuld? (Klein Boom 3H (68) - Olve 7H (72))
DESCRIPTION:Je hebt 36 uur na aanvang om een thuismatch op Badmintonvlaande
 ren in te vullen. Match info: Klein Boom 3H (68) - Olve 7H (72) - Link: ht
 tps://www.badmintonvlaanderen.be/sport/teammatch.aspx?id=952A42C0-E06A-400
 D-BAE7-1F26DE702556&match=583
DTSTART;TZID=Europe/Brussels:20240423T070000
DTEND;TZID=Europe/Brussels:20240423T070000
END:VEVENT
BEGIN:VEVENT
UID:952A42C0-E06A-400D-BAE7-1F26DE702556-13-586_awayreminder@1960.badminton
 ners.net
DTSTAMP:20260420T072407Z
SUMMARY:Uitmatch bevestigd? (Berlaar 2H (74) - Klein Boom 3H (68))
DESCRIPTION:Je hebt 72 uur na aanvang om een uitmatch op Badmintonvlaandere
 n in te vullen. Match info: Berlaar 2H (74) - Klein Boom 3H (68) - Link: h
 ttps://www.badmintonvlaanderen.be/sport/teammatch.aspx?id=952A42C0-E06A-40
 0D-BAE7-1F26DE702556&match=586
DTSTART;TZID=Europe/Brussels:20230913T093000
DTEND;TZID=Europe/Brussels:20230913T093000
END:VEVENT
BEGIN:VEVENT
UID:952A42C0-E06A-400D-BAE7-1F26DE702556-13-590_awayreminder@1960.badminton
 ners.net
DTSTAMP:20260420T072407Z
SUMMARY:Uitmatch bevestigd? (Turnhout 2H (71) - Klein Boom 3H (68))
DESCRIPTION:Je hebt 72 uur na aanvang om een uitmatch op Badmintonvlaandere
 n in te vullen. Match info: Turnhout 2H (71) - Klein Boom 3H (68) - Link: 
 https://www.badmintonvlaanderen.be/sport/teammatch.aspx?id=952A42C0-E06A-4
 00D-BAE7-1F26DE702556&match=590
DTSTART;TZID=Europe/Brussels:20231107T140000
DTEND;TZID=Europe/Brussels:20231107T140000
END:VEVENT
BEGIN:VEVENT
UID:952A42C0-E06A-400D-BAE7-1F26DE702556-13-588_awayreminder@1960.badminton
 ners.net
DTSTAMP:20260420T072407Z
SUMMARY:Uitmatch bevestigd? (Olve 7H (72) - Klein Boom 3H (68))
DESCRIPTION:Je hebt 72 uur na aanvang om een uitmatch op Badmintonvlaandere
 n in te vullen. Match info: Olve 7H (72) - Klein Boom 3H (68) - Link: http
 s://www.badmintonvlaanderen.be/sport/teammatch.aspx?id=952A42C0-E06A-400D-
 BAE7-1F26DE702556&match=588
DTSTART;TZID=Europe/Brussels:20231205T103000
DTEND;TZID=Europe/Brussels:20231205T103000
END:VEVENT
BEGIN:VEVENT
UID:952A42C0-E06A-400D-BAE7-1F26DE702556-13-587_awayreminder@1960.badminton
 ners.net
DTSTAMP:20260420T072407Z
SUMMARY:Uitmatch bevestigd? (Rijkerack 3H (75) - Klein Boom 3H (68))
DESCRIPTION:Je hebt 72 uur na aanvang om een uitmatch op Badmintonvlaandere
 n in te vullen. Match info: Rijkerack 3H (75) - Klein Boom 3H (68) - Link:
  https://www.badmintonvlaanderen.be/sport/teammatch.aspx?id=952A42C0-E06A-
 400D-BAE7-1F26DE702556&match=587
DTSTART;TZID=Europe/Brussels:20240228T190000
DTEND;TZID=Europe/Brussels:20240228T190000
END:VEVENT
BEGIN:VEVENT
UID:952A42C0-E06A-400D-BAE7-1F26DE702556-13-1477_awayreminder@1960.badminto
 nners.net
DTSTAMP:20260420T072407Z
SUMMARY:Uitmatch bevestigd? (De Pluim 3H (69) - Klein Boom 3H (68))
DESCRIPTION:Je hebt 72 uur na aanvang om een uitmatch op Badmintonvlaandere
 n in te vullen. Match info: De Pluim 3H (69) - Klein Boom 3H (68) - Link: 
 https://www.badmintonvlaanderen.be/sport/teammatch.aspx?id=952A42C0-E06A-4
 00D-BAE7-1F26DE702556&match=1477
DTSTART;TZID=Europe/Brussels:20240327T181500
DTEND;TZID=Europe/Brussels:20240327T181500
END:VEVENT
BEGIN:VEVENT
UID:952A42C0-E06A-400D-BAE7-1F26DE702556-13-589_awayreminder@1960.badminton
 ners.net
DTSTAMP:20260420T072407Z
SUMMARY:Uitmatch bevestigd? (Olympia 2H (74) - Klein Boom 3H (68))
DESCRIPTION:Je hebt 72 uur na aanvang om een uitmatch op Badmintonvlaandere
 n in te vullen. Match info: Olympia 2H (74) - Klein Boom 3H (68) - Link: h
 ttps://www.badmintonvlaanderen.be/sport/teammatch.aspx?id=952A42C0-E06A-40
 0D-BAE7-1F26DE702556&match=589
DTSTART;TZID=Europe/Brussels:20240423T093000
DTEND;TZID=Europe/Brussels:20240423T093000
END:VEVENT
END:VCALENDAR