BEGIN:VCALENDAR
VERSION:2.0
PRODID:spatie/icalendar-generator
NAME:berlaar_2h_74_reminders
X-WR-CALNAME:berlaar_2h_74_reminders
BEGIN:VTIMEZONE
TZID:Europe/Brussels
BEGIN:DAYLIGHT
DTSTART:20230326T010000
TZOFFSETFROM:+0100
TZOFFSETTO:+0200
END:DAYLIGHT
BEGIN:STANDARD
DTSTART:20231029T030000
TZOFFSETFROM:+0200
TZOFFSETTO:+0100
END:STANDARD
BEGIN:DAYLIGHT
DTSTART:20240331T010000
TZOFFSETFROM:+0100
TZOFFSETTO:+0200
END:DAYLIGHT
END:VTIMEZONE
BEGIN:VTIMEZONE
TZID:UTC
BEGIN:STANDARD
DTSTART:20250724T055135
TZOFFSETFROM:+0000
TZOFFSETTO:+0000
END:STANDARD
END:VTIMEZONE
BEGIN:VEVENT
UID:952A42C0-E06A-400D-BAE7-1F26DE702556-13-586_homereminder@1963.badminton
 ners.net
DTSTAMP:20260420T055135Z
SUMMARY:Thuismatch ingevuld? (Berlaar 2H (74) - Klein Boom 3H (68))
DESCRIPTION:Je hebt 36 uur na aanvang om een thuismatch op Badmintonvlaande
 ren in te vullen. Match info: Berlaar 2H (74) - Klein Boom 3H (68) - Link:
  https://www.badmintonvlaanderen.be/sport/teammatch.aspx?id=952A42C0-E06A-
 400D-BAE7-1F26DE702556&match=586
DTSTART;TZID=Europe/Brussels:20230911T213000
DTEND;TZID=Europe/Brussels:20230911T213000
END:VEVENT
BEGIN:VEVENT
UID:952A42C0-E06A-400D-BAE7-1F26DE702556-13-576_homereminder@1963.badminton
 ners.net
DTSTAMP:20260420T055135Z
SUMMARY:Thuismatch ingevuld? (Berlaar 2H (74) - Rijkerack 3H (75))
DESCRIPTION:Je hebt 36 uur na aanvang om een thuismatch op Badmintonvlaande
 ren in te vullen. Match info: Berlaar 2H (74) - Rijkerack 3H (75) - Link: 
 https://www.badmintonvlaanderen.be/sport/teammatch.aspx?id=952A42C0-E06A-4
 00D-BAE7-1F26DE702556&match=576
DTSTART;TZID=Europe/Brussels:20231009T213000
DTEND;TZID=Europe/Brussels:20231009T213000
END:VEVENT
BEGIN:VEVENT
UID:952A42C0-E06A-400D-BAE7-1F26DE702556-13-596_homereminder@1963.badminton
 ners.net
DTSTAMP:20260420T055135Z
SUMMARY:Thuismatch ingevuld? (Berlaar 2H (74) - Turnhout 2H (71))
DESCRIPTION:Je hebt 36 uur na aanvang om een thuismatch op Badmintonvlaande
 ren in te vullen. Match info: Berlaar 2H (74) - Turnhout 2H (71) - Link: h
 ttps://www.badmintonvlaanderen.be/sport/teammatch.aspx?id=952A42C0-E06A-40
 0D-BAE7-1F26DE702556&match=596
DTSTART;TZID=Europe/Brussels:20231204T213000
DTEND;TZID=Europe/Brussels:20231204T213000
END:VEVENT
BEGIN:VEVENT
UID:952A42C0-E06A-400D-BAE7-1F26DE702556-13-1480_homereminder@1963.badminto
 nners.net
DTSTAMP:20260420T055135Z
SUMMARY:Thuismatch ingevuld? (Berlaar 2H (74) - De Pluim 3H (69))
DESCRIPTION:Je hebt 36 uur na aanvang om een thuismatch op Badmintonvlaande
 ren in te vullen. Match info: Berlaar 2H (74) - De Pluim 3H (69) - Link: h
 ttps://www.badmintonvlaanderen.be/sport/teammatch.aspx?id=952A42C0-E06A-40
 0D-BAE7-1F26DE702556&match=1480
DTSTART;TZID=Europe/Brussels:20240129T213000
DTEND;TZID=Europe/Brussels:20240129T213000
END:VEVENT
BEGIN:VEVENT
UID:952A42C0-E06A-400D-BAE7-1F26DE702556-13-591_homereminder@1963.badminton
 ners.net
DTSTAMP:20260420T055135Z
SUMMARY:Thuismatch ingevuld? (Berlaar 2H (74) - Olympia 2H (74))
DESCRIPTION:Je hebt 36 uur na aanvang om een thuismatch op Badmintonvlaande
 ren in te vullen. Match info: Berlaar 2H (74) - Olympia 2H (74) - Link: ht
 tps://www.badmintonvlaanderen.be/sport/teammatch.aspx?id=952A42C0-E06A-400
 D-BAE7-1F26DE702556&match=591
DTSTART;TZID=Europe/Brussels:20240226T213000
DTEND;TZID=Europe/Brussels:20240226T213000
END:VEVENT
BEGIN:VEVENT
UID:952A42C0-E06A-400D-BAE7-1F26DE702556-13-581_homereminder@1963.badminton
 ners.net
DTSTAMP:20260420T055135Z
SUMMARY:Thuismatch ingevuld? (Berlaar 2H (74) - Olve 7H (72))
DESCRIPTION:Je hebt 36 uur na aanvang om een thuismatch op Badmintonvlaande
 ren in te vullen. Match info: Berlaar 2H (74) - Olve 7H (72) - Link: https
 ://www.badmintonvlaanderen.be/sport/teammatch.aspx?id=952A42C0-E06A-400D-B
 AE7-1F26DE702556&match=581
DTSTART;TZID=Europe/Brussels:20240325T213000
DTEND;TZID=Europe/Brussels:20240325T213000
END:VEVENT
BEGIN:VEVENT
UID:952A42C0-E06A-400D-BAE7-1F26DE702556-13-572_awayreminder@1963.badminton
 ners.net
DTSTAMP:20260420T055135Z
SUMMARY:Uitmatch bevestigd? (Olve 7H (72) - Berlaar 2H (74))
DESCRIPTION:Je hebt 72 uur na aanvang om een uitmatch op Badmintonvlaandere
 n in te vullen. Match info: Olve 7H (72) - Berlaar 2H (74) - Link: https:/
 /www.badmintonvlaanderen.be/sport/teammatch.aspx?id=952A42C0-E06A-400D-BAE
 7-1F26DE702556&match=572
DTSTART;TZID=Europe/Brussels:20230926T103000
DTEND;TZID=Europe/Brussels:20230926T103000
END:VEVENT
BEGIN:VEVENT
UID:952A42C0-E06A-400D-BAE7-1F26DE702556-13-574_awayreminder@1963.badminton
 ners.net
DTSTAMP:20260420T055135Z
SUMMARY:Uitmatch bevestigd? (Olympia 2H (74) - Berlaar 2H (74))
DESCRIPTION:Je hebt 72 uur na aanvang om een uitmatch op Badmintonvlaandere
 n in te vullen. Match info: Olympia 2H (74) - Berlaar 2H (74) - Link: http
 s://www.badmintonvlaanderen.be/sport/teammatch.aspx?id=952A42C0-E06A-400D-
 BAE7-1F26DE702556&match=574
DTSTART;TZID=Europe/Brussels:20231121T093000
DTEND;TZID=Europe/Brussels:20231121T093000
END:VEVENT
BEGIN:VEVENT
UID:952A42C0-E06A-400D-BAE7-1F26DE702556-13-1474_awayreminder@1963.badminto
 nners.net
DTSTAMP:20260420T055135Z
SUMMARY:Uitmatch bevestigd? (De Pluim 3H (69) - Berlaar 2H (74))
DESCRIPTION:Je hebt 72 uur na aanvang om een uitmatch op Badmintonvlaandere
 n in te vullen. Match info: De Pluim 3H (69) - Berlaar 2H (74) - Link: htt
 ps://www.badmintonvlaanderen.be/sport/teammatch.aspx?id=952A42C0-E06A-400D
 -BAE7-1F26DE702556&match=1474
DTSTART;TZID=Europe/Brussels:20231220T181500
DTEND;TZID=Europe/Brussels:20231220T181500
END:VEVENT
BEGIN:VEVENT
UID:952A42C0-E06A-400D-BAE7-1F26DE702556-13-575_awayreminder@1963.badminton
 ners.net
DTSTAMP:20260420T055135Z
SUMMARY:Uitmatch bevestigd? (Turnhout 2H (71) - Berlaar 2H (74))
DESCRIPTION:Je hebt 72 uur na aanvang om een uitmatch op Badmintonvlaandere
 n in te vullen. Match info: Turnhout 2H (71) - Berlaar 2H (74) - Link: htt
 ps://www.badmintonvlaanderen.be/sport/teammatch.aspx?id=952A42C0-E06A-400D
 -BAE7-1F26DE702556&match=575
DTSTART;TZID=Europe/Brussels:20240213T140000
DTEND;TZID=Europe/Brussels:20240213T140000
END:VEVENT
BEGIN:VEVENT
UID:952A42C0-E06A-400D-BAE7-1F26DE702556-13-573_awayreminder@1963.badminton
 ners.net
DTSTAMP:20260420T055135Z
SUMMARY:Uitmatch bevestigd? (Klein Boom 3H (68) - Berlaar 2H (74))
DESCRIPTION:Je hebt 72 uur na aanvang om een uitmatch op Badmintonvlaandere
 n in te vullen. Match info: Klein Boom 3H (68) - Berlaar 2H (74) - Link: h
 ttps://www.badmintonvlaanderen.be/sport/teammatch.aspx?id=952A42C0-E06A-40
 0D-BAE7-1F26DE702556&match=573
DTSTART;TZID=Europe/Brussels:20240313T190000
DTEND;TZID=Europe/Brussels:20240313T190000
END:VEVENT
BEGIN:VEVENT
UID:952A42C0-E06A-400D-BAE7-1F26DE702556-13-571_awayreminder@1963.badminton
 ners.net
DTSTAMP:20260420T055135Z
SUMMARY:Uitmatch bevestigd? (Rijkerack 3H (75) - Berlaar 2H (74))
DESCRIPTION:Je hebt 72 uur na aanvang om een uitmatch op Badmintonvlaandere
 n in te vullen. Match info: Rijkerack 3H (75) - Berlaar 2H (74) - Link: ht
 tps://www.badmintonvlaanderen.be/sport/teammatch.aspx?id=952A42C0-E06A-400
 D-BAE7-1F26DE702556&match=571
DTSTART;TZID=Europe/Brussels:20240410T190000
DTEND;TZID=Europe/Brussels:20240410T190000
END:VEVENT
END:VCALENDAR