BEGIN:VCALENDAR
VERSION:2.0
PRODID:spatie/icalendar-generator
NAME:essen_1h_75_reminders
X-WR-CALNAME:essen_1h_75_reminders
BEGIN:VTIMEZONE
TZID:Europe/Brussels
BEGIN:DAYLIGHT
DTSTART:20230326T010000
TZOFFSETFROM:+0100
TZOFFSETTO:+0200
END:DAYLIGHT
BEGIN:STANDARD
DTSTART:20231029T030000
TZOFFSETFROM:+0200
TZOFFSETTO:+0100
END:STANDARD
BEGIN:DAYLIGHT
DTSTART:20240331T010000
TZOFFSETFROM:+0100
TZOFFSETTO:+0200
END:DAYLIGHT
END:VTIMEZONE
BEGIN:VTIMEZONE
TZID:UTC
BEGIN:STANDARD
DTSTART:20250724T073705
TZOFFSETFROM:+0000
TZOFFSETTO:+0000
END:STANDARD
END:VTIMEZONE
BEGIN:VEVENT
UID:952A42C0-E06A-400D-BAE7-1F26DE702556-14-626_homereminder@1946.badminton
 ners.net
DTSTAMP:20260420T073705Z
SUMMARY:Thuismatch ingevuld? (Essen 1H (75) - Rita Serveert 4H (68))
DESCRIPTION:Je hebt 36 uur na aanvang om een thuismatch op Badmintonvlaande
 ren in te vullen. Match info: Essen 1H (75) - Rita Serveert 4H (68) - Link
 : https://www.badmintonvlaanderen.be/sport/teammatch.aspx?id=952A42C0-E06A
 -400D-BAE7-1F26DE702556&match=626
DTSTART;TZID=Europe/Brussels:20230926T070000
DTEND;TZID=Europe/Brussels:20230926T070000
END:VEVENT
BEGIN:VEVENT
UID:952A42C0-E06A-400D-BAE7-1F26DE702556-14-611_homereminder@1946.badminton
 ners.net
DTSTAMP:20260420T073705Z
SUMMARY:Thuismatch ingevuld? (Essen 1H (75) - Zoersel 3H (69))
DESCRIPTION:Je hebt 36 uur na aanvang om een thuismatch op Badmintonvlaande
 ren in te vullen. Match info: Essen 1H (75) - Zoersel 3H (69) - Link: http
 s://www.badmintonvlaanderen.be/sport/teammatch.aspx?id=952A42C0-E06A-400D-
 BAE7-1F26DE702556&match=611
DTSTART;TZID=Europe/Brussels:20231024T070000
DTEND;TZID=Europe/Brussels:20231024T070000
END:VEVENT
BEGIN:VEVENT
UID:952A42C0-E06A-400D-BAE7-1F26DE702556-14-631_homereminder@1946.badminton
 ners.net
DTSTAMP:20260420T073705Z
SUMMARY:Thuismatch ingevuld? (Essen 1H (75) - Herentals 4H (70))
DESCRIPTION:Je hebt 36 uur na aanvang om een thuismatch op Badmintonvlaande
 ren in te vullen. Match info: Essen 1H (75) - Herentals 4H (70) - Link: ht
 tps://www.badmintonvlaanderen.be/sport/teammatch.aspx?id=952A42C0-E06A-400
 D-BAE7-1F26DE702556&match=631
DTSTART;TZID=Europe/Brussels:20231219T070000
DTEND;TZID=Europe/Brussels:20231219T070000
END:VEVENT
BEGIN:VEVENT
UID:952A42C0-E06A-400D-BAE7-1F26DE702556-14-621_homereminder@1946.badminton
 ners.net
DTSTAMP:20260420T073705Z
SUMMARY:Thuismatch ingevuld? (Essen 1H (75) - Zandhoven 2H (76))
DESCRIPTION:Je hebt 36 uur na aanvang om een thuismatch op Badmintonvlaande
 ren in te vullen. Match info: Essen 1H (75) - Zandhoven 2H (76) - Link: ht
 tps://www.badmintonvlaanderen.be/sport/teammatch.aspx?id=952A42C0-E06A-400
 D-BAE7-1F26DE702556&match=621
DTSTART;TZID=Europe/Brussels:20240213T070000
DTEND;TZID=Europe/Brussels:20240213T070000
END:VEVENT
BEGIN:VEVENT
UID:952A42C0-E06A-400D-BAE7-1F26DE702556-14-616_homereminder@1946.badminton
 ners.net
DTSTAMP:20260420T073705Z
SUMMARY:Thuismatch ingevuld? (Essen 1H (75) - Klein Boom 4H (69))
DESCRIPTION:Je hebt 36 uur na aanvang om een thuismatch op Badmintonvlaande
 ren in te vullen. Match info: Essen 1H (75) - Klein Boom 4H (69) - Link: h
 ttps://www.badmintonvlaanderen.be/sport/teammatch.aspx?id=952A42C0-E06A-40
 0D-BAE7-1F26DE702556&match=616
DTSTART;TZID=Europe/Brussels:20240312T070000
DTEND;TZID=Europe/Brussels:20240312T070000
END:VEVENT
BEGIN:VEVENT
UID:952A42C0-E06A-400D-BAE7-1F26DE702556-14-633_awayreminder@1946.badminton
 ners.net
DTSTAMP:20260420T073705Z
SUMMARY:Uitmatch bevestigd? (Klein Boom 4H (69) - Essen 1H (75))
DESCRIPTION:Je hebt 72 uur na aanvang om een uitmatch op Badmintonvlaandere
 n in te vullen. Match info: Klein Boom 4H (69) - Essen 1H (75) - Link: htt
 ps://www.badmintonvlaanderen.be/sport/teammatch.aspx?id=952A42C0-E06A-400D
 -BAE7-1F26DE702556&match=633
DTSTART;TZID=Europe/Brussels:20230913T190000
DTEND;TZID=Europe/Brussels:20230913T190000
END:VEVENT
BEGIN:VEVENT
UID:952A42C0-E06A-400D-BAE7-1F26DE702556-14-634_awayreminder@1946.badminton
 ners.net
DTSTAMP:20260420T073705Z
SUMMARY:Uitmatch bevestigd? (Zandhoven 2H (76) - Essen 1H (75))
DESCRIPTION:Je hebt 72 uur na aanvang om een uitmatch op Badmintonvlaandere
 n in te vullen. Match info: Zandhoven 2H (76) - Essen 1H (75) - Link: http
 s://www.badmintonvlaanderen.be/sport/teammatch.aspx?id=952A42C0-E06A-400D-
 BAE7-1F26DE702556&match=634
DTSTART;TZID=Europe/Brussels:20231130T200000
DTEND;TZID=Europe/Brussels:20231130T200000
END:VEVENT
BEGIN:VEVENT
UID:952A42C0-E06A-400D-BAE7-1F26DE702556-14-636_awayreminder@1946.badminton
 ners.net
DTSTAMP:20260420T073705Z
SUMMARY:Uitmatch bevestigd? (Herentals 4H (70) - Essen 1H (75))
DESCRIPTION:Je hebt 72 uur na aanvang om een uitmatch op Badmintonvlaandere
 n in te vullen. Match info: Herentals 4H (70) - Essen 1H (75) - Link: http
 s://www.badmintonvlaanderen.be/sport/teammatch.aspx?id=952A42C0-E06A-400D-
 BAE7-1F26DE702556&match=636
DTSTART;TZID=Europe/Brussels:20240226T210000
DTEND;TZID=Europe/Brussels:20240226T210000
END:VEVENT
BEGIN:VEVENT
UID:952A42C0-E06A-400D-BAE7-1F26DE702556-14-635_awayreminder@1946.badminton
 ners.net
DTSTAMP:20260420T073705Z
SUMMARY:Uitmatch bevestigd? (Rita Serveert 4H (68) - Essen 1H (75))
DESCRIPTION:Je hebt 72 uur na aanvang om een uitmatch op Badmintonvlaandere
 n in te vullen. Match info: Rita Serveert 4H (68) - Essen 1H (75) - Link: 
 https://www.badmintonvlaanderen.be/sport/teammatch.aspx?id=952A42C0-E06A-4
 00D-BAE7-1F26DE702556&match=635
DTSTART;TZID=Europe/Brussels:20240410T190000
DTEND;TZID=Europe/Brussels:20240410T190000
END:VEVENT
BEGIN:VEVENT
UID:952A42C0-E06A-400D-BAE7-1F26DE702556-14-632_awayreminder@1946.badminton
 ners.net
DTSTAMP:20260420T073705Z
SUMMARY:Uitmatch bevestigd? (Zoersel 3H (69) - Essen 1H (75))
DESCRIPTION:Je hebt 72 uur na aanvang om een uitmatch op Badmintonvlaandere
 n in te vullen. Match info: Zoersel 3H (69) - Essen 1H (75) - Link: https:
 //www.badmintonvlaanderen.be/sport/teammatch.aspx?id=952A42C0-E06A-400D-BA
 E7-1F26DE702556&match=632
DTSTART;TZID=Europe/Brussels:20240424T120000
DTEND;TZID=Europe/Brussels:20240424T120000
END:VEVENT
END:VCALENDAR