BEGIN:VCALENDAR
VERSION:2.0
PRODID:spatie/icalendar-generator
NAME:herentals_4h_70_reminders
X-WR-CALNAME:herentals_4h_70_reminders
BEGIN:VTIMEZONE
TZID:Europe/Brussels
BEGIN:DAYLIGHT
DTSTART:20230326T010000
TZOFFSETFROM:+0100
TZOFFSETTO:+0200
END:DAYLIGHT
BEGIN:STANDARD
DTSTART:20231029T030000
TZOFFSETFROM:+0200
TZOFFSETTO:+0100
END:STANDARD
BEGIN:DAYLIGHT
DTSTART:20240331T010000
TZOFFSETFROM:+0100
TZOFFSETTO:+0200
END:DAYLIGHT
END:VTIMEZONE
BEGIN:VTIMEZONE
TZID:UTC
BEGIN:STANDARD
DTSTART:20250724T073529
TZOFFSETFROM:+0000
TZOFFSETTO:+0000
END:STANDARD
END:VTIMEZONE
BEGIN:VEVENT
UID:952A42C0-E06A-400D-BAE7-1F26DE702556-14-620_homereminder@1950.badminton
 ners.net
DTSTAMP:20260420T073529Z
SUMMARY:Thuismatch ingevuld? (Herentals 4H (70) - Zandhoven 2H (76))
DESCRIPTION:Je hebt 36 uur na aanvang om een thuismatch op Badmintonvlaande
 ren in te vullen. Match info: Herentals 4H (70) - Zandhoven 2H (76) - Link
 : https://www.badmintonvlaanderen.be/sport/teammatch.aspx?id=952A42C0-E06A
 -400D-BAE7-1F26DE702556&match=620
DTSTART;TZID=Europe/Brussels:20230924T090000
DTEND;TZID=Europe/Brussels:20230924T090000
END:VEVENT
BEGIN:VEVENT
UID:952A42C0-E06A-400D-BAE7-1F26DE702556-14-625_homereminder@1950.badminton
 ners.net
DTSTAMP:20260420T073529Z
SUMMARY:Thuismatch ingevuld? (Herentals 4H (70) - Rita Serveert 4H (68))
DESCRIPTION:Je hebt 36 uur na aanvang om een thuismatch op Badmintonvlaande
 ren in te vullen. Match info: Herentals 4H (70) - Rita Serveert 4H (68) - 
 Link: https://www.badmintonvlaanderen.be/sport/teammatch.aspx?id=952A42C0-
 E06A-400D-BAE7-1F26DE702556&match=625
DTSTART;TZID=Europe/Brussels:20231015T090000
DTEND;TZID=Europe/Brussels:20231015T090000
END:VEVENT
BEGIN:VEVENT
UID:952A42C0-E06A-400D-BAE7-1F26DE702556-14-610_homereminder@1950.badminton
 ners.net
DTSTAMP:20260420T073529Z
SUMMARY:Thuismatch ingevuld? (Herentals 4H (70) - Zoersel 3H (69))
DESCRIPTION:Je hebt 36 uur na aanvang om een thuismatch op Badmintonvlaande
 ren in te vullen. Match info: Herentals 4H (70) - Zoersel 3H (69) - Link: 
 https://www.badmintonvlaanderen.be/sport/teammatch.aspx?id=952A42C0-E06A-4
 00D-BAE7-1F26DE702556&match=610
DTSTART;TZID=Europe/Brussels:20231203T090000
DTEND;TZID=Europe/Brussels:20231203T090000
END:VEVENT
BEGIN:VEVENT
UID:952A42C0-E06A-400D-BAE7-1F26DE702556-14-636_homereminder@1950.badminton
 ners.net
DTSTAMP:20260420T073529Z
SUMMARY:Thuismatch ingevuld? (Herentals 4H (70) - Essen 1H (75))
DESCRIPTION:Je hebt 36 uur na aanvang om een thuismatch op Badmintonvlaande
 ren in te vullen. Match info: Herentals 4H (70) - Essen 1H (75) - Link: ht
 tps://www.badmintonvlaanderen.be/sport/teammatch.aspx?id=952A42C0-E06A-400
 D-BAE7-1F26DE702556&match=636
DTSTART;TZID=Europe/Brussels:20240225T090000
DTEND;TZID=Europe/Brussels:20240225T090000
END:VEVENT
BEGIN:VEVENT
UID:952A42C0-E06A-400D-BAE7-1F26DE702556-14-615_homereminder@1950.badminton
 ners.net
DTSTAMP:20260420T073529Z
SUMMARY:Thuismatch ingevuld? (Herentals 4H (70) - Klein Boom 4H (69))
DESCRIPTION:Je hebt 36 uur na aanvang om een thuismatch op Badmintonvlaande
 ren in te vullen. Match info: Herentals 4H (70) - Klein Boom 4H (69) - Lin
 k: https://www.badmintonvlaanderen.be/sport/teammatch.aspx?id=952A42C0-E06
 A-400D-BAE7-1F26DE702556&match=615
DTSTART;TZID=Europe/Brussels:20240421T090000
DTEND;TZID=Europe/Brussels:20240421T090000
END:VEVENT
BEGIN:VEVENT
UID:952A42C0-E06A-400D-BAE7-1F26DE702556-14-628_awayreminder@1950.badminton
 ners.net
DTSTAMP:20260420T073529Z
SUMMARY:Uitmatch bevestigd? (Klein Boom 4H (69) - Herentals 4H (70))
DESCRIPTION:Je hebt 72 uur na aanvang om een uitmatch op Badmintonvlaandere
 n in te vullen. Match info: Klein Boom 4H (69) - Herentals 4H (70) - Link:
  https://www.badmintonvlaanderen.be/sport/teammatch.aspx?id=952A42C0-E06A-
 400D-BAE7-1F26DE702556&match=628
DTSTART;TZID=Europe/Brussels:20231011T190000
DTEND;TZID=Europe/Brussels:20231011T190000
END:VEVENT
BEGIN:VEVENT
UID:952A42C0-E06A-400D-BAE7-1F26DE702556-14-631_awayreminder@1950.badminton
 ners.net
DTSTAMP:20260420T073529Z
SUMMARY:Uitmatch bevestigd? (Essen 1H (75) - Herentals 4H (70))
DESCRIPTION:Je hebt 72 uur na aanvang om een uitmatch op Badmintonvlaandere
 n in te vullen. Match info: Essen 1H (75) - Herentals 4H (70) - Link: http
 s://www.badmintonvlaanderen.be/sport/teammatch.aspx?id=952A42C0-E06A-400D-
 BAE7-1F26DE702556&match=631
DTSTART;TZID=Europe/Brussels:20231220T190000
DTEND;TZID=Europe/Brussels:20231220T190000
END:VEVENT
BEGIN:VEVENT
UID:952A42C0-E06A-400D-BAE7-1F26DE702556-14-629_awayreminder@1950.badminton
 ners.net
DTSTAMP:20260420T073529Z
SUMMARY:Uitmatch bevestigd? (Zandhoven 2H (76) - Herentals 4H (70))
DESCRIPTION:Je hebt 72 uur na aanvang om een uitmatch op Badmintonvlaandere
 n in te vullen. Match info: Zandhoven 2H (76) - Herentals 4H (70) - Link: 
 https://www.badmintonvlaanderen.be/sport/teammatch.aspx?id=952A42C0-E06A-4
 00D-BAE7-1F26DE702556&match=629
DTSTART;TZID=Europe/Brussels:20240118T200000
DTEND;TZID=Europe/Brussels:20240118T200000
END:VEVENT
BEGIN:VEVENT
UID:952A42C0-E06A-400D-BAE7-1F26DE702556-14-627_awayreminder@1950.badminton
 ners.net
DTSTAMP:20260420T073529Z
SUMMARY:Uitmatch bevestigd? (Zoersel 3H (69) - Herentals 4H (70))
DESCRIPTION:Je hebt 72 uur na aanvang om een uitmatch op Badmintonvlaandere
 n in te vullen. Match info: Zoersel 3H (69) - Herentals 4H (70) - Link: ht
 tps://www.badmintonvlaanderen.be/sport/teammatch.aspx?id=952A42C0-E06A-400
 D-BAE7-1F26DE702556&match=627
DTSTART;TZID=Europe/Brussels:20240131T120000
DTEND;TZID=Europe/Brussels:20240131T120000
END:VEVENT
BEGIN:VEVENT
UID:952A42C0-E06A-400D-BAE7-1F26DE702556-14-630_awayreminder@1950.badminton
 ners.net
DTSTAMP:20260420T073529Z
SUMMARY:Uitmatch bevestigd? (Rita Serveert 4H (68) - Herentals 4H (70))
DESCRIPTION:Je hebt 72 uur na aanvang om een uitmatch op Badmintonvlaandere
 n in te vullen. Match info: Rita Serveert 4H (68) - Herentals 4H (70) - Li
 nk: https://www.badmintonvlaanderen.be/sport/teammatch.aspx?id=952A42C0-E0
 6A-400D-BAE7-1F26DE702556&match=630
DTSTART;TZID=Europe/Brussels:20240207T190000
DTEND;TZID=Europe/Brussels:20240207T190000
END:VEVENT
END:VCALENDAR