BEGIN:VCALENDAR
VERSION:2.0
PRODID:spatie/icalendar-generator
NAME:zoersel_3h_69_reminders
X-WR-CALNAME:zoersel_3h_69_reminders
BEGIN:VTIMEZONE
TZID:Europe/Brussels
BEGIN:DAYLIGHT
DTSTART:20230326T010000
TZOFFSETFROM:+0100
TZOFFSETTO:+0200
END:DAYLIGHT
BEGIN:STANDARD
DTSTART:20231029T030000
TZOFFSETFROM:+0200
TZOFFSETTO:+0100
END:STANDARD
BEGIN:DAYLIGHT
DTSTART:20240331T010000
TZOFFSETFROM:+0100
TZOFFSETTO:+0200
END:DAYLIGHT
END:VTIMEZONE
BEGIN:VTIMEZONE
TZID:UTC
BEGIN:STANDARD
DTSTART:20250724T055212
TZOFFSETFROM:+0000
TZOFFSETTO:+0000
END:STANDARD
END:VTIMEZONE
BEGIN:VEVENT
UID:952A42C0-E06A-400D-BAE7-1F26DE702556-14-612_homereminder@1954.badminton
 ners.net
DTSTAMP:20260420T055212Z
SUMMARY:Thuismatch ingevuld? (Zoersel 3H (69) - Klein Boom 4H (69))
DESCRIPTION:Je hebt 36 uur na aanvang om een thuismatch op Badmintonvlaande
 ren in te vullen. Match info: Zoersel 3H (69) - Klein Boom 4H (69) - Link:
  https://www.badmintonvlaanderen.be/sport/teammatch.aspx?id=952A42C0-E06A-
 400D-BAE7-1F26DE702556&match=612
DTSTART;TZID=Europe/Brussels:20230926T000000
DTEND;TZID=Europe/Brussels:20230926T000000
END:VEVENT
BEGIN:VEVENT
UID:952A42C0-E06A-400D-BAE7-1F26DE702556-14-622_homereminder@1954.badminton
 ners.net
DTSTAMP:20260420T055212Z
SUMMARY:Thuismatch ingevuld? (Zoersel 3H (69) - Rita Serveert 4H (68))
DESCRIPTION:Je hebt 36 uur na aanvang om een thuismatch op Badmintonvlaande
 ren in te vullen. Match info: Zoersel 3H (69) - Rita Serveert 4H (68) - Li
 nk: https://www.badmintonvlaanderen.be/sport/teammatch.aspx?id=952A42C0-E0
 6A-400D-BAE7-1F26DE702556&match=622
DTSTART;TZID=Europe/Brussels:20231219T000000
DTEND;TZID=Europe/Brussels:20231219T000000
END:VEVENT
BEGIN:VEVENT
UID:952A42C0-E06A-400D-BAE7-1F26DE702556-14-627_homereminder@1954.badminton
 ners.net
DTSTAMP:20260420T055212Z
SUMMARY:Thuismatch ingevuld? (Zoersel 3H (69) - Herentals 4H (70))
DESCRIPTION:Je hebt 36 uur na aanvang om een thuismatch op Badmintonvlaande
 ren in te vullen. Match info: Zoersel 3H (69) - Herentals 4H (70) - Link: 
 https://www.badmintonvlaanderen.be/sport/teammatch.aspx?id=952A42C0-E06A-4
 00D-BAE7-1F26DE702556&match=627
DTSTART;TZID=Europe/Brussels:20240130T000000
DTEND;TZID=Europe/Brussels:20240130T000000
END:VEVENT
BEGIN:VEVENT
UID:952A42C0-E06A-400D-BAE7-1F26DE702556-14-617_homereminder@1954.badminton
 ners.net
DTSTAMP:20260420T055212Z
SUMMARY:Thuismatch ingevuld? (Zoersel 3H (69) - Zandhoven 2H (76))
DESCRIPTION:Je hebt 36 uur na aanvang om een thuismatch op Badmintonvlaande
 ren in te vullen. Match info: Zoersel 3H (69) - Zandhoven 2H (76) - Link: 
 https://www.badmintonvlaanderen.be/sport/teammatch.aspx?id=952A42C0-E06A-4
 00D-BAE7-1F26DE702556&match=617
DTSTART;TZID=Europe/Brussels:20240416T000000
DTEND;TZID=Europe/Brussels:20240416T000000
END:VEVENT
BEGIN:VEVENT
UID:952A42C0-E06A-400D-BAE7-1F26DE702556-14-632_homereminder@1954.badminton
 ners.net
DTSTAMP:20260420T055212Z
SUMMARY:Thuismatch ingevuld? (Zoersel 3H (69) - Essen 1H (75))
DESCRIPTION:Je hebt 36 uur na aanvang om een thuismatch op Badmintonvlaande
 ren in te vullen. Match info: Zoersel 3H (69) - Essen 1H (75) - Link: http
 s://www.badmintonvlaanderen.be/sport/teammatch.aspx?id=952A42C0-E06A-400D-
 BAE7-1F26DE702556&match=632
DTSTART;TZID=Europe/Brussels:20240423T000000
DTEND;TZID=Europe/Brussels:20240423T000000
END:VEVENT
BEGIN:VEVENT
UID:952A42C0-E06A-400D-BAE7-1F26DE702556-14-608_awayreminder@1954.badminton
 ners.net
DTSTAMP:20260420T055212Z
SUMMARY:Uitmatch bevestigd? (Zandhoven 2H (76) - Zoersel 3H (69))
DESCRIPTION:Je hebt 72 uur na aanvang om een uitmatch op Badmintonvlaandere
 n in te vullen. Match info: Zandhoven 2H (76) - Zoersel 3H (69) - Link: ht
 tps://www.badmintonvlaanderen.be/sport/teammatch.aspx?id=952A42C0-E06A-400
 D-BAE7-1F26DE702556&match=608
DTSTART;TZID=Europe/Brussels:20230907T200000
DTEND;TZID=Europe/Brussels:20230907T200000
END:VEVENT
BEGIN:VEVENT
UID:952A42C0-E06A-400D-BAE7-1F26DE702556-14-611_awayreminder@1954.badminton
 ners.net
DTSTAMP:20260420T055212Z
SUMMARY:Uitmatch bevestigd? (Essen 1H (75) - Zoersel 3H (69))
DESCRIPTION:Je hebt 72 uur na aanvang om een uitmatch op Badmintonvlaandere
 n in te vullen. Match info: Essen 1H (75) - Zoersel 3H (69) - Link: https:
 //www.badmintonvlaanderen.be/sport/teammatch.aspx?id=952A42C0-E06A-400D-BA
 E7-1F26DE702556&match=611
DTSTART;TZID=Europe/Brussels:20231025T190000
DTEND;TZID=Europe/Brussels:20231025T190000
END:VEVENT
BEGIN:VEVENT
UID:952A42C0-E06A-400D-BAE7-1F26DE702556-14-610_awayreminder@1954.badminton
 ners.net
DTSTAMP:20260420T055212Z
SUMMARY:Uitmatch bevestigd? (Herentals 4H (70) - Zoersel 3H (69))
DESCRIPTION:Je hebt 72 uur na aanvang om een uitmatch op Badmintonvlaandere
 n in te vullen. Match info: Herentals 4H (70) - Zoersel 3H (69) - Link: ht
 tps://www.badmintonvlaanderen.be/sport/teammatch.aspx?id=952A42C0-E06A-400
 D-BAE7-1F26DE702556&match=610
DTSTART;TZID=Europe/Brussels:20231204T210000
DTEND;TZID=Europe/Brussels:20231204T210000
END:VEVENT
BEGIN:VEVENT
UID:952A42C0-E06A-400D-BAE7-1F26DE702556-14-609_awayreminder@1954.badminton
 ners.net
DTSTAMP:20260420T055212Z
SUMMARY:Uitmatch bevestigd? (Rita Serveert 4H (68) - Zoersel 3H (69))
DESCRIPTION:Je hebt 72 uur na aanvang om een uitmatch op Badmintonvlaandere
 n in te vullen. Match info: Rita Serveert 4H (68) - Zoersel 3H (69) - Link
 : https://www.badmintonvlaanderen.be/sport/teammatch.aspx?id=952A42C0-E06A
 -400D-BAE7-1F26DE702556&match=609
DTSTART;TZID=Europe/Brussels:20240228T190000
DTEND;TZID=Europe/Brussels:20240228T190000
END:VEVENT
BEGIN:VEVENT
UID:952A42C0-E06A-400D-BAE7-1F26DE702556-14-607_awayreminder@1954.badminton
 ners.net
DTSTAMP:20260420T055212Z
SUMMARY:Uitmatch bevestigd? (Klein Boom 4H (69) - Zoersel 3H (69))
DESCRIPTION:Je hebt 72 uur na aanvang om een uitmatch op Badmintonvlaandere
 n in te vullen. Match info: Klein Boom 4H (69) - Zoersel 3H (69) - Link: h
 ttps://www.badmintonvlaanderen.be/sport/teammatch.aspx?id=952A42C0-E06A-40
 0D-BAE7-1F26DE702556&match=607
DTSTART;TZID=Europe/Brussels:20240327T190000
DTEND;TZID=Europe/Brussels:20240327T190000
END:VEVENT
END:VCALENDAR