BEGIN:VCALENDAR
VERSION:2.0
PRODID:spatie/icalendar-generator
NAME:zandhoven_2h_76_reminders
X-WR-CALNAME:zandhoven_2h_76_reminders
BEGIN:VTIMEZONE
TZID:Europe/Brussels
BEGIN:DAYLIGHT
DTSTART:20230326T010000
TZOFFSETFROM:+0100
TZOFFSETTO:+0200
END:DAYLIGHT
BEGIN:STANDARD
DTSTART:20231029T030000
TZOFFSETFROM:+0200
TZOFFSETTO:+0100
END:STANDARD
BEGIN:DAYLIGHT
DTSTART:20240331T010000
TZOFFSETFROM:+0100
TZOFFSETTO:+0200
END:DAYLIGHT
BEGIN:STANDARD
DTSTART:20241027T030000
TZOFFSETFROM:+0200
TZOFFSETTO:+0100
END:STANDARD
END:VTIMEZONE
BEGIN:VTIMEZONE
TZID:UTC
BEGIN:STANDARD
DTSTART:20250724T055212
TZOFFSETFROM:+0000
TZOFFSETTO:+0000
END:STANDARD
END:VTIMEZONE
BEGIN:VEVENT
UID:952A42C0-E06A-400D-BAE7-1F26DE702556-14-608_homereminder@1958.badminton
 ners.net
DTSTAMP:20260420T055212Z
SUMMARY:Thuismatch ingevuld? (Zandhoven 2H (76) - Zoersel 3H (69))
DESCRIPTION:Je hebt 36 uur na aanvang om een thuismatch op Badmintonvlaande
 ren in te vullen. Match info: Zandhoven 2H (76) - Zoersel 3H (69) - Link: 
 https://www.badmintonvlaanderen.be/sport/teammatch.aspx?id=952A42C0-E06A-4
 00D-BAE7-1F26DE702556&match=608
DTSTART;TZID=Europe/Brussels:20230906T080000
DTEND;TZID=Europe/Brussels:20230906T080000
END:VEVENT
BEGIN:VEVENT
UID:952A42C0-E06A-400D-BAE7-1F26DE702556-14-624_homereminder@1958.badminton
 ners.net
DTSTAMP:20260420T055212Z
SUMMARY:Thuismatch ingevuld? (Zandhoven 2H (76) - Rita Serveert 4H (68))
DESCRIPTION:Je hebt 36 uur na aanvang om een thuismatch op Badmintonvlaande
 ren in te vullen. Match info: Zandhoven 2H (76) - Rita Serveert 4H (68) - 
 Link: https://www.badmintonvlaanderen.be/sport/teammatch.aspx?id=952A42C0-
 E06A-400D-BAE7-1F26DE702556&match=624
DTSTART;TZID=Europe/Brussels:20231018T080000
DTEND;TZID=Europe/Brussels:20231018T080000
END:VEVENT
BEGIN:VEVENT
UID:952A42C0-E06A-400D-BAE7-1F26DE702556-14-634_homereminder@1958.badminton
 ners.net
DTSTAMP:20260420T055212Z
SUMMARY:Thuismatch ingevuld? (Zandhoven 2H (76) - Essen 1H (75))
DESCRIPTION:Je hebt 36 uur na aanvang om een thuismatch op Badmintonvlaande
 ren in te vullen. Match info: Zandhoven 2H (76) - Essen 1H (75) - Link: ht
 tps://www.badmintonvlaanderen.be/sport/teammatch.aspx?id=952A42C0-E06A-400
 D-BAE7-1F26DE702556&match=634
DTSTART;TZID=Europe/Brussels:20231129T080000
DTEND;TZID=Europe/Brussels:20231129T080000
END:VEVENT
BEGIN:VEVENT
UID:952A42C0-E06A-400D-BAE7-1F26DE702556-14-629_homereminder@1958.badminton
 ners.net
DTSTAMP:20260420T055212Z
SUMMARY:Thuismatch ingevuld? (Zandhoven 2H (76) - Herentals 4H (70))
DESCRIPTION:Je hebt 36 uur na aanvang om een thuismatch op Badmintonvlaande
 ren in te vullen. Match info: Zandhoven 2H (76) - Herentals 4H (70) - Link
 : https://www.badmintonvlaanderen.be/sport/teammatch.aspx?id=952A42C0-E06A
 -400D-BAE7-1F26DE702556&match=629
DTSTART;TZID=Europe/Brussels:20240117T080000
DTEND;TZID=Europe/Brussels:20240117T080000
END:VEVENT
BEGIN:VEVENT
UID:952A42C0-E06A-400D-BAE7-1F26DE702556-14-613_homereminder@1958.badminton
 ners.net
DTSTAMP:20260420T055212Z
SUMMARY:Thuismatch ingevuld? (Zandhoven 2H (76) - Klein Boom 4H (69))
DESCRIPTION:Je hebt 36 uur na aanvang om een thuismatch op Badmintonvlaande
 ren in te vullen. Match info: Zandhoven 2H (76) - Klein Boom 4H (69) - Lin
 k: https://www.badmintonvlaanderen.be/sport/teammatch.aspx?id=952A42C0-E06
 A-400D-BAE7-1F26DE702556&match=613
DTSTART;TZID=Europe/Brussels:20240221T080000
DTEND;TZID=Europe/Brussels:20240221T080000
END:VEVENT
BEGIN:VEVENT
UID:952A42C0-E06A-400D-BAE7-1F26DE702556-14-620_awayreminder@1958.badminton
 ners.net
DTSTAMP:20260420T055212Z
SUMMARY:Uitmatch bevestigd? (Herentals 4H (70) - Zandhoven 2H (76))
DESCRIPTION:Je hebt 72 uur na aanvang om een uitmatch op Badmintonvlaandere
 n in te vullen. Match info: Herentals 4H (70) - Zandhoven 2H (76) - Link: 
 https://www.badmintonvlaanderen.be/sport/teammatch.aspx?id=952A42C0-E06A-4
 00D-BAE7-1F26DE702556&match=620
DTSTART;TZID=Europe/Brussels:20230925T210000
DTEND;TZID=Europe/Brussels:20230925T210000
END:VEVENT
BEGIN:VEVENT
UID:952A42C0-E06A-400D-BAE7-1F26DE702556-14-618_awayreminder@1958.badminton
 ners.net
DTSTAMP:20260420T055212Z
SUMMARY:Uitmatch bevestigd? (Klein Boom 4H (69) - Zandhoven 2H (76))
DESCRIPTION:Je hebt 72 uur na aanvang om een uitmatch op Badmintonvlaandere
 n in te vullen. Match info: Klein Boom 4H (69) - Zandhoven 2H (76) - Link:
  https://www.badmintonvlaanderen.be/sport/teammatch.aspx?id=952A42C0-E06A-
 400D-BAE7-1F26DE702556&match=618
DTSTART;TZID=Europe/Brussels:20231122T190000
DTEND;TZID=Europe/Brussels:20231122T190000
END:VEVENT
BEGIN:VEVENT
UID:952A42C0-E06A-400D-BAE7-1F26DE702556-14-621_awayreminder@1958.badminton
 ners.net
DTSTAMP:20260420T055212Z
SUMMARY:Uitmatch bevestigd? (Essen 1H (75) - Zandhoven 2H (76))
DESCRIPTION:Je hebt 72 uur na aanvang om een uitmatch op Badmintonvlaandere
 n in te vullen. Match info: Essen 1H (75) - Zandhoven 2H (76) - Link: http
 s://www.badmintonvlaanderen.be/sport/teammatch.aspx?id=952A42C0-E06A-400D-
 BAE7-1F26DE702556&match=621
DTSTART;TZID=Europe/Brussels:20240214T190000
DTEND;TZID=Europe/Brussels:20240214T190000
END:VEVENT
BEGIN:VEVENT
UID:952A42C0-E06A-400D-BAE7-1F26DE702556-14-617_awayreminder@1958.badminton
 ners.net
DTSTAMP:20260420T055212Z
SUMMARY:Uitmatch bevestigd? (Zoersel 3H (69) - Zandhoven 2H (76))
DESCRIPTION:Je hebt 72 uur na aanvang om een uitmatch op Badmintonvlaandere
 n in te vullen. Match info: Zoersel 3H (69) - Zandhoven 2H (76) - Link: ht
 tps://www.badmintonvlaanderen.be/sport/teammatch.aspx?id=952A42C0-E06A-400
 D-BAE7-1F26DE702556&match=617
DTSTART;TZID=Europe/Brussels:20240417T120000
DTEND;TZID=Europe/Brussels:20240417T120000
END:VEVENT
BEGIN:VEVENT
UID:952A42C0-E06A-400D-BAE7-1F26DE702556-14-619_awayreminder@1958.badminton
 ners.net
DTSTAMP:20260420T055212Z
SUMMARY:Uitmatch bevestigd? (Rita Serveert 4H (68) - Zandhoven 2H (76))
DESCRIPTION:Je hebt 72 uur na aanvang om een uitmatch op Badmintonvlaandere
 n in te vullen. Match info: Rita Serveert 4H (68) - Zandhoven 2H (76) - Li
 nk: https://www.badmintonvlaanderen.be/sport/teammatch.aspx?id=952A42C0-E0
 6A-400D-BAE7-1F26DE702556&match=619
DTSTART;TZID=Europe/Brussels:20240501T190000
DTEND;TZID=Europe/Brussels:20240501T190000
END:VEVENT
END:VCALENDAR