BEGIN:VCALENDAR
VERSION:2.0
PRODID:spatie/icalendar-generator
NAME:klein_boom_4h_69_reminders
X-WR-CALNAME:klein_boom_4h_69_reminders
BEGIN:VTIMEZONE
TZID:Europe/Brussels
BEGIN:DAYLIGHT
DTSTART:20230326T010000
TZOFFSETFROM:+0100
TZOFFSETTO:+0200
END:DAYLIGHT
BEGIN:STANDARD
DTSTART:20231029T030000
TZOFFSETFROM:+0200
TZOFFSETTO:+0100
END:STANDARD
BEGIN:DAYLIGHT
DTSTART:20240331T010000
TZOFFSETFROM:+0100
TZOFFSETTO:+0200
END:DAYLIGHT
END:VTIMEZONE
BEGIN:VTIMEZONE
TZID:UTC
BEGIN:STANDARD
DTSTART:20250724T073705
TZOFFSETFROM:+0000
TZOFFSETTO:+0000
END:STANDARD
END:VTIMEZONE
BEGIN:VEVENT
UID:952A42C0-E06A-400D-BAE7-1F26DE702556-14-633_homereminder@1961.badminton
 ners.net
DTSTAMP:20260420T073705Z
SUMMARY:Thuismatch ingevuld? (Klein Boom 4H (69) - Essen 1H (75))
DESCRIPTION:Je hebt 36 uur na aanvang om een thuismatch op Badmintonvlaande
 ren in te vullen. Match info: Klein Boom 4H (69) - Essen 1H (75) - Link: h
 ttps://www.badmintonvlaanderen.be/sport/teammatch.aspx?id=952A42C0-E06A-40
 0D-BAE7-1F26DE702556&match=633
DTSTART;TZID=Europe/Brussels:20230912T070000
DTEND;TZID=Europe/Brussels:20230912T070000
END:VEVENT
BEGIN:VEVENT
UID:952A42C0-E06A-400D-BAE7-1F26DE702556-14-628_homereminder@1961.badminton
 ners.net
DTSTAMP:20260420T073705Z
SUMMARY:Thuismatch ingevuld? (Klein Boom 4H (69) - Herentals 4H (70))
DESCRIPTION:Je hebt 36 uur na aanvang om een thuismatch op Badmintonvlaande
 ren in te vullen. Match info: Klein Boom 4H (69) - Herentals 4H (70) - Lin
 k: https://www.badmintonvlaanderen.be/sport/teammatch.aspx?id=952A42C0-E06
 A-400D-BAE7-1F26DE702556&match=628
DTSTART;TZID=Europe/Brussels:20231010T070000
DTEND;TZID=Europe/Brussels:20231010T070000
END:VEVENT
BEGIN:VEVENT
UID:952A42C0-E06A-400D-BAE7-1F26DE702556-14-618_homereminder@1961.badminton
 ners.net
DTSTAMP:20260420T073705Z
SUMMARY:Thuismatch ingevuld? (Klein Boom 4H (69) - Zandhoven 2H (76))
DESCRIPTION:Je hebt 36 uur na aanvang om een thuismatch op Badmintonvlaande
 ren in te vullen. Match info: Klein Boom 4H (69) - Zandhoven 2H (76) - Lin
 k: https://www.badmintonvlaanderen.be/sport/teammatch.aspx?id=952A42C0-E06
 A-400D-BAE7-1F26DE702556&match=618
DTSTART;TZID=Europe/Brussels:20231121T070000
DTEND;TZID=Europe/Brussels:20231121T070000
END:VEVENT
BEGIN:VEVENT
UID:952A42C0-E06A-400D-BAE7-1F26DE702556-14-623_homereminder@1961.badminton
 ners.net
DTSTAMP:20260420T073705Z
SUMMARY:Thuismatch ingevuld? (Klein Boom 4H (69) - Rita Serveert 4H (68))
DESCRIPTION:Je hebt 36 uur na aanvang om een thuismatch op Badmintonvlaande
 ren in te vullen. Match info: Klein Boom 4H (69) - Rita Serveert 4H (68) -
  Link: https://www.badmintonvlaanderen.be/sport/teammatch.aspx?id=952A42C0
 -E06A-400D-BAE7-1F26DE702556&match=623
DTSTART;TZID=Europe/Brussels:20240213T070000
DTEND;TZID=Europe/Brussels:20240213T070000
END:VEVENT
BEGIN:VEVENT
UID:952A42C0-E06A-400D-BAE7-1F26DE702556-14-607_homereminder@1961.badminton
 ners.net
DTSTAMP:20260420T073705Z
SUMMARY:Thuismatch ingevuld? (Klein Boom 4H (69) - Zoersel 3H (69))
DESCRIPTION:Je hebt 36 uur na aanvang om een thuismatch op Badmintonvlaande
 ren in te vullen. Match info: Klein Boom 4H (69) - Zoersel 3H (69) - Link:
  https://www.badmintonvlaanderen.be/sport/teammatch.aspx?id=952A42C0-E06A-
 400D-BAE7-1F26DE702556&match=607
DTSTART;TZID=Europe/Brussels:20240326T070000
DTEND;TZID=Europe/Brussels:20240326T070000
END:VEVENT
BEGIN:VEVENT
UID:952A42C0-E06A-400D-BAE7-1F26DE702556-14-612_awayreminder@1961.badminton
 ners.net
DTSTAMP:20260420T073705Z
SUMMARY:Uitmatch bevestigd? (Zoersel 3H (69) - Klein Boom 4H (69))
DESCRIPTION:Je hebt 72 uur na aanvang om een uitmatch op Badmintonvlaandere
 n in te vullen. Match info: Zoersel 3H (69) - Klein Boom 4H (69) - Link: h
 ttps://www.badmintonvlaanderen.be/sport/teammatch.aspx?id=952A42C0-E06A-40
 0D-BAE7-1F26DE702556&match=612
DTSTART;TZID=Europe/Brussels:20230927T120000
DTEND;TZID=Europe/Brussels:20230927T120000
END:VEVENT
BEGIN:VEVENT
UID:952A42C0-E06A-400D-BAE7-1F26DE702556-14-614_awayreminder@1961.badminton
 ners.net
DTSTAMP:20260420T073705Z
SUMMARY:Uitmatch bevestigd? (Rita Serveert 4H (68) - Klein Boom 4H (69))
DESCRIPTION:Je hebt 72 uur na aanvang om een uitmatch op Badmintonvlaandere
 n in te vullen. Match info: Rita Serveert 4H (68) - Klein Boom 4H (69) - L
 ink: https://www.badmintonvlaanderen.be/sport/teammatch.aspx?id=952A42C0-E
 06A-400D-BAE7-1F26DE702556&match=614
DTSTART;TZID=Europe/Brussels:20231206T190000
DTEND;TZID=Europe/Brussels:20231206T190000
END:VEVENT
BEGIN:VEVENT
UID:952A42C0-E06A-400D-BAE7-1F26DE702556-14-613_awayreminder@1961.badminton
 ners.net
DTSTAMP:20260420T073705Z
SUMMARY:Uitmatch bevestigd? (Zandhoven 2H (76) - Klein Boom 4H (69))
DESCRIPTION:Je hebt 72 uur na aanvang om een uitmatch op Badmintonvlaandere
 n in te vullen. Match info: Zandhoven 2H (76) - Klein Boom 4H (69) - Link:
  https://www.badmintonvlaanderen.be/sport/teammatch.aspx?id=952A42C0-E06A-
 400D-BAE7-1F26DE702556&match=613
DTSTART;TZID=Europe/Brussels:20240222T200000
DTEND;TZID=Europe/Brussels:20240222T200000
END:VEVENT
BEGIN:VEVENT
UID:952A42C0-E06A-400D-BAE7-1F26DE702556-14-616_awayreminder@1961.badminton
 ners.net
DTSTAMP:20260420T073705Z
SUMMARY:Uitmatch bevestigd? (Essen 1H (75) - Klein Boom 4H (69))
DESCRIPTION:Je hebt 72 uur na aanvang om een uitmatch op Badmintonvlaandere
 n in te vullen. Match info: Essen 1H (75) - Klein Boom 4H (69) - Link: htt
 ps://www.badmintonvlaanderen.be/sport/teammatch.aspx?id=952A42C0-E06A-400D
 -BAE7-1F26DE702556&match=616
DTSTART;TZID=Europe/Brussels:20240313T190000
DTEND;TZID=Europe/Brussels:20240313T190000
END:VEVENT
BEGIN:VEVENT
UID:952A42C0-E06A-400D-BAE7-1F26DE702556-14-615_awayreminder@1961.badminton
 ners.net
DTSTAMP:20260420T073705Z
SUMMARY:Uitmatch bevestigd? (Herentals 4H (70) - Klein Boom 4H (69))
DESCRIPTION:Je hebt 72 uur na aanvang om een uitmatch op Badmintonvlaandere
 n in te vullen. Match info: Herentals 4H (70) - Klein Boom 4H (69) - Link:
  https://www.badmintonvlaanderen.be/sport/teammatch.aspx?id=952A42C0-E06A-
 400D-BAE7-1F26DE702556&match=615
DTSTART;TZID=Europe/Brussels:20240422T210000
DTEND;TZID=Europe/Brussels:20240422T210000
END:VEVENT
END:VCALENDAR