BEGIN:VCALENDAR
VERSION:2.0
PRODID:spatie/icalendar-generator
NAME:rita_serveert_4h_68_reminders
X-WR-CALNAME:rita_serveert_4h_68_reminders
BEGIN:VTIMEZONE
TZID:Europe/Brussels
BEGIN:DAYLIGHT
DTSTART:20230326T010000
TZOFFSETFROM:+0100
TZOFFSETTO:+0200
END:DAYLIGHT
BEGIN:STANDARD
DTSTART:20231029T030000
TZOFFSETFROM:+0200
TZOFFSETTO:+0100
END:STANDARD
BEGIN:DAYLIGHT
DTSTART:20240331T010000
TZOFFSETFROM:+0100
TZOFFSETTO:+0200
END:DAYLIGHT
BEGIN:STANDARD
DTSTART:20241027T030000
TZOFFSETFROM:+0200
TZOFFSETTO:+0100
END:STANDARD
END:VTIMEZONE
BEGIN:VTIMEZONE
TZID:UTC
BEGIN:STANDARD
DTSTART:20250724T055208
TZOFFSETFROM:+0000
TZOFFSETTO:+0000
END:STANDARD
END:VTIMEZONE
BEGIN:VEVENT
UID:952A42C0-E06A-400D-BAE7-1F26DE702556-14-614_homereminder@1970.badminton
 ners.net
DTSTAMP:20260420T055208Z
SUMMARY:Thuismatch ingevuld? (Rita Serveert 4H (68) - Klein Boom 4H (69))
DESCRIPTION:Je hebt 36 uur na aanvang om een thuismatch op Badmintonvlaande
 ren in te vullen. Match info: Rita Serveert 4H (68) - Klein Boom 4H (69) -
  Link: https://www.badmintonvlaanderen.be/sport/teammatch.aspx?id=952A42C0
 -E06A-400D-BAE7-1F26DE702556&match=614
DTSTART;TZID=Europe/Brussels:20231205T070000
DTEND;TZID=Europe/Brussels:20231205T070000
END:VEVENT
BEGIN:VEVENT
UID:952A42C0-E06A-400D-BAE7-1F26DE702556-14-630_homereminder@1970.badminton
 ners.net
DTSTAMP:20260420T055208Z
SUMMARY:Thuismatch ingevuld? (Rita Serveert 4H (68) - Herentals 4H (70))
DESCRIPTION:Je hebt 36 uur na aanvang om een thuismatch op Badmintonvlaande
 ren in te vullen. Match info: Rita Serveert 4H (68) - Herentals 4H (70) - 
 Link: https://www.badmintonvlaanderen.be/sport/teammatch.aspx?id=952A42C0-
 E06A-400D-BAE7-1F26DE702556&match=630
DTSTART;TZID=Europe/Brussels:20240206T070000
DTEND;TZID=Europe/Brussels:20240206T070000
END:VEVENT
BEGIN:VEVENT
UID:952A42C0-E06A-400D-BAE7-1F26DE702556-14-609_homereminder@1970.badminton
 ners.net
DTSTAMP:20260420T055208Z
SUMMARY:Thuismatch ingevuld? (Rita Serveert 4H (68) - Zoersel 3H (69))
DESCRIPTION:Je hebt 36 uur na aanvang om een thuismatch op Badmintonvlaande
 ren in te vullen. Match info: Rita Serveert 4H (68) - Zoersel 3H (69) - Li
 nk: https://www.badmintonvlaanderen.be/sport/teammatch.aspx?id=952A42C0-E0
 6A-400D-BAE7-1F26DE702556&match=609
DTSTART;TZID=Europe/Brussels:20240227T070000
DTEND;TZID=Europe/Brussels:20240227T070000
END:VEVENT
BEGIN:VEVENT
UID:952A42C0-E06A-400D-BAE7-1F26DE702556-14-635_homereminder@1970.badminton
 ners.net
DTSTAMP:20260420T055208Z
SUMMARY:Thuismatch ingevuld? (Rita Serveert 4H (68) - Essen 1H (75))
DESCRIPTION:Je hebt 36 uur na aanvang om een thuismatch op Badmintonvlaande
 ren in te vullen. Match info: Rita Serveert 4H (68) - Essen 1H (75) - Link
 : https://www.badmintonvlaanderen.be/sport/teammatch.aspx?id=952A42C0-E06A
 -400D-BAE7-1F26DE702556&match=635
DTSTART;TZID=Europe/Brussels:20240409T070000
DTEND;TZID=Europe/Brussels:20240409T070000
END:VEVENT
BEGIN:VEVENT
UID:952A42C0-E06A-400D-BAE7-1F26DE702556-14-619_homereminder@1970.badminton
 ners.net
DTSTAMP:20260420T055208Z
SUMMARY:Thuismatch ingevuld? (Rita Serveert 4H (68) - Zandhoven 2H (76))
DESCRIPTION:Je hebt 36 uur na aanvang om een thuismatch op Badmintonvlaande
 ren in te vullen. Match info: Rita Serveert 4H (68) - Zandhoven 2H (76) - 
 Link: https://www.badmintonvlaanderen.be/sport/teammatch.aspx?id=952A42C0-
 E06A-400D-BAE7-1F26DE702556&match=619
DTSTART;TZID=Europe/Brussels:20240430T070000
DTEND;TZID=Europe/Brussels:20240430T070000
END:VEVENT
BEGIN:VEVENT
UID:952A42C0-E06A-400D-BAE7-1F26DE702556-14-626_awayreminder@1970.badminton
 ners.net
DTSTAMP:20260420T055208Z
SUMMARY:Uitmatch bevestigd? (Essen 1H (75) - Rita Serveert 4H (68))
DESCRIPTION:Je hebt 72 uur na aanvang om een uitmatch op Badmintonvlaandere
 n in te vullen. Match info: Essen 1H (75) - Rita Serveert 4H (68) - Link: 
 https://www.badmintonvlaanderen.be/sport/teammatch.aspx?id=952A42C0-E06A-4
 00D-BAE7-1F26DE702556&match=626
DTSTART;TZID=Europe/Brussels:20230927T190000
DTEND;TZID=Europe/Brussels:20230927T190000
END:VEVENT
BEGIN:VEVENT
UID:952A42C0-E06A-400D-BAE7-1F26DE702556-14-625_awayreminder@1970.badminton
 ners.net
DTSTAMP:20260420T055208Z
SUMMARY:Uitmatch bevestigd? (Herentals 4H (70) - Rita Serveert 4H (68))
DESCRIPTION:Je hebt 72 uur na aanvang om een uitmatch op Badmintonvlaandere
 n in te vullen. Match info: Herentals 4H (70) - Rita Serveert 4H (68) - Li
 nk: https://www.badmintonvlaanderen.be/sport/teammatch.aspx?id=952A42C0-E0
 6A-400D-BAE7-1F26DE702556&match=625
DTSTART;TZID=Europe/Brussels:20231016T210000
DTEND;TZID=Europe/Brussels:20231016T210000
END:VEVENT
BEGIN:VEVENT
UID:952A42C0-E06A-400D-BAE7-1F26DE702556-14-624_awayreminder@1970.badminton
 ners.net
DTSTAMP:20260420T055208Z
SUMMARY:Uitmatch bevestigd? (Zandhoven 2H (76) - Rita Serveert 4H (68))
DESCRIPTION:Je hebt 72 uur na aanvang om een uitmatch op Badmintonvlaandere
 n in te vullen. Match info: Zandhoven 2H (76) - Rita Serveert 4H (68) - Li
 nk: https://www.badmintonvlaanderen.be/sport/teammatch.aspx?id=952A42C0-E0
 6A-400D-BAE7-1F26DE702556&match=624
DTSTART;TZID=Europe/Brussels:20231019T200000
DTEND;TZID=Europe/Brussels:20231019T200000
END:VEVENT
BEGIN:VEVENT
UID:952A42C0-E06A-400D-BAE7-1F26DE702556-14-622_awayreminder@1970.badminton
 ners.net
DTSTAMP:20260420T055208Z
SUMMARY:Uitmatch bevestigd? (Zoersel 3H (69) - Rita Serveert 4H (68))
DESCRIPTION:Je hebt 72 uur na aanvang om een uitmatch op Badmintonvlaandere
 n in te vullen. Match info: Zoersel 3H (69) - Rita Serveert 4H (68) - Link
 : https://www.badmintonvlaanderen.be/sport/teammatch.aspx?id=952A42C0-E06A
 -400D-BAE7-1F26DE702556&match=622
DTSTART;TZID=Europe/Brussels:20231220T120000
DTEND;TZID=Europe/Brussels:20231220T120000
END:VEVENT
BEGIN:VEVENT
UID:952A42C0-E06A-400D-BAE7-1F26DE702556-14-623_awayreminder@1970.badminton
 ners.net
DTSTAMP:20260420T055208Z
SUMMARY:Uitmatch bevestigd? (Klein Boom 4H (69) - Rita Serveert 4H (68))
DESCRIPTION:Je hebt 72 uur na aanvang om een uitmatch op Badmintonvlaandere
 n in te vullen. Match info: Klein Boom 4H (69) - Rita Serveert 4H (68) - L
 ink: https://www.badmintonvlaanderen.be/sport/teammatch.aspx?id=952A42C0-E
 06A-400D-BAE7-1F26DE702556&match=623
DTSTART;TZID=Europe/Brussels:20240214T190000
DTEND;TZID=Europe/Brussels:20240214T190000
END:VEVENT
END:VCALENDAR