BEGIN:VCALENDAR
VERSION:2.0
PRODID:spatie/icalendar-generator
NAME:poona_1g_64_reminders
X-WR-CALNAME:poona_1g_64_reminders
BEGIN:VTIMEZONE
TZID:Europe/Brussels
BEGIN:DAYLIGHT
DTSTART:20230326T010000
TZOFFSETFROM:+0100
TZOFFSETTO:+0200
END:DAYLIGHT
BEGIN:STANDARD
DTSTART:20231029T030000
TZOFFSETFROM:+0200
TZOFFSETTO:+0100
END:STANDARD
BEGIN:DAYLIGHT
DTSTART:20240331T010000
TZOFFSETFROM:+0100
TZOFFSETTO:+0200
END:DAYLIGHT
END:VTIMEZONE
BEGIN:VTIMEZONE
TZID:UTC
BEGIN:STANDARD
DTSTART:20250724T073717
TZOFFSETFROM:+0000
TZOFFSETTO:+0000
END:STANDARD
END:VTIMEZONE
BEGIN:VEVENT
UID:952A42C0-E06A-400D-BAE7-1F26DE702556-17-728_homereminder@1814.badminton
 ners.net
DTSTAMP:20260420T073717Z
SUMMARY:Thuismatch ingevuld? (Poona 1G (64) - Opslag 1G (74))
DESCRIPTION:Je hebt 36 uur na aanvang om een thuismatch op Badmintonvlaande
 ren in te vullen. Match info: Poona 1G (64) - Opslag 1G (74) - Link: https
 ://www.badmintonvlaanderen.be/sport/teammatch.aspx?id=952A42C0-E06A-400D-B
 AE7-1F26DE702556&match=728
DTSTART;TZID=Europe/Brussels:20230920T080000
DTEND;TZID=Europe/Brussels:20230920T080000
END:VEVENT
BEGIN:VEVENT
UID:952A42C0-E06A-400D-BAE7-1F26DE702556-17-718_homereminder@1814.badminton
 ners.net
DTSTAMP:20260420T073717Z
SUMMARY:Thuismatch ingevuld? (Poona 1G (64) - Waverse 1G (70))
DESCRIPTION:Je hebt 36 uur na aanvang om een thuismatch op Badmintonvlaande
 ren in te vullen. Match info: Poona 1G (64) - Waverse 1G (70) - Link: http
 s://www.badmintonvlaanderen.be/sport/teammatch.aspx?id=952A42C0-E06A-400D-
 BAE7-1F26DE702556&match=718
DTSTART;TZID=Europe/Brussels:20231018T080000
DTEND;TZID=Europe/Brussels:20231018T080000
END:VEVENT
BEGIN:VEVENT
UID:952A42C0-E06A-400D-BAE7-1F26DE702556-17-744_homereminder@1814.badminton
 ners.net
DTSTAMP:20260420T073717Z
SUMMARY:Thuismatch ingevuld? (Poona 1G (64) - Klein Boom 2G (83))
DESCRIPTION:Je hebt 36 uur na aanvang om een thuismatch op Badmintonvlaande
 ren in te vullen. Match info: Poona 1G (64) - Klein Boom 2G (83) - Link: h
 ttps://www.badmintonvlaanderen.be/sport/teammatch.aspx?id=952A42C0-E06A-40
 0D-BAE7-1F26DE702556&match=744
DTSTART;TZID=Europe/Brussels:20240110T080000
DTEND;TZID=Europe/Brussels:20240110T080000
END:VEVENT
BEGIN:VEVENT
UID:952A42C0-E06A-400D-BAE7-1F26DE702556-17-723_homereminder@1814.badminton
 ners.net
DTSTAMP:20260420T073717Z
SUMMARY:Thuismatch ingevuld? (Poona 1G (64) - Rijkerack 1G (69))
DESCRIPTION:Je hebt 36 uur na aanvang om een thuismatch op Badmintonvlaande
 ren in te vullen. Match info: Poona 1G (64) - Rijkerack 1G (69) - Link: ht
 tps://www.badmintonvlaanderen.be/sport/teammatch.aspx?id=952A42C0-E06A-400
 D-BAE7-1F26DE702556&match=723
DTSTART;TZID=Europe/Brussels:20240221T080000
DTEND;TZID=Europe/Brussels:20240221T080000
END:VEVENT
BEGIN:VEVENT
UID:952A42C0-E06A-400D-BAE7-1F26DE702556-17-733_homereminder@1814.badminton
 ners.net
DTSTAMP:20260420T073717Z
SUMMARY:Thuismatch ingevuld? (Poona 1G (64) - Spinshuttle 1G (77))
DESCRIPTION:Je hebt 36 uur na aanvang om een thuismatch op Badmintonvlaande
 ren in te vullen. Match info: Poona 1G (64) - Spinshuttle 1G (77) - Link: 
 https://www.badmintonvlaanderen.be/sport/teammatch.aspx?id=952A42C0-E06A-4
 00D-BAE7-1F26DE702556&match=733
DTSTART;TZID=Europe/Brussels:20240424T080000
DTEND;TZID=Europe/Brussels:20240424T080000
END:VEVENT
BEGIN:VEVENT
UID:952A42C0-E06A-400D-BAE7-1F26DE702556-17-739_awayreminder@1814.badminton
 ners.net
DTSTAMP:20260420T073717Z
SUMMARY:Uitmatch bevestigd? (Klein Boom 2G (83) - Poona 1G (64))
DESCRIPTION:Je hebt 72 uur na aanvang om een uitmatch op Badmintonvlaandere
 n in te vullen. Match info: Klein Boom 2G (83) - Poona 1G (64) - Link: htt
 ps://www.badmintonvlaanderen.be/sport/teammatch.aspx?id=952A42C0-E06A-400D
 -BAE7-1F26DE702556&match=739
DTSTART;TZID=Europe/Brussels:20230927T190000
DTEND;TZID=Europe/Brussels:20230927T190000
END:VEVENT
BEGIN:VEVENT
UID:952A42C0-E06A-400D-BAE7-1F26DE702556-17-736_awayreminder@1814.badminton
 ners.net
DTSTAMP:20260420T073717Z
SUMMARY:Uitmatch bevestigd? (Rijkerack 1G (69) - Poona 1G (64))
DESCRIPTION:Je hebt 72 uur na aanvang om een uitmatch op Badmintonvlaandere
 n in te vullen. Match info: Rijkerack 1G (69) - Poona 1G (64) - Link: http
 s://www.badmintonvlaanderen.be/sport/teammatch.aspx?id=952A42C0-E06A-400D-
 BAE7-1F26DE702556&match=736
DTSTART;TZID=Europe/Brussels:20231018T190000
DTEND;TZID=Europe/Brussels:20231018T190000
END:VEVENT
BEGIN:VEVENT
UID:952A42C0-E06A-400D-BAE7-1F26DE702556-17-738_awayreminder@1814.badminton
 ners.net
DTSTAMP:20260420T073717Z
SUMMARY:Uitmatch bevestigd? (Spinshuttle 1G (77) - Poona 1G (64))
DESCRIPTION:Je hebt 72 uur na aanvang om een uitmatch op Badmintonvlaandere
 n in te vullen. Match info: Spinshuttle 1G (77) - Poona 1G (64) - Link: ht
 tps://www.badmintonvlaanderen.be/sport/teammatch.aspx?id=952A42C0-E06A-400
 D-BAE7-1F26DE702556&match=738
DTSTART;TZID=Europe/Brussels:20231124T200000
DTEND;TZID=Europe/Brussels:20231124T200000
END:VEVENT
BEGIN:VEVENT
UID:952A42C0-E06A-400D-BAE7-1F26DE702556-17-737_awayreminder@1814.badminton
 ners.net
DTSTAMP:20260420T073717Z
SUMMARY:Uitmatch bevestigd? (Opslag 1G (74) - Poona 1G (64))
DESCRIPTION:Je hebt 72 uur na aanvang om een uitmatch op Badmintonvlaandere
 n in te vullen. Match info: Opslag 1G (74) - Poona 1G (64) - Link: https:/
 /www.badmintonvlaanderen.be/sport/teammatch.aspx?id=952A42C0-E06A-400D-BAE
 7-1F26DE702556&match=737
DTSTART;TZID=Europe/Brussels:20240306T163000
DTEND;TZID=Europe/Brussels:20240306T163000
END:VEVENT
BEGIN:VEVENT
UID:952A42C0-E06A-400D-BAE7-1F26DE702556-17-735_awayreminder@1814.badminton
 ners.net
DTSTAMP:20260420T073717Z
SUMMARY:Uitmatch bevestigd? (Waverse 1G (70) - Poona 1G (64))
DESCRIPTION:Je hebt 72 uur na aanvang om een uitmatch op Badmintonvlaandere
 n in te vullen. Match info: Waverse 1G (70) - Poona 1G (64) - Link: https:
 //www.badmintonvlaanderen.be/sport/teammatch.aspx?id=952A42C0-E06A-400D-BA
 E7-1F26DE702556&match=735
DTSTART;TZID=Europe/Brussels:20240417T140000
DTEND;TZID=Europe/Brussels:20240417T140000
END:VEVENT
END:VCALENDAR