BEGIN:VCALENDAR
VERSION:2.0
PRODID:spatie/icalendar-generator
NAME:waverse_1g_70_reminders
X-WR-CALNAME:waverse_1g_70_reminders
BEGIN:VTIMEZONE
TZID:Europe/Brussels
BEGIN:DAYLIGHT
DTSTART:20230326T010000
TZOFFSETFROM:+0100
TZOFFSETTO:+0200
END:DAYLIGHT
BEGIN:STANDARD
DTSTART:20231029T030000
TZOFFSETFROM:+0200
TZOFFSETTO:+0100
END:STANDARD
BEGIN:DAYLIGHT
DTSTART:20240331T010000
TZOFFSETFROM:+0100
TZOFFSETTO:+0200
END:DAYLIGHT
END:VTIMEZONE
BEGIN:VTIMEZONE
TZID:UTC
BEGIN:STANDARD
DTSTART:20250724T055127
TZOFFSETFROM:+0000
TZOFFSETTO:+0000
END:STANDARD
END:VTIMEZONE
BEGIN:VEVENT
UID:952A42C0-E06A-400D-BAE7-1F26DE702556-17-730_homereminder@1815.badminton
 ners.net
DTSTAMP:20260420T055127Z
SUMMARY:Thuismatch ingevuld? (Waverse 1G (70) - Spinshuttle 1G (77))
DESCRIPTION:Je hebt 36 uur na aanvang om een thuismatch op Badmintonvlaande
 ren in te vullen. Match info: Waverse 1G (70) - Spinshuttle 1G (77) - Link
 : https://www.badmintonvlaanderen.be/sport/teammatch.aspx?id=952A42C0-E06A
 -400D-BAE7-1F26DE702556&match=730
DTSTART;TZID=Europe/Brussels:20231003T020000
DTEND;TZID=Europe/Brussels:20231003T020000
END:VEVENT
BEGIN:VEVENT
UID:952A42C0-E06A-400D-BAE7-1F26DE702556-17-740_homereminder@1815.badminton
 ners.net
DTSTAMP:20260420T055127Z
SUMMARY:Thuismatch ingevuld? (Waverse 1G (70) - Klein Boom 2G (83))
DESCRIPTION:Je hebt 36 uur na aanvang om een thuismatch op Badmintonvlaande
 ren in te vullen. Match info: Waverse 1G (70) - Klein Boom 2G (83) - Link:
  https://www.badmintonvlaanderen.be/sport/teammatch.aspx?id=952A42C0-E06A-
 400D-BAE7-1F26DE702556&match=740
DTSTART;TZID=Europe/Brussels:20231114T020000
DTEND;TZID=Europe/Brussels:20231114T020000
END:VEVENT
BEGIN:VEVENT
UID:952A42C0-E06A-400D-BAE7-1F26DE702556-17-720_homereminder@1815.badminton
 ners.net
DTSTAMP:20260420T055127Z
SUMMARY:Thuismatch ingevuld? (Waverse 1G (70) - Rijkerack 1G (69))
DESCRIPTION:Je hebt 36 uur na aanvang om een thuismatch op Badmintonvlaande
 ren in te vullen. Match info: Waverse 1G (70) - Rijkerack 1G (69) - Link: 
 https://www.badmintonvlaanderen.be/sport/teammatch.aspx?id=952A42C0-E06A-4
 00D-BAE7-1F26DE702556&match=720
DTSTART;TZID=Europe/Brussels:20231212T020000
DTEND;TZID=Europe/Brussels:20231212T020000
END:VEVENT
BEGIN:VEVENT
UID:952A42C0-E06A-400D-BAE7-1F26DE702556-17-725_homereminder@1815.badminton
 ners.net
DTSTAMP:20260420T055127Z
SUMMARY:Thuismatch ingevuld? (Waverse 1G (70) - Opslag 1G (74))
DESCRIPTION:Je hebt 36 uur na aanvang om een thuismatch op Badmintonvlaande
 ren in te vullen. Match info: Waverse 1G (70) - Opslag 1G (74) - Link: htt
 ps://www.badmintonvlaanderen.be/sport/teammatch.aspx?id=952A42C0-E06A-400D
 -BAE7-1F26DE702556&match=725
DTSTART;TZID=Europe/Brussels:20240319T020000
DTEND;TZID=Europe/Brussels:20240319T020000
END:VEVENT
BEGIN:VEVENT
UID:952A42C0-E06A-400D-BAE7-1F26DE702556-17-735_homereminder@1815.badminton
 ners.net
DTSTAMP:20260420T055127Z
SUMMARY:Thuismatch ingevuld? (Waverse 1G (70) - Poona 1G (64))
DESCRIPTION:Je hebt 36 uur na aanvang om een thuismatch op Badmintonvlaande
 ren in te vullen. Match info: Waverse 1G (70) - Poona 1G (64) - Link: http
 s://www.badmintonvlaanderen.be/sport/teammatch.aspx?id=952A42C0-E06A-400D-
 BAE7-1F26DE702556&match=735
DTSTART;TZID=Europe/Brussels:20240416T020000
DTEND;TZID=Europe/Brussels:20240416T020000
END:VEVENT
BEGIN:VEVENT
UID:952A42C0-E06A-400D-BAE7-1F26DE702556-17-718_awayreminder@1815.badminton
 ners.net
DTSTAMP:20260420T055127Z
SUMMARY:Uitmatch bevestigd? (Poona 1G (64) - Waverse 1G (70))
DESCRIPTION:Je hebt 72 uur na aanvang om een uitmatch op Badmintonvlaandere
 n in te vullen. Match info: Poona 1G (64) - Waverse 1G (70) - Link: https:
 //www.badmintonvlaanderen.be/sport/teammatch.aspx?id=952A42C0-E06A-400D-BA
 E7-1F26DE702556&match=718
DTSTART;TZID=Europe/Brussels:20231019T200000
DTEND;TZID=Europe/Brussels:20231019T200000
END:VEVENT
BEGIN:VEVENT
UID:952A42C0-E06A-400D-BAE7-1F26DE702556-17-716_awayreminder@1815.badminton
 ners.net
DTSTAMP:20260420T055127Z
SUMMARY:Uitmatch bevestigd? (Opslag 1G (74) - Waverse 1G (70))
DESCRIPTION:Je hebt 72 uur na aanvang om een uitmatch op Badmintonvlaandere
 n in te vullen. Match info: Opslag 1G (74) - Waverse 1G (70) - Link: https
 ://www.badmintonvlaanderen.be/sport/teammatch.aspx?id=952A42C0-E06A-400D-B
 AE7-1F26DE702556&match=716
DTSTART;TZID=Europe/Brussels:20231129T191500
DTEND;TZID=Europe/Brussels:20231129T191500
END:VEVENT
BEGIN:VEVENT
UID:952A42C0-E06A-400D-BAE7-1F26DE702556-17-719_awayreminder@1815.badminton
 ners.net
DTSTAMP:20260420T055127Z
SUMMARY:Uitmatch bevestigd? (Klein Boom 2G (83) - Waverse 1G (70))
DESCRIPTION:Je hebt 72 uur na aanvang om een uitmatch op Badmintonvlaandere
 n in te vullen. Match info: Klein Boom 2G (83) - Waverse 1G (70) - Link: h
 ttps://www.badmintonvlaanderen.be/sport/teammatch.aspx?id=952A42C0-E06A-40
 0D-BAE7-1F26DE702556&match=719
DTSTART;TZID=Europe/Brussels:20240124T190000
DTEND;TZID=Europe/Brussels:20240124T190000
END:VEVENT
BEGIN:VEVENT
UID:952A42C0-E06A-400D-BAE7-1F26DE702556-17-715_awayreminder@1815.badminton
 ners.net
DTSTAMP:20260420T055127Z
SUMMARY:Uitmatch bevestigd? (Rijkerack 1G (69) - Waverse 1G (70))
DESCRIPTION:Je hebt 72 uur na aanvang om een uitmatch op Badmintonvlaandere
 n in te vullen. Match info: Rijkerack 1G (69) - Waverse 1G (70) - Link: ht
 tps://www.badmintonvlaanderen.be/sport/teammatch.aspx?id=952A42C0-E06A-400
 D-BAE7-1F26DE702556&match=715
DTSTART;TZID=Europe/Brussels:20240306T190000
DTEND;TZID=Europe/Brussels:20240306T190000
END:VEVENT
BEGIN:VEVENT
UID:952A42C0-E06A-400D-BAE7-1F26DE702556-17-717_awayreminder@1815.badminton
 ners.net
DTSTAMP:20260420T055127Z
SUMMARY:Uitmatch bevestigd? (Spinshuttle 1G (77) - Waverse 1G (70))
DESCRIPTION:Je hebt 72 uur na aanvang om een uitmatch op Badmintonvlaandere
 n in te vullen. Match info: Spinshuttle 1G (77) - Waverse 1G (70) - Link: 
 https://www.badmintonvlaanderen.be/sport/teammatch.aspx?id=952A42C0-E06A-4
 00D-BAE7-1F26DE702556&match=717
DTSTART;TZID=Europe/Brussels:20240315T200000
DTEND;TZID=Europe/Brussels:20240315T200000
END:VEVENT
END:VCALENDAR