BEGIN:VCALENDAR
VERSION:2.0
PRODID:spatie/icalendar-generator
NAME:spinshuttle_1g_77_reminders
X-WR-CALNAME:spinshuttle_1g_77_reminders
BEGIN:VTIMEZONE
TZID:Europe/Brussels
BEGIN:DAYLIGHT
DTSTART:20230326T010000
TZOFFSETFROM:+0100
TZOFFSETTO:+0200
END:DAYLIGHT
BEGIN:STANDARD
DTSTART:20231029T030000
TZOFFSETFROM:+0200
TZOFFSETTO:+0100
END:STANDARD
BEGIN:DAYLIGHT
DTSTART:20240331T010000
TZOFFSETFROM:+0100
TZOFFSETTO:+0200
END:DAYLIGHT
BEGIN:STANDARD
DTSTART:20241027T030000
TZOFFSETFROM:+0200
TZOFFSETTO:+0100
END:STANDARD
END:VTIMEZONE
BEGIN:VTIMEZONE
TZID:UTC
BEGIN:STANDARD
DTSTART:20250724T055211
TZOFFSETFROM:+0000
TZOFFSETTO:+0000
END:STANDARD
END:VTIMEZONE
BEGIN:VEVENT
UID:952A42C0-E06A-400D-BAE7-1F26DE702556-17-722_homereminder@1816.badminton
 ners.net
DTSTAMP:20260420T055211Z
SUMMARY:Thuismatch ingevuld? (Spinshuttle 1G (77) - Rijkerack 1G (69))
DESCRIPTION:Je hebt 36 uur na aanvang om een thuismatch op Badmintonvlaande
 ren in te vullen. Match info: Spinshuttle 1G (77) - Rijkerack 1G (69) - Li
 nk: https://www.badmintonvlaanderen.be/sport/teammatch.aspx?id=952A42C0-E0
 6A-400D-BAE7-1F26DE702556&match=722
DTSTART;TZID=Europe/Brussels:20231026T080000
DTEND;TZID=Europe/Brussels:20231026T080000
END:VEVENT
BEGIN:VEVENT
UID:952A42C0-E06A-400D-BAE7-1F26DE702556-17-738_homereminder@1816.badminton
 ners.net
DTSTAMP:20260420T055211Z
SUMMARY:Thuismatch ingevuld? (Spinshuttle 1G (77) - Poona 1G (64))
DESCRIPTION:Je hebt 36 uur na aanvang om een thuismatch op Badmintonvlaande
 ren in te vullen. Match info: Spinshuttle 1G (77) - Poona 1G (64) - Link: 
 https://www.badmintonvlaanderen.be/sport/teammatch.aspx?id=952A42C0-E06A-4
 00D-BAE7-1F26DE702556&match=738
DTSTART;TZID=Europe/Brussels:20231123T080000
DTEND;TZID=Europe/Brussels:20231123T080000
END:VEVENT
BEGIN:VEVENT
UID:952A42C0-E06A-400D-BAE7-1F26DE702556-17-727_homereminder@1816.badminton
 ners.net
DTSTAMP:20260420T055211Z
SUMMARY:Thuismatch ingevuld? (Spinshuttle 1G (77) - Opslag 1G (74))
DESCRIPTION:Je hebt 36 uur na aanvang om een thuismatch op Badmintonvlaande
 ren in te vullen. Match info: Spinshuttle 1G (77) - Opslag 1G (74) - Link:
  https://www.badmintonvlaanderen.be/sport/teammatch.aspx?id=952A42C0-E06A-
 400D-BAE7-1F26DE702556&match=727
DTSTART;TZID=Europe/Brussels:20240201T080000
DTEND;TZID=Europe/Brussels:20240201T080000
END:VEVENT
BEGIN:VEVENT
UID:952A42C0-E06A-400D-BAE7-1F26DE702556-17-743_homereminder@1816.badminton
 ners.net
DTSTAMP:20260420T055211Z
SUMMARY:Thuismatch ingevuld? (Spinshuttle 1G (77) - Klein Boom 2G (83))
DESCRIPTION:Je hebt 36 uur na aanvang om een thuismatch op Badmintonvlaande
 ren in te vullen. Match info: Spinshuttle 1G (77) - Klein Boom 2G (83) - L
 ink: https://www.badmintonvlaanderen.be/sport/teammatch.aspx?id=952A42C0-E
 06A-400D-BAE7-1F26DE702556&match=743
DTSTART;TZID=Europe/Brussels:20240229T080000
DTEND;TZID=Europe/Brussels:20240229T080000
END:VEVENT
BEGIN:VEVENT
UID:952A42C0-E06A-400D-BAE7-1F26DE702556-17-717_homereminder@1816.badminton
 ners.net
DTSTAMP:20260420T055211Z
SUMMARY:Thuismatch ingevuld? (Spinshuttle 1G (77) - Waverse 1G (70))
DESCRIPTION:Je hebt 36 uur na aanvang om een thuismatch op Badmintonvlaande
 ren in te vullen. Match info: Spinshuttle 1G (77) - Waverse 1G (70) - Link
 : https://www.badmintonvlaanderen.be/sport/teammatch.aspx?id=952A42C0-E06A
 -400D-BAE7-1F26DE702556&match=717
DTSTART;TZID=Europe/Brussels:20240314T080000
DTEND;TZID=Europe/Brussels:20240314T080000
END:VEVENT
BEGIN:VEVENT
UID:952A42C0-E06A-400D-BAE7-1F26DE702556-17-730_awayreminder@1816.badminton
 ners.net
DTSTAMP:20260420T055211Z
SUMMARY:Uitmatch bevestigd? (Waverse 1G (70) - Spinshuttle 1G (77))
DESCRIPTION:Je hebt 72 uur na aanvang om een uitmatch op Badmintonvlaandere
 n in te vullen. Match info: Waverse 1G (70) - Spinshuttle 1G (77) - Link: 
 https://www.badmintonvlaanderen.be/sport/teammatch.aspx?id=952A42C0-E06A-4
 00D-BAE7-1F26DE702556&match=730
DTSTART;TZID=Europe/Brussels:20231004T140000
DTEND;TZID=Europe/Brussels:20231004T140000
END:VEVENT
BEGIN:VEVENT
UID:952A42C0-E06A-400D-BAE7-1F26DE702556-17-732_awayreminder@1816.badminton
 ners.net
DTSTAMP:20260420T055211Z
SUMMARY:Uitmatch bevestigd? (Opslag 1G (74) - Spinshuttle 1G (77))
DESCRIPTION:Je hebt 72 uur na aanvang om een uitmatch op Badmintonvlaandere
 n in te vullen. Match info: Opslag 1G (74) - Spinshuttle 1G (77) - Link: h
 ttps://www.badmintonvlaanderen.be/sport/teammatch.aspx?id=952A42C0-E06A-40
 0D-BAE7-1F26DE702556&match=732
DTSTART;TZID=Europe/Brussels:20231018T191500
DTEND;TZID=Europe/Brussels:20231018T191500
END:VEVENT
BEGIN:VEVENT
UID:952A42C0-E06A-400D-BAE7-1F26DE702556-17-734_awayreminder@1816.badminton
 ners.net
DTSTAMP:20260420T055211Z
SUMMARY:Uitmatch bevestigd? (Klein Boom 2G (83) - Spinshuttle 1G (77))
DESCRIPTION:Je hebt 72 uur na aanvang om een uitmatch op Badmintonvlaandere
 n in te vullen. Match info: Klein Boom 2G (83) - Spinshuttle 1G (77) - Lin
 k: https://www.badmintonvlaanderen.be/sport/teammatch.aspx?id=952A42C0-E06
 A-400D-BAE7-1F26DE702556&match=734
DTSTART;TZID=Europe/Brussels:20231213T190000
DTEND;TZID=Europe/Brussels:20231213T190000
END:VEVENT
BEGIN:VEVENT
UID:952A42C0-E06A-400D-BAE7-1F26DE702556-17-733_awayreminder@1816.badminton
 ners.net
DTSTAMP:20260420T055211Z
SUMMARY:Uitmatch bevestigd? (Poona 1G (64) - Spinshuttle 1G (77))
DESCRIPTION:Je hebt 72 uur na aanvang om een uitmatch op Badmintonvlaandere
 n in te vullen. Match info: Poona 1G (64) - Spinshuttle 1G (77) - Link: ht
 tps://www.badmintonvlaanderen.be/sport/teammatch.aspx?id=952A42C0-E06A-400
 D-BAE7-1F26DE702556&match=733
DTSTART;TZID=Europe/Brussels:20240425T200000
DTEND;TZID=Europe/Brussels:20240425T200000
END:VEVENT
BEGIN:VEVENT
UID:952A42C0-E06A-400D-BAE7-1F26DE702556-17-731_awayreminder@1816.badminton
 ners.net
DTSTAMP:20260420T055211Z
SUMMARY:Uitmatch bevestigd? (Rijkerack 1G (69) - Spinshuttle 1G (77))
DESCRIPTION:Je hebt 72 uur na aanvang om een uitmatch op Badmintonvlaandere
 n in te vullen. Match info: Rijkerack 1G (69) - Spinshuttle 1G (77) - Link
 : https://www.badmintonvlaanderen.be/sport/teammatch.aspx?id=952A42C0-E06A
 -400D-BAE7-1F26DE702556&match=731
DTSTART;TZID=Europe/Brussels:20240501T190000
DTEND;TZID=Europe/Brussels:20240501T190000
END:VEVENT
END:VCALENDAR