BEGIN:VCALENDAR
VERSION:2.0
PRODID:spatie/icalendar-generator
NAME:klein_boom_2g_83_reminders
X-WR-CALNAME:klein_boom_2g_83_reminders
BEGIN:VTIMEZONE
TZID:Europe/Brussels
BEGIN:DAYLIGHT
DTSTART:20230326T010000
TZOFFSETFROM:+0100
TZOFFSETTO:+0200
END:DAYLIGHT
BEGIN:STANDARD
DTSTART:20231029T030000
TZOFFSETFROM:+0200
TZOFFSETTO:+0100
END:STANDARD
BEGIN:DAYLIGHT
DTSTART:20240331T010000
TZOFFSETFROM:+0100
TZOFFSETTO:+0200
END:DAYLIGHT
BEGIN:STANDARD
DTSTART:20241027T030000
TZOFFSETFROM:+0200
TZOFFSETTO:+0100
END:STANDARD
END:VTIMEZONE
BEGIN:VTIMEZONE
TZID:UTC
BEGIN:STANDARD
DTSTART:20250724T055211
TZOFFSETFROM:+0000
TZOFFSETTO:+0000
END:STANDARD
END:VTIMEZONE
BEGIN:VEVENT
UID:952A42C0-E06A-400D-BAE7-1F26DE702556-17-739_homereminder@1819.badminton
 ners.net
DTSTAMP:20260420T055211Z
SUMMARY:Thuismatch ingevuld? (Klein Boom 2G (83) - Poona 1G (64))
DESCRIPTION:Je hebt 36 uur na aanvang om een thuismatch op Badmintonvlaande
 ren in te vullen. Match info: Klein Boom 2G (83) - Poona 1G (64) - Link: h
 ttps://www.badmintonvlaanderen.be/sport/teammatch.aspx?id=952A42C0-E06A-40
 0D-BAE7-1F26DE702556&match=739
DTSTART;TZID=Europe/Brussels:20230926T070000
DTEND;TZID=Europe/Brussels:20230926T070000
END:VEVENT
BEGIN:VEVENT
UID:952A42C0-E06A-400D-BAE7-1F26DE702556-17-734_homereminder@1819.badminton
 ners.net
DTSTAMP:20260420T055211Z
SUMMARY:Thuismatch ingevuld? (Klein Boom 2G (83) - Spinshuttle 1G (77))
DESCRIPTION:Je hebt 36 uur na aanvang om een thuismatch op Badmintonvlaande
 ren in te vullen. Match info: Klein Boom 2G (83) - Spinshuttle 1G (77) - L
 ink: https://www.badmintonvlaanderen.be/sport/teammatch.aspx?id=952A42C0-E
 06A-400D-BAE7-1F26DE702556&match=734
DTSTART;TZID=Europe/Brussels:20231212T070000
DTEND;TZID=Europe/Brussels:20231212T070000
END:VEVENT
BEGIN:VEVENT
UID:952A42C0-E06A-400D-BAE7-1F26DE702556-17-719_homereminder@1819.badminton
 ners.net
DTSTAMP:20260420T055211Z
SUMMARY:Thuismatch ingevuld? (Klein Boom 2G (83) - Waverse 1G (70))
DESCRIPTION:Je hebt 36 uur na aanvang om een thuismatch op Badmintonvlaande
 ren in te vullen. Match info: Klein Boom 2G (83) - Waverse 1G (70) - Link:
  https://www.badmintonvlaanderen.be/sport/teammatch.aspx?id=952A42C0-E06A-
 400D-BAE7-1F26DE702556&match=719
DTSTART;TZID=Europe/Brussels:20240123T070000
DTEND;TZID=Europe/Brussels:20240123T070000
END:VEVENT
BEGIN:VEVENT
UID:952A42C0-E06A-400D-BAE7-1F26DE702556-17-724_homereminder@1819.badminton
 ners.net
DTSTAMP:20260420T055211Z
SUMMARY:Thuismatch ingevuld? (Klein Boom 2G (83) - Rijkerack 1G (69))
DESCRIPTION:Je hebt 36 uur na aanvang om een thuismatch op Badmintonvlaande
 ren in te vullen. Match info: Klein Boom 2G (83) - Rijkerack 1G (69) - Lin
 k: https://www.badmintonvlaanderen.be/sport/teammatch.aspx?id=952A42C0-E06
 A-400D-BAE7-1F26DE702556&match=724
DTSTART;TZID=Europe/Brussels:20240319T070000
DTEND;TZID=Europe/Brussels:20240319T070000
END:VEVENT
BEGIN:VEVENT
UID:952A42C0-E06A-400D-BAE7-1F26DE702556-17-729_homereminder@1819.badminton
 ners.net
DTSTAMP:20260420T055211Z
SUMMARY:Thuismatch ingevuld? (Klein Boom 2G (83) - Opslag 1G (74))
DESCRIPTION:Je hebt 36 uur na aanvang om een thuismatch op Badmintonvlaande
 ren in te vullen. Match info: Klein Boom 2G (83) - Opslag 1G (74) - Link: 
 https://www.badmintonvlaanderen.be/sport/teammatch.aspx?id=952A42C0-E06A-4
 00D-BAE7-1F26DE702556&match=729
DTSTART;TZID=Europe/Brussels:20240430T070000
DTEND;TZID=Europe/Brussels:20240430T070000
END:VEVENT
BEGIN:VEVENT
UID:952A42C0-E06A-400D-BAE7-1F26DE702556-17-742_awayreminder@1819.badminton
 ners.net
DTSTAMP:20260420T055211Z
SUMMARY:Uitmatch bevestigd? (Opslag 1G (74) - Klein Boom 2G (83))
DESCRIPTION:Je hebt 72 uur na aanvang om een uitmatch op Badmintonvlaandere
 n in te vullen. Match info: Opslag 1G (74) - Klein Boom 2G (83) - Link: ht
 tps://www.badmintonvlaanderen.be/sport/teammatch.aspx?id=952A42C0-E06A-400
 D-BAE7-1F26DE702556&match=742
DTSTART;TZID=Europe/Brussels:20231101T163000
DTEND;TZID=Europe/Brussels:20231101T163000
END:VEVENT
BEGIN:VEVENT
UID:952A42C0-E06A-400D-BAE7-1F26DE702556-17-740_awayreminder@1819.badminton
 ners.net
DTSTAMP:20260420T055211Z
SUMMARY:Uitmatch bevestigd? (Waverse 1G (70) - Klein Boom 2G (83))
DESCRIPTION:Je hebt 72 uur na aanvang om een uitmatch op Badmintonvlaandere
 n in te vullen. Match info: Waverse 1G (70) - Klein Boom 2G (83) - Link: h
 ttps://www.badmintonvlaanderen.be/sport/teammatch.aspx?id=952A42C0-E06A-40
 0D-BAE7-1F26DE702556&match=740
DTSTART;TZID=Europe/Brussels:20231115T140000
DTEND;TZID=Europe/Brussels:20231115T140000
END:VEVENT
BEGIN:VEVENT
UID:952A42C0-E06A-400D-BAE7-1F26DE702556-17-741_awayreminder@1819.badminton
 ners.net
DTSTAMP:20260420T055211Z
SUMMARY:Uitmatch bevestigd? (Rijkerack 1G (69) - Klein Boom 2G (83))
DESCRIPTION:Je hebt 72 uur na aanvang om een uitmatch op Badmintonvlaandere
 n in te vullen. Match info: Rijkerack 1G (69) - Klein Boom 2G (83) - Link:
  https://www.badmintonvlaanderen.be/sport/teammatch.aspx?id=952A42C0-E06A-
 400D-BAE7-1F26DE702556&match=741
DTSTART;TZID=Europe/Brussels:20231129T190000
DTEND;TZID=Europe/Brussels:20231129T190000
END:VEVENT
BEGIN:VEVENT
UID:952A42C0-E06A-400D-BAE7-1F26DE702556-17-744_awayreminder@1819.badminton
 ners.net
DTSTAMP:20260420T055211Z
SUMMARY:Uitmatch bevestigd? (Poona 1G (64) - Klein Boom 2G (83))
DESCRIPTION:Je hebt 72 uur na aanvang om een uitmatch op Badmintonvlaandere
 n in te vullen. Match info: Poona 1G (64) - Klein Boom 2G (83) - Link: htt
 ps://www.badmintonvlaanderen.be/sport/teammatch.aspx?id=952A42C0-E06A-400D
 -BAE7-1F26DE702556&match=744
DTSTART;TZID=Europe/Brussels:20240111T200000
DTEND;TZID=Europe/Brussels:20240111T200000
END:VEVENT
BEGIN:VEVENT
UID:952A42C0-E06A-400D-BAE7-1F26DE702556-17-743_awayreminder@1819.badminton
 ners.net
DTSTAMP:20260420T055211Z
SUMMARY:Uitmatch bevestigd? (Spinshuttle 1G (77) - Klein Boom 2G (83))
DESCRIPTION:Je hebt 72 uur na aanvang om een uitmatch op Badmintonvlaandere
 n in te vullen. Match info: Spinshuttle 1G (77) - Klein Boom 2G (83) - Lin
 k: https://www.badmintonvlaanderen.be/sport/teammatch.aspx?id=952A42C0-E06
 A-400D-BAE7-1F26DE702556&match=743
DTSTART;TZID=Europe/Brussels:20240301T200000
DTEND;TZID=Europe/Brussels:20240301T200000
END:VEVENT
END:VCALENDAR