BEGIN:VCALENDAR
VERSION:2.0
PRODID:spatie/icalendar-generator
NAME:opslag_1g_74_reminders
X-WR-CALNAME:opslag_1g_74_reminders
BEGIN:VTIMEZONE
TZID:Europe/Brussels
BEGIN:DAYLIGHT
DTSTART:20230326T010000
TZOFFSETFROM:+0100
TZOFFSETTO:+0200
END:DAYLIGHT
BEGIN:STANDARD
DTSTART:20231029T030000
TZOFFSETFROM:+0200
TZOFFSETTO:+0100
END:STANDARD
BEGIN:DAYLIGHT
DTSTART:20240331T010000
TZOFFSETFROM:+0100
TZOFFSETTO:+0200
END:DAYLIGHT
BEGIN:STANDARD
DTSTART:20241027T030000
TZOFFSETFROM:+0200
TZOFFSETTO:+0100
END:STANDARD
END:VTIMEZONE
BEGIN:VTIMEZONE
TZID:UTC
BEGIN:STANDARD
DTSTART:20250724T055213
TZOFFSETFROM:+0000
TZOFFSETTO:+0000
END:STANDARD
END:VTIMEZONE
BEGIN:VEVENT
UID:952A42C0-E06A-400D-BAE7-1F26DE702556-17-732_homereminder@1820.badminton
 ners.net
DTSTAMP:20260420T055213Z
SUMMARY:Thuismatch ingevuld? (Opslag 1G (74) - Spinshuttle 1G (77))
DESCRIPTION:Je hebt 36 uur na aanvang om een thuismatch op Badmintonvlaande
 ren in te vullen. Match info: Opslag 1G (74) - Spinshuttle 1G (77) - Link:
  https://www.badmintonvlaanderen.be/sport/teammatch.aspx?id=952A42C0-E06A-
 400D-BAE7-1F26DE702556&match=732
DTSTART;TZID=Europe/Brussels:20231017T071500
DTEND;TZID=Europe/Brussels:20231017T071500
END:VEVENT
BEGIN:VEVENT
UID:952A42C0-E06A-400D-BAE7-1F26DE702556-17-742_homereminder@1820.badminton
 ners.net
DTSTAMP:20260420T055213Z
SUMMARY:Thuismatch ingevuld? (Opslag 1G (74) - Klein Boom 2G (83))
DESCRIPTION:Je hebt 36 uur na aanvang om een thuismatch op Badmintonvlaande
 ren in te vullen. Match info: Opslag 1G (74) - Klein Boom 2G (83) - Link: 
 https://www.badmintonvlaanderen.be/sport/teammatch.aspx?id=952A42C0-E06A-4
 00D-BAE7-1F26DE702556&match=742
DTSTART;TZID=Europe/Brussels:20231031T043000
DTEND;TZID=Europe/Brussels:20231031T043000
END:VEVENT
BEGIN:VEVENT
UID:952A42C0-E06A-400D-BAE7-1F26DE702556-17-716_homereminder@1820.badminton
 ners.net
DTSTAMP:20260420T055213Z
SUMMARY:Thuismatch ingevuld? (Opslag 1G (74) - Waverse 1G (70))
DESCRIPTION:Je hebt 36 uur na aanvang om een thuismatch op Badmintonvlaande
 ren in te vullen. Match info: Opslag 1G (74) - Waverse 1G (70) - Link: htt
 ps://www.badmintonvlaanderen.be/sport/teammatch.aspx?id=952A42C0-E06A-400D
 -BAE7-1F26DE702556&match=716
DTSTART;TZID=Europe/Brussels:20231128T071500
DTEND;TZID=Europe/Brussels:20231128T071500
END:VEVENT
BEGIN:VEVENT
UID:952A42C0-E06A-400D-BAE7-1F26DE702556-17-721_homereminder@1820.badminton
 ners.net
DTSTAMP:20260420T055213Z
SUMMARY:Thuismatch ingevuld? (Opslag 1G (74) - Rijkerack 1G (69))
DESCRIPTION:Je hebt 36 uur na aanvang om een thuismatch op Badmintonvlaande
 ren in te vullen. Match info: Opslag 1G (74) - Rijkerack 1G (69) - Link: h
 ttps://www.badmintonvlaanderen.be/sport/teammatch.aspx?id=952A42C0-E06A-40
 0D-BAE7-1F26DE702556&match=721
DTSTART;TZID=Europe/Brussels:20240123T043000
DTEND;TZID=Europe/Brussels:20240123T043000
END:VEVENT
BEGIN:VEVENT
UID:952A42C0-E06A-400D-BAE7-1F26DE702556-17-737_homereminder@1820.badminton
 ners.net
DTSTAMP:20260420T055213Z
SUMMARY:Thuismatch ingevuld? (Opslag 1G (74) - Poona 1G (64))
DESCRIPTION:Je hebt 36 uur na aanvang om een thuismatch op Badmintonvlaande
 ren in te vullen. Match info: Opslag 1G (74) - Poona 1G (64) - Link: https
 ://www.badmintonvlaanderen.be/sport/teammatch.aspx?id=952A42C0-E06A-400D-B
 AE7-1F26DE702556&match=737
DTSTART;TZID=Europe/Brussels:20240305T043000
DTEND;TZID=Europe/Brussels:20240305T043000
END:VEVENT
BEGIN:VEVENT
UID:952A42C0-E06A-400D-BAE7-1F26DE702556-17-728_awayreminder@1820.badminton
 ners.net
DTSTAMP:20260420T055213Z
SUMMARY:Uitmatch bevestigd? (Poona 1G (64) - Opslag 1G (74))
DESCRIPTION:Je hebt 72 uur na aanvang om een uitmatch op Badmintonvlaandere
 n in te vullen. Match info: Poona 1G (64) - Opslag 1G (74) - Link: https:/
 /www.badmintonvlaanderen.be/sport/teammatch.aspx?id=952A42C0-E06A-400D-BAE
 7-1F26DE702556&match=728
DTSTART;TZID=Europe/Brussels:20230921T200000
DTEND;TZID=Europe/Brussels:20230921T200000
END:VEVENT
BEGIN:VEVENT
UID:952A42C0-E06A-400D-BAE7-1F26DE702556-17-726_awayreminder@1820.badminton
 ners.net
DTSTAMP:20260420T055213Z
SUMMARY:Uitmatch bevestigd? (Rijkerack 1G (69) - Opslag 1G (74))
DESCRIPTION:Je hebt 72 uur na aanvang om een uitmatch op Badmintonvlaandere
 n in te vullen. Match info: Rijkerack 1G (69) - Opslag 1G (74) - Link: htt
 ps://www.badmintonvlaanderen.be/sport/teammatch.aspx?id=952A42C0-E06A-400D
 -BAE7-1F26DE702556&match=726
DTSTART;TZID=Europe/Brussels:20231004T190000
DTEND;TZID=Europe/Brussels:20231004T190000
END:VEVENT
BEGIN:VEVENT
UID:952A42C0-E06A-400D-BAE7-1F26DE702556-17-727_awayreminder@1820.badminton
 ners.net
DTSTAMP:20260420T055213Z
SUMMARY:Uitmatch bevestigd? (Spinshuttle 1G (77) - Opslag 1G (74))
DESCRIPTION:Je hebt 72 uur na aanvang om een uitmatch op Badmintonvlaandere
 n in te vullen. Match info: Spinshuttle 1G (77) - Opslag 1G (74) - Link: h
 ttps://www.badmintonvlaanderen.be/sport/teammatch.aspx?id=952A42C0-E06A-40
 0D-BAE7-1F26DE702556&match=727
DTSTART;TZID=Europe/Brussels:20240202T200000
DTEND;TZID=Europe/Brussels:20240202T200000
END:VEVENT
BEGIN:VEVENT
UID:952A42C0-E06A-400D-BAE7-1F26DE702556-17-725_awayreminder@1820.badminton
 ners.net
DTSTAMP:20260420T055213Z
SUMMARY:Uitmatch bevestigd? (Waverse 1G (70) - Opslag 1G (74))
DESCRIPTION:Je hebt 72 uur na aanvang om een uitmatch op Badmintonvlaandere
 n in te vullen. Match info: Waverse 1G (70) - Opslag 1G (74) - Link: https
 ://www.badmintonvlaanderen.be/sport/teammatch.aspx?id=952A42C0-E06A-400D-B
 AE7-1F26DE702556&match=725
DTSTART;TZID=Europe/Brussels:20240320T140000
DTEND;TZID=Europe/Brussels:20240320T140000
END:VEVENT
BEGIN:VEVENT
UID:952A42C0-E06A-400D-BAE7-1F26DE702556-17-729_awayreminder@1820.badminton
 ners.net
DTSTAMP:20260420T055213Z
SUMMARY:Uitmatch bevestigd? (Klein Boom 2G (83) - Opslag 1G (74))
DESCRIPTION:Je hebt 72 uur na aanvang om een uitmatch op Badmintonvlaandere
 n in te vullen. Match info: Klein Boom 2G (83) - Opslag 1G (74) - Link: ht
 tps://www.badmintonvlaanderen.be/sport/teammatch.aspx?id=952A42C0-E06A-400
 D-BAE7-1F26DE702556&match=729
DTSTART;TZID=Europe/Brussels:20240501T190000
DTEND;TZID=Europe/Brussels:20240501T190000
END:VEVENT
END:VCALENDAR