BEGIN:VCALENDAR
VERSION:2.0
PRODID:spatie/icalendar-generator
NAME:rijkerack_1g_69_reminders
X-WR-CALNAME:rijkerack_1g_69_reminders
BEGIN:VTIMEZONE
TZID:Europe/Brussels
BEGIN:DAYLIGHT
DTSTART:20230326T010000
TZOFFSETFROM:+0100
TZOFFSETTO:+0200
END:DAYLIGHT
BEGIN:STANDARD
DTSTART:20231029T030000
TZOFFSETFROM:+0200
TZOFFSETTO:+0100
END:STANDARD
BEGIN:DAYLIGHT
DTSTART:20240331T010000
TZOFFSETFROM:+0100
TZOFFSETTO:+0200
END:DAYLIGHT
BEGIN:STANDARD
DTSTART:20241027T030000
TZOFFSETFROM:+0200
TZOFFSETTO:+0100
END:STANDARD
END:VTIMEZONE
BEGIN:VTIMEZONE
TZID:UTC
BEGIN:STANDARD
DTSTART:20250724T073655
TZOFFSETFROM:+0000
TZOFFSETTO:+0000
END:STANDARD
END:VTIMEZONE
BEGIN:VEVENT
UID:952A42C0-E06A-400D-BAE7-1F26DE702556-17-726_homereminder@1892.badminton
 ners.net
DTSTAMP:20260420T073655Z
SUMMARY:Thuismatch ingevuld? (Rijkerack 1G (69) - Opslag 1G (74))
DESCRIPTION:Je hebt 36 uur na aanvang om een thuismatch op Badmintonvlaande
 ren in te vullen. Match info: Rijkerack 1G (69) - Opslag 1G (74) - Link: h
 ttps://www.badmintonvlaanderen.be/sport/teammatch.aspx?id=952A42C0-E06A-40
 0D-BAE7-1F26DE702556&match=726
DTSTART;TZID=Europe/Brussels:20231003T070000
DTEND;TZID=Europe/Brussels:20231003T070000
END:VEVENT
BEGIN:VEVENT
UID:952A42C0-E06A-400D-BAE7-1F26DE702556-17-736_homereminder@1892.badminton
 ners.net
DTSTAMP:20260420T073655Z
SUMMARY:Thuismatch ingevuld? (Rijkerack 1G (69) - Poona 1G (64))
DESCRIPTION:Je hebt 36 uur na aanvang om een thuismatch op Badmintonvlaande
 ren in te vullen. Match info: Rijkerack 1G (69) - Poona 1G (64) - Link: ht
 tps://www.badmintonvlaanderen.be/sport/teammatch.aspx?id=952A42C0-E06A-400
 D-BAE7-1F26DE702556&match=736
DTSTART;TZID=Europe/Brussels:20231017T070000
DTEND;TZID=Europe/Brussels:20231017T070000
END:VEVENT
BEGIN:VEVENT
UID:952A42C0-E06A-400D-BAE7-1F26DE702556-17-741_homereminder@1892.badminton
 ners.net
DTSTAMP:20260420T073655Z
SUMMARY:Thuismatch ingevuld? (Rijkerack 1G (69) - Klein Boom 2G (83))
DESCRIPTION:Je hebt 36 uur na aanvang om een thuismatch op Badmintonvlaande
 ren in te vullen. Match info: Rijkerack 1G (69) - Klein Boom 2G (83) - Lin
 k: https://www.badmintonvlaanderen.be/sport/teammatch.aspx?id=952A42C0-E06
 A-400D-BAE7-1F26DE702556&match=741
DTSTART;TZID=Europe/Brussels:20231128T070000
DTEND;TZID=Europe/Brussels:20231128T070000
END:VEVENT
BEGIN:VEVENT
UID:952A42C0-E06A-400D-BAE7-1F26DE702556-17-715_homereminder@1892.badminton
 ners.net
DTSTAMP:20260420T073655Z
SUMMARY:Thuismatch ingevuld? (Rijkerack 1G (69) - Waverse 1G (70))
DESCRIPTION:Je hebt 36 uur na aanvang om een thuismatch op Badmintonvlaande
 ren in te vullen. Match info: Rijkerack 1G (69) - Waverse 1G (70) - Link: 
 https://www.badmintonvlaanderen.be/sport/teammatch.aspx?id=952A42C0-E06A-4
 00D-BAE7-1F26DE702556&match=715
DTSTART;TZID=Europe/Brussels:20240305T070000
DTEND;TZID=Europe/Brussels:20240305T070000
END:VEVENT
BEGIN:VEVENT
UID:952A42C0-E06A-400D-BAE7-1F26DE702556-17-731_homereminder@1892.badminton
 ners.net
DTSTAMP:20260420T073655Z
SUMMARY:Thuismatch ingevuld? (Rijkerack 1G (69) - Spinshuttle 1G (77))
DESCRIPTION:Je hebt 36 uur na aanvang om een thuismatch op Badmintonvlaande
 ren in te vullen. Match info: Rijkerack 1G (69) - Spinshuttle 1G (77) - Li
 nk: https://www.badmintonvlaanderen.be/sport/teammatch.aspx?id=952A42C0-E0
 6A-400D-BAE7-1F26DE702556&match=731
DTSTART;TZID=Europe/Brussels:20240430T070000
DTEND;TZID=Europe/Brussels:20240430T070000
END:VEVENT
BEGIN:VEVENT
UID:952A42C0-E06A-400D-BAE7-1F26DE702556-17-722_awayreminder@1892.badminton
 ners.net
DTSTAMP:20260420T073655Z
SUMMARY:Uitmatch bevestigd? (Spinshuttle 1G (77) - Rijkerack 1G (69))
DESCRIPTION:Je hebt 72 uur na aanvang om een uitmatch op Badmintonvlaandere
 n in te vullen. Match info: Spinshuttle 1G (77) - Rijkerack 1G (69) - Link
 : https://www.badmintonvlaanderen.be/sport/teammatch.aspx?id=952A42C0-E06A
 -400D-BAE7-1F26DE702556&match=722
DTSTART;TZID=Europe/Brussels:20231027T200000
DTEND;TZID=Europe/Brussels:20231027T200000
END:VEVENT
BEGIN:VEVENT
UID:952A42C0-E06A-400D-BAE7-1F26DE702556-17-720_awayreminder@1892.badminton
 ners.net
DTSTAMP:20260420T073655Z
SUMMARY:Uitmatch bevestigd? (Waverse 1G (70) - Rijkerack 1G (69))
DESCRIPTION:Je hebt 72 uur na aanvang om een uitmatch op Badmintonvlaandere
 n in te vullen. Match info: Waverse 1G (70) - Rijkerack 1G (69) - Link: ht
 tps://www.badmintonvlaanderen.be/sport/teammatch.aspx?id=952A42C0-E06A-400
 D-BAE7-1F26DE702556&match=720
DTSTART;TZID=Europe/Brussels:20231213T140000
DTEND;TZID=Europe/Brussels:20231213T140000
END:VEVENT
BEGIN:VEVENT
UID:952A42C0-E06A-400D-BAE7-1F26DE702556-17-721_awayreminder@1892.badminton
 ners.net
DTSTAMP:20260420T073655Z
SUMMARY:Uitmatch bevestigd? (Opslag 1G (74) - Rijkerack 1G (69))
DESCRIPTION:Je hebt 72 uur na aanvang om een uitmatch op Badmintonvlaandere
 n in te vullen. Match info: Opslag 1G (74) - Rijkerack 1G (69) - Link: htt
 ps://www.badmintonvlaanderen.be/sport/teammatch.aspx?id=952A42C0-E06A-400D
 -BAE7-1F26DE702556&match=721
DTSTART;TZID=Europe/Brussels:20240124T163000
DTEND;TZID=Europe/Brussels:20240124T163000
END:VEVENT
BEGIN:VEVENT
UID:952A42C0-E06A-400D-BAE7-1F26DE702556-17-723_awayreminder@1892.badminton
 ners.net
DTSTAMP:20260420T073655Z
SUMMARY:Uitmatch bevestigd? (Poona 1G (64) - Rijkerack 1G (69))
DESCRIPTION:Je hebt 72 uur na aanvang om een uitmatch op Badmintonvlaandere
 n in te vullen. Match info: Poona 1G (64) - Rijkerack 1G (69) - Link: http
 s://www.badmintonvlaanderen.be/sport/teammatch.aspx?id=952A42C0-E06A-400D-
 BAE7-1F26DE702556&match=723
DTSTART;TZID=Europe/Brussels:20240222T200000
DTEND;TZID=Europe/Brussels:20240222T200000
END:VEVENT
BEGIN:VEVENT
UID:952A42C0-E06A-400D-BAE7-1F26DE702556-17-724_awayreminder@1892.badminton
 ners.net
DTSTAMP:20260420T073655Z
SUMMARY:Uitmatch bevestigd? (Klein Boom 2G (83) - Rijkerack 1G (69))
DESCRIPTION:Je hebt 72 uur na aanvang om een uitmatch op Badmintonvlaandere
 n in te vullen. Match info: Klein Boom 2G (83) - Rijkerack 1G (69) - Link:
  https://www.badmintonvlaanderen.be/sport/teammatch.aspx?id=952A42C0-E06A-
 400D-BAE7-1F26DE702556&match=724
DTSTART;TZID=Europe/Brussels:20240320T190000
DTEND;TZID=Europe/Brussels:20240320T190000
END:VEVENT
END:VCALENDAR