BEGIN:VCALENDAR
VERSION:2.0
PRODID:spatie/icalendar-generator
NAME:de_nekker_2g_86_reminders
X-WR-CALNAME:de_nekker_2g_86_reminders
BEGIN:VTIMEZONE
TZID:Europe/Brussels
BEGIN:DAYLIGHT
DTSTART:20230326T010000
TZOFFSETFROM:+0100
TZOFFSETTO:+0200
END:DAYLIGHT
BEGIN:STANDARD
DTSTART:20231029T030000
TZOFFSETFROM:+0200
TZOFFSETTO:+0100
END:STANDARD
BEGIN:DAYLIGHT
DTSTART:20240331T010000
TZOFFSETFROM:+0100
TZOFFSETTO:+0200
END:DAYLIGHT
END:VTIMEZONE
BEGIN:VTIMEZONE
TZID:UTC
BEGIN:STANDARD
DTSTART:20250724T055213
TZOFFSETFROM:+0000
TZOFFSETTO:+0000
END:STANDARD
END:VTIMEZONE
BEGIN:VEVENT
UID:952A42C0-E06A-400D-BAE7-1F26DE702556-20-887_homereminder@1921.badminton
 ners.net
DTSTAMP:20260420T055213Z
SUMMARY:Thuismatch ingevuld? (De Nekker 2G (86) - Klein Boom 3G (89))
DESCRIPTION:Je hebt 36 uur na aanvang om een thuismatch op Badmintonvlaande
 ren in te vullen. Match info: De Nekker 2G (86) - Klein Boom 3G (89) - Lin
 k: https://www.badmintonvlaanderen.be/sport/teammatch.aspx?id=952A42C0-E06
 A-400D-BAE7-1F26DE702556&match=887
DTSTART;TZID=Europe/Brussels:20230929T083000
DTEND;TZID=Europe/Brussels:20230929T083000
END:VEVENT
BEGIN:VEVENT
UID:952A42C0-E06A-400D-BAE7-1F26DE702556-20-906_homereminder@1921.badminton
 ners.net
DTSTAMP:20260420T055213Z
SUMMARY:Thuismatch ingevuld? (De Nekker 2G (86) - Huirtuits Dropke 3G (90))
DESCRIPTION:Je hebt 36 uur na aanvang om een thuismatch op Badmintonvlaande
 ren in te vullen. Match info: De Nekker 2G (86) - Huirtuits Dropke 3G (90)
  - Link: https://www.badmintonvlaanderen.be/sport/teammatch.aspx?id=952A42
 C0-E06A-400D-BAE7-1F26DE702556&match=906
DTSTART;TZID=Europe/Brussels:20231110T083000
DTEND;TZID=Europe/Brussels:20231110T083000
END:VEVENT
BEGIN:VEVENT
UID:952A42C0-E06A-400D-BAE7-1F26DE702556-20-875_homereminder@1921.badminton
 ners.net
DTSTAMP:20260420T055213Z
SUMMARY:Thuismatch ingevuld? (De Nekker 2G (86) - Smash 1G (95))
DESCRIPTION:Je hebt 36 uur na aanvang om een thuismatch op Badmintonvlaande
 ren in te vullen. Match info: De Nekker 2G (86) - Smash 1G (95) - Link: ht
 tps://www.badmintonvlaanderen.be/sport/teammatch.aspx?id=952A42C0-E06A-400
 D-BAE7-1F26DE702556&match=875
DTSTART;TZID=Europe/Brussels:20231222T083000
DTEND;TZID=Europe/Brussels:20231222T083000
END:VEVENT
BEGIN:VEVENT
UID:952A42C0-E06A-400D-BAE7-1F26DE702556-20-869_homereminder@1921.badminton
 ners.net
DTSTAMP:20260420T055213Z
SUMMARY:Thuismatch ingevuld? (De Nekker 2G (86) - Herentals 2G (87))
DESCRIPTION:Je hebt 36 uur na aanvang om een thuismatch op Badmintonvlaande
 ren in te vullen. Match info: De Nekker 2G (86) - Herentals 2G (87) - Link
 : https://www.badmintonvlaanderen.be/sport/teammatch.aspx?id=952A42C0-E06A
 -400D-BAE7-1F26DE702556&match=869
DTSTART;TZID=Europe/Brussels:20240126T083000
DTEND;TZID=Europe/Brussels:20240126T083000
END:VEVENT
BEGIN:VEVENT
UID:952A42C0-E06A-400D-BAE7-1F26DE702556-20-881_homereminder@1921.badminton
 ners.net
DTSTAMP:20260420T055213Z
SUMMARY:Thuismatch ingevuld? (De Nekker 2G (86) - Berlaar 1G (89))
DESCRIPTION:Je hebt 36 uur na aanvang om een thuismatch op Badmintonvlaande
 ren in te vullen. Match info: De Nekker 2G (86) - Berlaar 1G (89) - Link: 
 https://www.badmintonvlaanderen.be/sport/teammatch.aspx?id=952A42C0-E06A-4
 00D-BAE7-1F26DE702556&match=881
DTSTART;TZID=Europe/Brussels:20240209T083000
DTEND;TZID=Europe/Brussels:20240209T083000
END:VEVENT
BEGIN:VEVENT
UID:952A42C0-E06A-400D-BAE7-1F26DE702556-20-893_homereminder@1921.badminton
 ners.net
DTSTAMP:20260420T055213Z
SUMMARY:Thuismatch ingevuld? (De Nekker 2G (86) - Spinshuttle 3G (95))
DESCRIPTION:Je hebt 36 uur na aanvang om een thuismatch op Badmintonvlaande
 ren in te vullen. Match info: De Nekker 2G (86) - Spinshuttle 3G (95) - Li
 nk: https://www.badmintonvlaanderen.be/sport/teammatch.aspx?id=952A42C0-E0
 6A-400D-BAE7-1F26DE702556&match=893
DTSTART;TZID=Europe/Brussels:20240301T083000
DTEND;TZID=Europe/Brussels:20240301T083000
END:VEVENT
BEGIN:VEVENT
UID:952A42C0-E06A-400D-BAE7-1F26DE702556-20-899_awayreminder@1921.badminton
 ners.net
DTSTAMP:20260420T055213Z
SUMMARY:Uitmatch bevestigd? (Spinshuttle 3G (95) - De Nekker 2G (86))
DESCRIPTION:Je hebt 72 uur na aanvang om een uitmatch op Badmintonvlaandere
 n in te vullen. Match info: Spinshuttle 3G (95) - De Nekker 2G (86) - Link
 : https://www.badmintonvlaanderen.be/sport/teammatch.aspx?id=952A42C0-E06A
 -400D-BAE7-1F26DE702556&match=899
DTSTART;TZID=Europe/Brussels:20231013T200000
DTEND;TZID=Europe/Brussels:20231013T200000
END:VEVENT
BEGIN:VEVENT
UID:952A42C0-E06A-400D-BAE7-1F26DE702556-20-895_awayreminder@1921.badminton
 ners.net
DTSTAMP:20260420T055213Z
SUMMARY:Uitmatch bevestigd? (Herentals 2G (87) - De Nekker 2G (86))
DESCRIPTION:Je hebt 72 uur na aanvang om een uitmatch op Badmintonvlaandere
 n in te vullen. Match info: Herentals 2G (87) - De Nekker 2G (86) - Link: 
 https://www.badmintonvlaanderen.be/sport/teammatch.aspx?id=952A42C0-E06A-4
 00D-BAE7-1F26DE702556&match=895
DTSTART;TZID=Europe/Brussels:20231126T210000
DTEND;TZID=Europe/Brussels:20231126T210000
END:VEVENT
BEGIN:VEVENT
UID:952A42C0-E06A-400D-BAE7-1F26DE702556-20-897_awayreminder@1921.badminton
 ners.net
DTSTAMP:20260420T055213Z
SUMMARY:Uitmatch bevestigd? (Berlaar 1G (89) - De Nekker 2G (86))
DESCRIPTION:Je hebt 72 uur na aanvang om een uitmatch op Badmintonvlaandere
 n in te vullen. Match info: Berlaar 1G (89) - De Nekker 2G (86) - Link: ht
 tps://www.badmintonvlaanderen.be/sport/teammatch.aspx?id=952A42C0-E06A-400
 D-BAE7-1F26DE702556&match=897
DTSTART;TZID=Europe/Brussels:20231213T100000
DTEND;TZID=Europe/Brussels:20231213T100000
END:VEVENT
BEGIN:VEVENT
UID:952A42C0-E06A-400D-BAE7-1F26DE702556-20-896_awayreminder@1921.badminton
 ners.net
DTSTAMP:20260420T055213Z
SUMMARY:Uitmatch bevestigd? (Smash 1G (95) - De Nekker 2G (86))
DESCRIPTION:Je hebt 72 uur na aanvang om een uitmatch op Badmintonvlaandere
 n in te vullen. Match info: Smash 1G (95) - De Nekker 2G (86) - Link: http
 s://www.badmintonvlaanderen.be/sport/teammatch.aspx?id=952A42C0-E06A-400D-
 BAE7-1F26DE702556&match=896
DTSTART;TZID=Europe/Brussels:20240117T100000
DTEND;TZID=Europe/Brussels:20240117T100000
END:VEVENT
BEGIN:VEVENT
UID:952A42C0-E06A-400D-BAE7-1F26DE702556-20-900_awayreminder@1921.badminton
 ners.net
DTSTAMP:20260420T055213Z
SUMMARY:Uitmatch bevestigd? (Huirtuits Dropke 3G (90) - De Nekker 2G (86))
DESCRIPTION:Je hebt 72 uur na aanvang om een uitmatch op Badmintonvlaandere
 n in te vullen. Match info: Huirtuits Dropke 3G (90) - De Nekker 2G (86) -
  Link: https://www.badmintonvlaanderen.be/sport/teammatch.aspx?id=952A42C0
 -E06A-400D-BAE7-1F26DE702556&match=900
DTSTART;TZID=Europe/Brussels:20240202T200000
DTEND;TZID=Europe/Brussels:20240202T200000
END:VEVENT
BEGIN:VEVENT
UID:952A42C0-E06A-400D-BAE7-1F26DE702556-20-898_awayreminder@1921.badminton
 ners.net
DTSTAMP:20260420T055213Z
SUMMARY:Uitmatch bevestigd? (Klein Boom 3G (89) - De Nekker 2G (86))
DESCRIPTION:Je hebt 72 uur na aanvang om een uitmatch op Badmintonvlaandere
 n in te vullen. Match info: Klein Boom 3G (89) - De Nekker 2G (86) - Link:
  https://www.badmintonvlaanderen.be/sport/teammatch.aspx?id=952A42C0-E06A-
 400D-BAE7-1F26DE702556&match=898
DTSTART;TZID=Europe/Brussels:20240221T190000
DTEND;TZID=Europe/Brussels:20240221T190000
END:VEVENT
END:VCALENDAR