BEGIN:VCALENDAR
VERSION:2.0
PRODID:spatie/icalendar-generator
NAME:smash_1g_95_reminders
X-WR-CALNAME:smash_1g_95_reminders
BEGIN:VTIMEZONE
TZID:Europe/Brussels
BEGIN:DAYLIGHT
DTSTART:20230326T010000
TZOFFSETFROM:+0100
TZOFFSETTO:+0200
END:DAYLIGHT
BEGIN:STANDARD
DTSTART:20231029T030000
TZOFFSETFROM:+0200
TZOFFSETTO:+0100
END:STANDARD
BEGIN:DAYLIGHT
DTSTART:20240331T010000
TZOFFSETFROM:+0100
TZOFFSETTO:+0200
END:DAYLIGHT
END:VTIMEZONE
BEGIN:VTIMEZONE
TZID:UTC
BEGIN:STANDARD
DTSTART:20250724T055148
TZOFFSETFROM:+0000
TZOFFSETTO:+0000
END:STANDARD
END:VTIMEZONE
BEGIN:VEVENT
UID:952A42C0-E06A-400D-BAE7-1F26DE702556-20-878_homereminder@1925.badminton
 ners.net
DTSTAMP:20260420T055148Z
SUMMARY:Thuismatch ingevuld? (Smash 1G (95) - Berlaar 1G (89))
DESCRIPTION:Je hebt 36 uur na aanvang om een thuismatch op Badmintonvlaande
 ren in te vullen. Match info: Smash 1G (95) - Berlaar 1G (89) - Link: http
 s://www.badmintonvlaanderen.be/sport/teammatch.aspx?id=952A42C0-E06A-400D-
 BAE7-1F26DE702556&match=878
DTSTART;TZID=Europe/Brussels:20231016T220000
DTEND;TZID=Europe/Brussels:20231016T220000
END:VEVENT
BEGIN:VEVENT
UID:952A42C0-E06A-400D-BAE7-1F26DE702556-20-902_homereminder@1925.badminton
 ners.net
DTSTAMP:20260420T055148Z
SUMMARY:Thuismatch ingevuld? (Smash 1G (95) - Huirtuits Dropke 3G (90))
DESCRIPTION:Je hebt 36 uur na aanvang om een thuismatch op Badmintonvlaande
 ren in te vullen. Match info: Smash 1G (95) - Huirtuits Dropke 3G (90) - L
 ink: https://www.badmintonvlaanderen.be/sport/teammatch.aspx?id=952A42C0-E
 06A-400D-BAE7-1F26DE702556&match=902
DTSTART;TZID=Europe/Brussels:20231021T080000
DTEND;TZID=Europe/Brussels:20231021T080000
END:VEVENT
BEGIN:VEVENT
UID:952A42C0-E06A-400D-BAE7-1F26DE702556-20-890_homereminder@1925.badminton
 ners.net
DTSTAMP:20260420T055148Z
SUMMARY:Thuismatch ingevuld? (Smash 1G (95) - Spinshuttle 3G (95))
DESCRIPTION:Je hebt 36 uur na aanvang om een thuismatch op Badmintonvlaande
 ren in te vullen. Match info: Smash 1G (95) - Spinshuttle 3G (95) - Link: 
 https://www.badmintonvlaanderen.be/sport/teammatch.aspx?id=952A42C0-E06A-4
 00D-BAE7-1F26DE702556&match=890
DTSTART;TZID=Europe/Brussels:20231127T220000
DTEND;TZID=Europe/Brussels:20231127T220000
END:VEVENT
BEGIN:VEVENT
UID:952A42C0-E06A-400D-BAE7-1F26DE702556-20-896_homereminder@1925.badminton
 ners.net
DTSTAMP:20260420T055148Z
SUMMARY:Thuismatch ingevuld? (Smash 1G (95) - De Nekker 2G (86))
DESCRIPTION:Je hebt 36 uur na aanvang om een thuismatch op Badmintonvlaande
 ren in te vullen. Match info: Smash 1G (95) - De Nekker 2G (86) - Link: ht
 tps://www.badmintonvlaanderen.be/sport/teammatch.aspx?id=952A42C0-E06A-400
 D-BAE7-1F26DE702556&match=896
DTSTART;TZID=Europe/Brussels:20240115T220000
DTEND;TZID=Europe/Brussels:20240115T220000
END:VEVENT
BEGIN:VEVENT
UID:952A42C0-E06A-400D-BAE7-1F26DE702556-20-884_homereminder@1925.badminton
 ners.net
DTSTAMP:20260420T055148Z
SUMMARY:Thuismatch ingevuld? (Smash 1G (95) - Klein Boom 3G (89))
DESCRIPTION:Je hebt 36 uur na aanvang om een thuismatch op Badmintonvlaande
 ren in te vullen. Match info: Smash 1G (95) - Klein Boom 3G (89) - Link: h
 ttps://www.badmintonvlaanderen.be/sport/teammatch.aspx?id=952A42C0-E06A-40
 0D-BAE7-1F26DE702556&match=884
DTSTART;TZID=Europe/Brussels:20240205T220000
DTEND;TZID=Europe/Brussels:20240205T220000
END:VEVENT
BEGIN:VEVENT
UID:952A42C0-E06A-400D-BAE7-1F26DE702556-20-865_homereminder@1925.badminton
 ners.net
DTSTAMP:20260420T055148Z
SUMMARY:Thuismatch ingevuld? (Smash 1G (95) - Herentals 2G (87))
DESCRIPTION:Je hebt 36 uur na aanvang om een thuismatch op Badmintonvlaande
 ren in te vullen. Match info: Smash 1G (95) - Herentals 2G (87) - Link: ht
 tps://www.badmintonvlaanderen.be/sport/teammatch.aspx?id=952A42C0-E06A-400
 D-BAE7-1F26DE702556&match=865
DTSTART;TZID=Europe/Brussels:20240219T220000
DTEND;TZID=Europe/Brussels:20240219T220000
END:VEVENT
BEGIN:VEVENT
UID:952A42C0-E06A-400D-BAE7-1F26DE702556-20-871_awayreminder@1925.badminton
 ners.net
DTSTAMP:20260420T055148Z
SUMMARY:Uitmatch bevestigd? (Herentals 2G (87) - Smash 1G (95))
DESCRIPTION:Je hebt 72 uur na aanvang om een uitmatch op Badmintonvlaandere
 n in te vullen. Match info: Herentals 2G (87) - Smash 1G (95) - Link: http
 s://www.badmintonvlaanderen.be/sport/teammatch.aspx?id=952A42C0-E06A-400D-
 BAE7-1F26DE702556&match=871
DTSTART;TZID=Europe/Brussels:20231001T210000
DTEND;TZID=Europe/Brussels:20231001T210000
END:VEVENT
BEGIN:VEVENT
UID:952A42C0-E06A-400D-BAE7-1F26DE702556-20-873_awayreminder@1925.badminton
 ners.net
DTSTAMP:20260420T055148Z
SUMMARY:Uitmatch bevestigd? (Klein Boom 3G (89) - Smash 1G (95))
DESCRIPTION:Je hebt 72 uur na aanvang om een uitmatch op Badmintonvlaandere
 n in te vullen. Match info: Klein Boom 3G (89) - Smash 1G (95) - Link: htt
 ps://www.badmintonvlaanderen.be/sport/teammatch.aspx?id=952A42C0-E06A-400D
 -BAE7-1F26DE702556&match=873
DTSTART;TZID=Europe/Brussels:20231115T190000
DTEND;TZID=Europe/Brussels:20231115T190000
END:VEVENT
BEGIN:VEVENT
UID:952A42C0-E06A-400D-BAE7-1F26DE702556-20-875_awayreminder@1925.badminton
 ners.net
DTSTAMP:20260420T055148Z
SUMMARY:Uitmatch bevestigd? (De Nekker 2G (86) - Smash 1G (95))
DESCRIPTION:Je hebt 72 uur na aanvang om een uitmatch op Badmintonvlaandere
 n in te vullen. Match info: De Nekker 2G (86) - Smash 1G (95) - Link: http
 s://www.badmintonvlaanderen.be/sport/teammatch.aspx?id=952A42C0-E06A-400D-
 BAE7-1F26DE702556&match=875
DTSTART;TZID=Europe/Brussels:20231223T203000
DTEND;TZID=Europe/Brussels:20231223T203000
END:VEVENT
BEGIN:VEVENT
UID:952A42C0-E06A-400D-BAE7-1F26DE702556-20-874_awayreminder@1925.badminton
 ners.net
DTSTAMP:20260420T055148Z
SUMMARY:Uitmatch bevestigd? (Spinshuttle 3G (95) - Smash 1G (95))
DESCRIPTION:Je hebt 72 uur na aanvang om een uitmatch op Badmintonvlaandere
 n in te vullen. Match info: Spinshuttle 3G (95) - Smash 1G (95) - Link: ht
 tps://www.badmintonvlaanderen.be/sport/teammatch.aspx?id=952A42C0-E06A-400
 D-BAE7-1F26DE702556&match=874
DTSTART;TZID=Europe/Brussels:20240119T200000
DTEND;TZID=Europe/Brussels:20240119T200000
END:VEVENT
BEGIN:VEVENT
UID:952A42C0-E06A-400D-BAE7-1F26DE702556-20-872_awayreminder@1925.badminton
 ners.net
DTSTAMP:20260420T055148Z
SUMMARY:Uitmatch bevestigd? (Berlaar 1G (89) - Smash 1G (95))
DESCRIPTION:Je hebt 72 uur na aanvang om een uitmatch op Badmintonvlaandere
 n in te vullen. Match info: Berlaar 1G (89) - Smash 1G (95) - Link: https:
 //www.badmintonvlaanderen.be/sport/teammatch.aspx?id=952A42C0-E06A-400D-BA
 E7-1F26DE702556&match=872
DTSTART;TZID=Europe/Brussels:20240320T100000
DTEND;TZID=Europe/Brussels:20240320T100000
END:VEVENT
BEGIN:VEVENT
UID:952A42C0-E06A-400D-BAE7-1F26DE702556-20-876_awayreminder@1925.badminton
 ners.net
DTSTAMP:20260420T055148Z
SUMMARY:Uitmatch bevestigd? (Huirtuits Dropke 3G (90) - Smash 1G (95))
DESCRIPTION:Je hebt 72 uur na aanvang om een uitmatch op Badmintonvlaandere
 n in te vullen. Match info: Huirtuits Dropke 3G (90) - Smash 1G (95) - Lin
 k: https://www.badmintonvlaanderen.be/sport/teammatch.aspx?id=952A42C0-E06
 A-400D-BAE7-1F26DE702556&match=876
DTSTART;TZID=Europe/Brussels:20240329T200000
DTEND;TZID=Europe/Brussels:20240329T200000
END:VEVENT
END:VCALENDAR