BEGIN:VCALENDAR
VERSION:2.0
PRODID:spatie/icalendar-generator
NAME:spinshuttle_3g_95_reminders
X-WR-CALNAME:spinshuttle_3g_95_reminders
BEGIN:VTIMEZONE
TZID:Europe/Brussels
BEGIN:DAYLIGHT
DTSTART:20230326T010000
TZOFFSETFROM:+0100
TZOFFSETTO:+0200
END:DAYLIGHT
BEGIN:STANDARD
DTSTART:20231029T030000
TZOFFSETFROM:+0200
TZOFFSETTO:+0100
END:STANDARD
BEGIN:DAYLIGHT
DTSTART:20240331T010000
TZOFFSETFROM:+0100
TZOFFSETTO:+0200
END:DAYLIGHT
END:VTIMEZONE
BEGIN:VTIMEZONE
TZID:UTC
BEGIN:STANDARD
DTSTART:20250724T073529
TZOFFSETFROM:+0000
TZOFFSETTO:+0000
END:STANDARD
END:VTIMEZONE
BEGIN:VEVENT
UID:952A42C0-E06A-400D-BAE7-1F26DE702556-20-899_homereminder@1930.badminton
 ners.net
DTSTAMP:20260420T073529Z
SUMMARY:Thuismatch ingevuld? (Spinshuttle 3G (95) - De Nekker 2G (86))
DESCRIPTION:Je hebt 36 uur na aanvang om een thuismatch op Badmintonvlaande
 ren in te vullen. Match info: Spinshuttle 3G (95) - De Nekker 2G (86) - Li
 nk: https://www.badmintonvlaanderen.be/sport/teammatch.aspx?id=952A42C0-E0
 6A-400D-BAE7-1F26DE702556&match=899
DTSTART;TZID=Europe/Brussels:20231012T080000
DTEND;TZID=Europe/Brussels:20231012T080000
END:VEVENT
BEGIN:VEVENT
UID:952A42C0-E06A-400D-BAE7-1F26DE702556-20-868_homereminder@1930.badminton
 ners.net
DTSTAMP:20260420T073529Z
SUMMARY:Thuismatch ingevuld? (Spinshuttle 3G (95) - Herentals 2G (87))
DESCRIPTION:Je hebt 36 uur na aanvang om een thuismatch op Badmintonvlaande
 ren in te vullen. Match info: Spinshuttle 3G (95) - Herentals 2G (87) - Li
 nk: https://www.badmintonvlaanderen.be/sport/teammatch.aspx?id=952A42C0-E0
 6A-400D-BAE7-1F26DE702556&match=868
DTSTART;TZID=Europe/Brussels:20231109T080000
DTEND;TZID=Europe/Brussels:20231109T080000
END:VEVENT
BEGIN:VEVENT
UID:952A42C0-E06A-400D-BAE7-1F26DE702556-20-880_homereminder@1930.badminton
 ners.net
DTSTAMP:20260420T073529Z
SUMMARY:Thuismatch ingevuld? (Spinshuttle 3G (95) - Berlaar 1G (89))
DESCRIPTION:Je hebt 36 uur na aanvang om een thuismatch op Badmintonvlaande
 ren in te vullen. Match info: Spinshuttle 3G (95) - Berlaar 1G (89) - Link
 : https://www.badmintonvlaanderen.be/sport/teammatch.aspx?id=952A42C0-E06A
 -400D-BAE7-1F26DE702556&match=880
DTSTART;TZID=Europe/Brussels:20231221T080000
DTEND;TZID=Europe/Brussels:20231221T080000
END:VEVENT
BEGIN:VEVENT
UID:952A42C0-E06A-400D-BAE7-1F26DE702556-20-874_homereminder@1930.badminton
 ners.net
DTSTAMP:20260420T073529Z
SUMMARY:Thuismatch ingevuld? (Spinshuttle 3G (95) - Smash 1G (95))
DESCRIPTION:Je hebt 36 uur na aanvang om een thuismatch op Badmintonvlaande
 ren in te vullen. Match info: Spinshuttle 3G (95) - Smash 1G (95) - Link: 
 https://www.badmintonvlaanderen.be/sport/teammatch.aspx?id=952A42C0-E06A-4
 00D-BAE7-1F26DE702556&match=874
DTSTART;TZID=Europe/Brussels:20240118T080000
DTEND;TZID=Europe/Brussels:20240118T080000
END:VEVENT
BEGIN:VEVENT
UID:952A42C0-E06A-400D-BAE7-1F26DE702556-20-905_homereminder@1930.badminton
 ners.net
DTSTAMP:20260420T073529Z
SUMMARY:Thuismatch ingevuld? (Spinshuttle 3G (95) - Huirtuits Dropke 3G (90
 ))
DESCRIPTION:Je hebt 36 uur na aanvang om een thuismatch op Badmintonvlaande
 ren in te vullen. Match info: Spinshuttle 3G (95) - Huirtuits Dropke 3G (9
 0) - Link: https://www.badmintonvlaanderen.be/sport/teammatch.aspx?id=952A
 42C0-E06A-400D-BAE7-1F26DE702556&match=905
DTSTART;TZID=Europe/Brussels:20240314T080000
DTEND;TZID=Europe/Brussels:20240314T080000
END:VEVENT
BEGIN:VEVENT
UID:952A42C0-E06A-400D-BAE7-1F26DE702556-20-886_homereminder@1930.badminton
 ners.net
DTSTAMP:20260420T073529Z
SUMMARY:Thuismatch ingevuld? (Spinshuttle 3G (95) - Klein Boom 3G (89))
DESCRIPTION:Je hebt 36 uur na aanvang om een thuismatch op Badmintonvlaande
 ren in te vullen. Match info: Spinshuttle 3G (95) - Klein Boom 3G (89) - L
 ink: https://www.badmintonvlaanderen.be/sport/teammatch.aspx?id=952A42C0-E
 06A-400D-BAE7-1F26DE702556&match=886
DTSTART;TZID=Europe/Brussels:20240328T080000
DTEND;TZID=Europe/Brussels:20240328T080000
END:VEVENT
BEGIN:VEVENT
UID:952A42C0-E06A-400D-BAE7-1F26DE702556-20-892_awayreminder@1930.badminton
 ners.net
DTSTAMP:20260420T073529Z
SUMMARY:Uitmatch bevestigd? (Klein Boom 3G (89) - Spinshuttle 3G (95))
DESCRIPTION:Je hebt 72 uur na aanvang om een uitmatch op Badmintonvlaandere
 n in te vullen. Match info: Klein Boom 3G (89) - Spinshuttle 3G (95) - Lin
 k: https://www.badmintonvlaanderen.be/sport/teammatch.aspx?id=952A42C0-E06
 A-400D-BAE7-1F26DE702556&match=892
DTSTART;TZID=Europe/Brussels:20230920T190000
DTEND;TZID=Europe/Brussels:20230920T190000
END:VEVENT
BEGIN:VEVENT
UID:952A42C0-E06A-400D-BAE7-1F26DE702556-20-894_awayreminder@1930.badminton
 ners.net
DTSTAMP:20260420T073529Z
SUMMARY:Uitmatch bevestigd? (Huirtuits Dropke 3G (90) - Spinshuttle 3G (95)
 )
DESCRIPTION:Je hebt 72 uur na aanvang om een uitmatch op Badmintonvlaandere
 n in te vullen. Match info: Huirtuits Dropke 3G (90) - Spinshuttle 3G (95)
  - Link: https://www.badmintonvlaanderen.be/sport/teammatch.aspx?id=952A42
 C0-E06A-400D-BAE7-1F26DE702556&match=894
DTSTART;TZID=Europe/Brussels:20231006T200000
DTEND;TZID=Europe/Brussels:20231006T200000
END:VEVENT
BEGIN:VEVENT
UID:952A42C0-E06A-400D-BAE7-1F26DE702556-20-890_awayreminder@1930.badminton
 ners.net
DTSTAMP:20260420T073529Z
SUMMARY:Uitmatch bevestigd? (Smash 1G (95) - Spinshuttle 3G (95))
DESCRIPTION:Je hebt 72 uur na aanvang om een uitmatch op Badmintonvlaandere
 n in te vullen. Match info: Smash 1G (95) - Spinshuttle 3G (95) - Link: ht
 tps://www.badmintonvlaanderen.be/sport/teammatch.aspx?id=952A42C0-E06A-400
 D-BAE7-1F26DE702556&match=890
DTSTART;TZID=Europe/Brussels:20231129T100000
DTEND;TZID=Europe/Brussels:20231129T100000
END:VEVENT
BEGIN:VEVENT
UID:952A42C0-E06A-400D-BAE7-1F26DE702556-20-889_awayreminder@1930.badminton
 ners.net
DTSTAMP:20260420T073529Z
SUMMARY:Uitmatch bevestigd? (Herentals 2G (87) - Spinshuttle 3G (95))
DESCRIPTION:Je hebt 72 uur na aanvang om een uitmatch op Badmintonvlaandere
 n in te vullen. Match info: Herentals 2G (87) - Spinshuttle 3G (95) - Link
 : https://www.badmintonvlaanderen.be/sport/teammatch.aspx?id=952A42C0-E06A
 -400D-BAE7-1F26DE702556&match=889
DTSTART;TZID=Europe/Brussels:20240204T210000
DTEND;TZID=Europe/Brussels:20240204T210000
END:VEVENT
BEGIN:VEVENT
UID:952A42C0-E06A-400D-BAE7-1F26DE702556-20-893_awayreminder@1930.badminton
 ners.net
DTSTAMP:20260420T073529Z
SUMMARY:Uitmatch bevestigd? (De Nekker 2G (86) - Spinshuttle 3G (95))
DESCRIPTION:Je hebt 72 uur na aanvang om een uitmatch op Badmintonvlaandere
 n in te vullen. Match info: De Nekker 2G (86) - Spinshuttle 3G (95) - Link
 : https://www.badmintonvlaanderen.be/sport/teammatch.aspx?id=952A42C0-E06A
 -400D-BAE7-1F26DE702556&match=893
DTSTART;TZID=Europe/Brussels:20240302T203000
DTEND;TZID=Europe/Brussels:20240302T203000
END:VEVENT
BEGIN:VEVENT
UID:952A42C0-E06A-400D-BAE7-1F26DE702556-20-891_awayreminder@1930.badminton
 ners.net
DTSTAMP:20260420T073529Z
SUMMARY:Uitmatch bevestigd? (Berlaar 1G (89) - Spinshuttle 3G (95))
DESCRIPTION:Je hebt 72 uur na aanvang om een uitmatch op Badmintonvlaandere
 n in te vullen. Match info: Berlaar 1G (89) - Spinshuttle 3G (95) - Link: 
 https://www.badmintonvlaanderen.be/sport/teammatch.aspx?id=952A42C0-E06A-4
 00D-BAE7-1F26DE702556&match=891
DTSTART;TZID=Europe/Brussels:20240306T100000
DTEND;TZID=Europe/Brussels:20240306T100000
END:VEVENT
END:VCALENDAR