BEGIN:VCALENDAR
VERSION:2.0
PRODID:spatie/icalendar-generator
NAME:klein_boom_3g_89_reminders
X-WR-CALNAME:klein_boom_3g_89_reminders
BEGIN:VTIMEZONE
TZID:Europe/Brussels
BEGIN:DAYLIGHT
DTSTART:20230326T010000
TZOFFSETFROM:+0100
TZOFFSETTO:+0200
END:DAYLIGHT
BEGIN:STANDARD
DTSTART:20231029T030000
TZOFFSETFROM:+0200
TZOFFSETTO:+0100
END:STANDARD
BEGIN:DAYLIGHT
DTSTART:20240331T010000
TZOFFSETFROM:+0100
TZOFFSETTO:+0200
END:DAYLIGHT
END:VTIMEZONE
BEGIN:VTIMEZONE
TZID:UTC
BEGIN:STANDARD
DTSTART:20250724T073655
TZOFFSETFROM:+0000
TZOFFSETTO:+0000
END:STANDARD
END:VTIMEZONE
BEGIN:VEVENT
UID:952A42C0-E06A-400D-BAE7-1F26DE702556-20-892_homereminder@1934.badminton
 ners.net
DTSTAMP:20260420T073655Z
SUMMARY:Thuismatch ingevuld? (Klein Boom 3G (89) - Spinshuttle 3G (95))
DESCRIPTION:Je hebt 36 uur na aanvang om een thuismatch op Badmintonvlaande
 ren in te vullen. Match info: Klein Boom 3G (89) - Spinshuttle 3G (95) - L
 ink: https://www.badmintonvlaanderen.be/sport/teammatch.aspx?id=952A42C0-E
 06A-400D-BAE7-1F26DE702556&match=892
DTSTART;TZID=Europe/Brussels:20230919T070000
DTEND;TZID=Europe/Brussels:20230919T070000
END:VEVENT
BEGIN:VEVENT
UID:952A42C0-E06A-400D-BAE7-1F26DE702556-20-904_homereminder@1934.badminton
 ners.net
DTSTAMP:20260420T073655Z
SUMMARY:Thuismatch ingevuld? (Klein Boom 3G (89) - Huirtuits Dropke 3G (90)
 )
DESCRIPTION:Je hebt 36 uur na aanvang om een thuismatch op Badmintonvlaande
 ren in te vullen. Match info: Klein Boom 3G (89) - Huirtuits Dropke 3G (90
 ) - Link: https://www.badmintonvlaanderen.be/sport/teammatch.aspx?id=952A4
 2C0-E06A-400D-BAE7-1F26DE702556&match=904
DTSTART;TZID=Europe/Brussels:20231010T070000
DTEND;TZID=Europe/Brussels:20231010T070000
END:VEVENT
BEGIN:VEVENT
UID:952A42C0-E06A-400D-BAE7-1F26DE702556-20-873_homereminder@1934.badminton
 ners.net
DTSTAMP:20260420T073655Z
SUMMARY:Thuismatch ingevuld? (Klein Boom 3G (89) - Smash 1G (95))
DESCRIPTION:Je hebt 36 uur na aanvang om een thuismatch op Badmintonvlaande
 ren in te vullen. Match info: Klein Boom 3G (89) - Smash 1G (95) - Link: h
 ttps://www.badmintonvlaanderen.be/sport/teammatch.aspx?id=952A42C0-E06A-40
 0D-BAE7-1F26DE702556&match=873
DTSTART;TZID=Europe/Brussels:20231114T070000
DTEND;TZID=Europe/Brussels:20231114T070000
END:VEVENT
BEGIN:VEVENT
UID:952A42C0-E06A-400D-BAE7-1F26DE702556-20-879_homereminder@1934.badminton
 ners.net
DTSTAMP:20260420T073655Z
SUMMARY:Thuismatch ingevuld? (Klein Boom 3G (89) - Berlaar 1G (89))
DESCRIPTION:Je hebt 36 uur na aanvang om een thuismatch op Badmintonvlaande
 ren in te vullen. Match info: Klein Boom 3G (89) - Berlaar 1G (89) - Link:
  https://www.badmintonvlaanderen.be/sport/teammatch.aspx?id=952A42C0-E06A-
 400D-BAE7-1F26DE702556&match=879
DTSTART;TZID=Europe/Brussels:20240123T070000
DTEND;TZID=Europe/Brussels:20240123T070000
END:VEVENT
BEGIN:VEVENT
UID:952A42C0-E06A-400D-BAE7-1F26DE702556-20-898_homereminder@1934.badminton
 ners.net
DTSTAMP:20260420T073655Z
SUMMARY:Thuismatch ingevuld? (Klein Boom 3G (89) - De Nekker 2G (86))
DESCRIPTION:Je hebt 36 uur na aanvang om een thuismatch op Badmintonvlaande
 ren in te vullen. Match info: Klein Boom 3G (89) - De Nekker 2G (86) - Lin
 k: https://www.badmintonvlaanderen.be/sport/teammatch.aspx?id=952A42C0-E06
 A-400D-BAE7-1F26DE702556&match=898
DTSTART;TZID=Europe/Brussels:20240220T070000
DTEND;TZID=Europe/Brussels:20240220T070000
END:VEVENT
BEGIN:VEVENT
UID:952A42C0-E06A-400D-BAE7-1F26DE702556-20-867_homereminder@1934.badminton
 ners.net
DTSTAMP:20260420T073655Z
SUMMARY:Thuismatch ingevuld? (Klein Boom 3G (89) - Herentals 2G (87))
DESCRIPTION:Je hebt 36 uur na aanvang om een thuismatch op Badmintonvlaande
 ren in te vullen. Match info: Klein Boom 3G (89) - Herentals 2G (87) - Lin
 k: https://www.badmintonvlaanderen.be/sport/teammatch.aspx?id=952A42C0-E06
 A-400D-BAE7-1F26DE702556&match=867
DTSTART;TZID=Europe/Brussels:20240319T070000
DTEND;TZID=Europe/Brussels:20240319T070000
END:VEVENT
BEGIN:VEVENT
UID:952A42C0-E06A-400D-BAE7-1F26DE702556-20-887_awayreminder@1934.badminton
 ners.net
DTSTAMP:20260420T073655Z
SUMMARY:Uitmatch bevestigd? (De Nekker 2G (86) - Klein Boom 3G (89))
DESCRIPTION:Je hebt 72 uur na aanvang om een uitmatch op Badmintonvlaandere
 n in te vullen. Match info: De Nekker 2G (86) - Klein Boom 3G (89) - Link:
  https://www.badmintonvlaanderen.be/sport/teammatch.aspx?id=952A42C0-E06A-
 400D-BAE7-1F26DE702556&match=887
DTSTART;TZID=Europe/Brussels:20230930T203000
DTEND;TZID=Europe/Brussels:20230930T203000
END:VEVENT
BEGIN:VEVENT
UID:952A42C0-E06A-400D-BAE7-1F26DE702556-20-883_awayreminder@1934.badminton
 ners.net
DTSTAMP:20260420T073655Z
SUMMARY:Uitmatch bevestigd? (Herentals 2G (87) - Klein Boom 3G (89))
DESCRIPTION:Je hebt 72 uur na aanvang om een uitmatch op Badmintonvlaandere
 n in te vullen. Match info: Herentals 2G (87) - Klein Boom 3G (89) - Link:
  https://www.badmintonvlaanderen.be/sport/teammatch.aspx?id=952A42C0-E06A-
 400D-BAE7-1F26DE702556&match=883
DTSTART;TZID=Europe/Brussels:20231029T200000
DTEND;TZID=Europe/Brussels:20231029T200000
END:VEVENT
BEGIN:VEVENT
UID:952A42C0-E06A-400D-BAE7-1F26DE702556-20-885_awayreminder@1934.badminton
 ners.net
DTSTAMP:20260420T073655Z
SUMMARY:Uitmatch bevestigd? (Berlaar 1G (89) - Klein Boom 3G (89))
DESCRIPTION:Je hebt 72 uur na aanvang om een uitmatch op Badmintonvlaandere
 n in te vullen. Match info: Berlaar 1G (89) - Klein Boom 3G (89) - Link: h
 ttps://www.badmintonvlaanderen.be/sport/teammatch.aspx?id=952A42C0-E06A-40
 0D-BAE7-1F26DE702556&match=885
DTSTART;TZID=Europe/Brussels:20231129T100000
DTEND;TZID=Europe/Brussels:20231129T100000
END:VEVENT
BEGIN:VEVENT
UID:952A42C0-E06A-400D-BAE7-1F26DE702556-20-884_awayreminder@1934.badminton
 ners.net
DTSTAMP:20260420T073655Z
SUMMARY:Uitmatch bevestigd? (Smash 1G (95) - Klein Boom 3G (89))
DESCRIPTION:Je hebt 72 uur na aanvang om een uitmatch op Badmintonvlaandere
 n in te vullen. Match info: Smash 1G (95) - Klein Boom 3G (89) - Link: htt
 ps://www.badmintonvlaanderen.be/sport/teammatch.aspx?id=952A42C0-E06A-400D
 -BAE7-1F26DE702556&match=884
DTSTART;TZID=Europe/Brussels:20240207T100000
DTEND;TZID=Europe/Brussels:20240207T100000
END:VEVENT
BEGIN:VEVENT
UID:952A42C0-E06A-400D-BAE7-1F26DE702556-20-888_awayreminder@1934.badminton
 ners.net
DTSTAMP:20260420T073655Z
SUMMARY:Uitmatch bevestigd? (Huirtuits Dropke 3G (90) - Klein Boom 3G (89))
DESCRIPTION:Je hebt 72 uur na aanvang om een uitmatch op Badmintonvlaandere
 n in te vullen. Match info: Huirtuits Dropke 3G (90) - Klein Boom 3G (89) 
 - Link: https://www.badmintonvlaanderen.be/sport/teammatch.aspx?id=952A42C
 0-E06A-400D-BAE7-1F26DE702556&match=888
DTSTART;TZID=Europe/Brussels:20240301T200000
DTEND;TZID=Europe/Brussels:20240301T200000
END:VEVENT
BEGIN:VEVENT
UID:952A42C0-E06A-400D-BAE7-1F26DE702556-20-886_awayreminder@1934.badminton
 ners.net
DTSTAMP:20260420T073655Z
SUMMARY:Uitmatch bevestigd? (Spinshuttle 3G (95) - Klein Boom 3G (89))
DESCRIPTION:Je hebt 72 uur na aanvang om een uitmatch op Badmintonvlaandere
 n in te vullen. Match info: Spinshuttle 3G (95) - Klein Boom 3G (89) - Lin
 k: https://www.badmintonvlaanderen.be/sport/teammatch.aspx?id=952A42C0-E06
 A-400D-BAE7-1F26DE702556&match=886
DTSTART;TZID=Europe/Brussels:20240329T200000
DTEND;TZID=Europe/Brussels:20240329T200000
END:VEVENT
END:VCALENDAR