BEGIN:VCALENDAR
VERSION:2.0
PRODID:spatie/icalendar-generator
NAME:berlaar_1g_89_reminders
X-WR-CALNAME:berlaar_1g_89_reminders
BEGIN:VTIMEZONE
TZID:Europe/Brussels
BEGIN:DAYLIGHT
DTSTART:20230326T010000
TZOFFSETFROM:+0100
TZOFFSETTO:+0200
END:DAYLIGHT
BEGIN:STANDARD
DTSTART:20231029T030000
TZOFFSETFROM:+0200
TZOFFSETTO:+0100
END:STANDARD
BEGIN:DAYLIGHT
DTSTART:20240331T010000
TZOFFSETFROM:+0100
TZOFFSETTO:+0200
END:DAYLIGHT
END:VTIMEZONE
BEGIN:VTIMEZONE
TZID:UTC
BEGIN:STANDARD
DTSTART:20250724T055214
TZOFFSETFROM:+0000
TZOFFSETTO:+0000
END:STANDARD
END:VTIMEZONE
BEGIN:VEVENT
UID:952A42C0-E06A-400D-BAE7-1F26DE702556-20-885_homereminder@1939.badminton
 ners.net
DTSTAMP:20260420T055214Z
SUMMARY:Thuismatch ingevuld? (Berlaar 1G (89) - Klein Boom 3G (89))
DESCRIPTION:Je hebt 36 uur na aanvang om een thuismatch op Badmintonvlaande
 ren in te vullen. Match info: Berlaar 1G (89) - Klein Boom 3G (89) - Link:
  https://www.badmintonvlaanderen.be/sport/teammatch.aspx?id=952A42C0-E06A-
 400D-BAE7-1F26DE702556&match=885
DTSTART;TZID=Europe/Brussels:20231127T220000
DTEND;TZID=Europe/Brussels:20231127T220000
END:VEVENT
BEGIN:VEVENT
UID:952A42C0-E06A-400D-BAE7-1F26DE702556-20-897_homereminder@1939.badminton
 ners.net
DTSTAMP:20260420T055214Z
SUMMARY:Thuismatch ingevuld? (Berlaar 1G (89) - De Nekker 2G (86))
DESCRIPTION:Je hebt 36 uur na aanvang om een thuismatch op Badmintonvlaande
 ren in te vullen. Match info: Berlaar 1G (89) - De Nekker 2G (86) - Link: 
 https://www.badmintonvlaanderen.be/sport/teammatch.aspx?id=952A42C0-E06A-4
 00D-BAE7-1F26DE702556&match=897
DTSTART;TZID=Europe/Brussels:20231211T220000
DTEND;TZID=Europe/Brussels:20231211T220000
END:VEVENT
BEGIN:VEVENT
UID:952A42C0-E06A-400D-BAE7-1F26DE702556-20-891_homereminder@1939.badminton
 ners.net
DTSTAMP:20260420T055214Z
SUMMARY:Thuismatch ingevuld? (Berlaar 1G (89) - Spinshuttle 3G (95))
DESCRIPTION:Je hebt 36 uur na aanvang om een thuismatch op Badmintonvlaande
 ren in te vullen. Match info: Berlaar 1G (89) - Spinshuttle 3G (95) - Link
 : https://www.badmintonvlaanderen.be/sport/teammatch.aspx?id=952A42C0-E06A
 -400D-BAE7-1F26DE702556&match=891
DTSTART;TZID=Europe/Brussels:20240304T220000
DTEND;TZID=Europe/Brussels:20240304T220000
END:VEVENT
BEGIN:VEVENT
UID:952A42C0-E06A-400D-BAE7-1F26DE702556-20-903_homereminder@1939.badminton
 ners.net
DTSTAMP:20260420T055214Z
SUMMARY:Thuismatch ingevuld? (Berlaar 1G (89) - Huirtuits Dropke 3G (90))
DESCRIPTION:Je hebt 36 uur na aanvang om een thuismatch op Badmintonvlaande
 ren in te vullen. Match info: Berlaar 1G (89) - Huirtuits Dropke 3G (90) -
  Link: https://www.badmintonvlaanderen.be/sport/teammatch.aspx?id=952A42C0
 -E06A-400D-BAE7-1F26DE702556&match=903
DTSTART;TZID=Europe/Brussels:20240311T220000
DTEND;TZID=Europe/Brussels:20240311T220000
END:VEVENT
BEGIN:VEVENT
UID:952A42C0-E06A-400D-BAE7-1F26DE702556-20-872_homereminder@1939.badminton
 ners.net
DTSTAMP:20260420T055214Z
SUMMARY:Thuismatch ingevuld? (Berlaar 1G (89) - Smash 1G (95))
DESCRIPTION:Je hebt 36 uur na aanvang om een thuismatch op Badmintonvlaande
 ren in te vullen. Match info: Berlaar 1G (89) - Smash 1G (95) - Link: http
 s://www.badmintonvlaanderen.be/sport/teammatch.aspx?id=952A42C0-E06A-400D-
 BAE7-1F26DE702556&match=872
DTSTART;TZID=Europe/Brussels:20240318T220000
DTEND;TZID=Europe/Brussels:20240318T220000
END:VEVENT
BEGIN:VEVENT
UID:952A42C0-E06A-400D-BAE7-1F26DE702556-20-866_homereminder@1939.badminton
 ners.net
DTSTAMP:20260420T055214Z
SUMMARY:Thuismatch ingevuld? (Berlaar 1G (89) - Herentals 2G (87))
DESCRIPTION:Je hebt 36 uur na aanvang om een thuismatch op Badmintonvlaande
 ren in te vullen. Match info: Berlaar 1G (89) - Herentals 2G (87) - Link: 
 https://www.badmintonvlaanderen.be/sport/teammatch.aspx?id=952A42C0-E06A-4
 00D-BAE7-1F26DE702556&match=866
DTSTART;TZID=Europe/Brussels:20240415T220000
DTEND;TZID=Europe/Brussels:20240415T220000
END:VEVENT
BEGIN:VEVENT
UID:952A42C0-E06A-400D-BAE7-1F26DE702556-20-882_awayreminder@1939.badminton
 ners.net
DTSTAMP:20260420T055214Z
SUMMARY:Uitmatch bevestigd? (Huirtuits Dropke 3G (90) - Berlaar 1G (89))
DESCRIPTION:Je hebt 72 uur na aanvang om een uitmatch op Badmintonvlaandere
 n in te vullen. Match info: Huirtuits Dropke 3G (90) - Berlaar 1G (89) - L
 ink: https://www.badmintonvlaanderen.be/sport/teammatch.aspx?id=952A42C0-E
 06A-400D-BAE7-1F26DE702556&match=882
DTSTART;TZID=Europe/Brussels:20230929T200000
DTEND;TZID=Europe/Brussels:20230929T200000
END:VEVENT
BEGIN:VEVENT
UID:952A42C0-E06A-400D-BAE7-1F26DE702556-20-878_awayreminder@1939.badminton
 ners.net
DTSTAMP:20260420T055214Z
SUMMARY:Uitmatch bevestigd? (Smash 1G (95) - Berlaar 1G (89))
DESCRIPTION:Je hebt 72 uur na aanvang om een uitmatch op Badmintonvlaandere
 n in te vullen. Match info: Smash 1G (95) - Berlaar 1G (89) - Link: https:
 //www.badmintonvlaanderen.be/sport/teammatch.aspx?id=952A42C0-E06A-400D-BA
 E7-1F26DE702556&match=878
DTSTART;TZID=Europe/Brussels:20231018T100000
DTEND;TZID=Europe/Brussels:20231018T100000
END:VEVENT
BEGIN:VEVENT
UID:952A42C0-E06A-400D-BAE7-1F26DE702556-20-877_awayreminder@1939.badminton
 ners.net
DTSTAMP:20260420T055214Z
SUMMARY:Uitmatch bevestigd? (Herentals 2G (87) - Berlaar 1G (89))
DESCRIPTION:Je hebt 72 uur na aanvang om een uitmatch op Badmintonvlaandere
 n in te vullen. Match info: Herentals 2G (87) - Berlaar 1G (89) - Link: ht
 tps://www.badmintonvlaanderen.be/sport/teammatch.aspx?id=952A42C0-E06A-400
 D-BAE7-1F26DE702556&match=877
DTSTART;TZID=Europe/Brussels:20231109T210000
DTEND;TZID=Europe/Brussels:20231109T210000
END:VEVENT
BEGIN:VEVENT
UID:952A42C0-E06A-400D-BAE7-1F26DE702556-20-880_awayreminder@1939.badminton
 ners.net
DTSTAMP:20260420T055214Z
SUMMARY:Uitmatch bevestigd? (Spinshuttle 3G (95) - Berlaar 1G (89))
DESCRIPTION:Je hebt 72 uur na aanvang om een uitmatch op Badmintonvlaandere
 n in te vullen. Match info: Spinshuttle 3G (95) - Berlaar 1G (89) - Link: 
 https://www.badmintonvlaanderen.be/sport/teammatch.aspx?id=952A42C0-E06A-4
 00D-BAE7-1F26DE702556&match=880
DTSTART;TZID=Europe/Brussels:20231222T200000
DTEND;TZID=Europe/Brussels:20231222T200000
END:VEVENT
BEGIN:VEVENT
UID:952A42C0-E06A-400D-BAE7-1F26DE702556-20-879_awayreminder@1939.badminton
 ners.net
DTSTAMP:20260420T055214Z
SUMMARY:Uitmatch bevestigd? (Klein Boom 3G (89) - Berlaar 1G (89))
DESCRIPTION:Je hebt 72 uur na aanvang om een uitmatch op Badmintonvlaandere
 n in te vullen. Match info: Klein Boom 3G (89) - Berlaar 1G (89) - Link: h
 ttps://www.badmintonvlaanderen.be/sport/teammatch.aspx?id=952A42C0-E06A-40
 0D-BAE7-1F26DE702556&match=879
DTSTART;TZID=Europe/Brussels:20240124T190000
DTEND;TZID=Europe/Brussels:20240124T190000
END:VEVENT
BEGIN:VEVENT
UID:952A42C0-E06A-400D-BAE7-1F26DE702556-20-881_awayreminder@1939.badminton
 ners.net
DTSTAMP:20260420T055214Z
SUMMARY:Uitmatch bevestigd? (De Nekker 2G (86) - Berlaar 1G (89))
DESCRIPTION:Je hebt 72 uur na aanvang om een uitmatch op Badmintonvlaandere
 n in te vullen. Match info: De Nekker 2G (86) - Berlaar 1G (89) - Link: ht
 tps://www.badmintonvlaanderen.be/sport/teammatch.aspx?id=952A42C0-E06A-400
 D-BAE7-1F26DE702556&match=881
DTSTART;TZID=Europe/Brussels:20240210T203000
DTEND;TZID=Europe/Brussels:20240210T203000
END:VEVENT
END:VCALENDAR