BEGIN:VCALENDAR
VERSION:2.0
PRODID:spatie/icalendar-generator
NAME:huirtuits_dropke_3g_90_reminders
X-WR-CALNAME:huirtuits_dropke_3g_90_reminders
BEGIN:VTIMEZONE
TZID:Europe/Brussels
BEGIN:DAYLIGHT
DTSTART:20230326T010000
TZOFFSETFROM:+0100
TZOFFSETTO:+0200
END:DAYLIGHT
BEGIN:STANDARD
DTSTART:20231029T030000
TZOFFSETFROM:+0200
TZOFFSETTO:+0100
END:STANDARD
BEGIN:DAYLIGHT
DTSTART:20240331T010000
TZOFFSETFROM:+0100
TZOFFSETTO:+0200
END:DAYLIGHT
END:VTIMEZONE
BEGIN:VTIMEZONE
TZID:UTC
BEGIN:STANDARD
DTSTART:20250724T072432
TZOFFSETFROM:+0000
TZOFFSETTO:+0000
END:STANDARD
END:VTIMEZONE
BEGIN:VEVENT
UID:952A42C0-E06A-400D-BAE7-1F26DE702556-20-882_homereminder@1941.badminton
 ners.net
DTSTAMP:20260420T072432Z
SUMMARY:Thuismatch ingevuld? (Huirtuits Dropke 3G (90) - Berlaar 1G (89))
DESCRIPTION:Je hebt 36 uur na aanvang om een thuismatch op Badmintonvlaande
 ren in te vullen. Match info: Huirtuits Dropke 3G (90) - Berlaar 1G (89) -
  Link: https://www.badmintonvlaanderen.be/sport/teammatch.aspx?id=952A42C0
 -E06A-400D-BAE7-1F26DE702556&match=882
DTSTART;TZID=Europe/Brussels:20230928T080000
DTEND;TZID=Europe/Brussels:20230928T080000
END:VEVENT
BEGIN:VEVENT
UID:952A42C0-E06A-400D-BAE7-1F26DE702556-20-894_homereminder@1941.badminton
 ners.net
DTSTAMP:20260420T072432Z
SUMMARY:Thuismatch ingevuld? (Huirtuits Dropke 3G (90) - Spinshuttle 3G (95
 ))
DESCRIPTION:Je hebt 36 uur na aanvang om een thuismatch op Badmintonvlaande
 ren in te vullen. Match info: Huirtuits Dropke 3G (90) - Spinshuttle 3G (9
 5) - Link: https://www.badmintonvlaanderen.be/sport/teammatch.aspx?id=952A
 42C0-E06A-400D-BAE7-1F26DE702556&match=894
DTSTART;TZID=Europe/Brussels:20231005T080000
DTEND;TZID=Europe/Brussels:20231005T080000
END:VEVENT
BEGIN:VEVENT
UID:952A42C0-E06A-400D-BAE7-1F26DE702556-20-870_homereminder@1941.badminton
 ners.net
DTSTAMP:20260420T072432Z
SUMMARY:Thuismatch ingevuld? (Huirtuits Dropke 3G (90) - Herentals 2G (87))
DESCRIPTION:Je hebt 36 uur na aanvang om een thuismatch op Badmintonvlaande
 ren in te vullen. Match info: Huirtuits Dropke 3G (90) - Herentals 2G (87)
  - Link: https://www.badmintonvlaanderen.be/sport/teammatch.aspx?id=952A42
 C0-E06A-400D-BAE7-1F26DE702556&match=870
DTSTART;TZID=Europe/Brussels:20231220T083000
DTEND;TZID=Europe/Brussels:20231220T083000
END:VEVENT
BEGIN:VEVENT
UID:952A42C0-E06A-400D-BAE7-1F26DE702556-20-900_homereminder@1941.badminton
 ners.net
DTSTAMP:20260420T072432Z
SUMMARY:Thuismatch ingevuld? (Huirtuits Dropke 3G (90) - De Nekker 2G (86))
DESCRIPTION:Je hebt 36 uur na aanvang om een thuismatch op Badmintonvlaande
 ren in te vullen. Match info: Huirtuits Dropke 3G (90) - De Nekker 2G (86)
  - Link: https://www.badmintonvlaanderen.be/sport/teammatch.aspx?id=952A42
 C0-E06A-400D-BAE7-1F26DE702556&match=900
DTSTART;TZID=Europe/Brussels:20240201T080000
DTEND;TZID=Europe/Brussels:20240201T080000
END:VEVENT
BEGIN:VEVENT
UID:952A42C0-E06A-400D-BAE7-1F26DE702556-20-888_homereminder@1941.badminton
 ners.net
DTSTAMP:20260420T072432Z
SUMMARY:Thuismatch ingevuld? (Huirtuits Dropke 3G (90) - Klein Boom 3G (89)
 )
DESCRIPTION:Je hebt 36 uur na aanvang om een thuismatch op Badmintonvlaande
 ren in te vullen. Match info: Huirtuits Dropke 3G (90) - Klein Boom 3G (89
 ) - Link: https://www.badmintonvlaanderen.be/sport/teammatch.aspx?id=952A4
 2C0-E06A-400D-BAE7-1F26DE702556&match=888
DTSTART;TZID=Europe/Brussels:20240229T080000
DTEND;TZID=Europe/Brussels:20240229T080000
END:VEVENT
BEGIN:VEVENT
UID:952A42C0-E06A-400D-BAE7-1F26DE702556-20-876_homereminder@1941.badminton
 ners.net
DTSTAMP:20260420T072432Z
SUMMARY:Thuismatch ingevuld? (Huirtuits Dropke 3G (90) - Smash 1G (95))
DESCRIPTION:Je hebt 36 uur na aanvang om een thuismatch op Badmintonvlaande
 ren in te vullen. Match info: Huirtuits Dropke 3G (90) - Smash 1G (95) - L
 ink: https://www.badmintonvlaanderen.be/sport/teammatch.aspx?id=952A42C0-E
 06A-400D-BAE7-1F26DE702556&match=876
DTSTART;TZID=Europe/Brussels:20240328T080000
DTEND;TZID=Europe/Brussels:20240328T080000
END:VEVENT
BEGIN:VEVENT
UID:952A42C0-E06A-400D-BAE7-1F26DE702556-20-904_awayreminder@1941.badminton
 ners.net
DTSTAMP:20260420T072432Z
SUMMARY:Uitmatch bevestigd? (Klein Boom 3G (89) - Huirtuits Dropke 3G (90))
DESCRIPTION:Je hebt 72 uur na aanvang om een uitmatch op Badmintonvlaandere
 n in te vullen. Match info: Klein Boom 3G (89) - Huirtuits Dropke 3G (90) 
 - Link: https://www.badmintonvlaanderen.be/sport/teammatch.aspx?id=952A42C
 0-E06A-400D-BAE7-1F26DE702556&match=904
DTSTART;TZID=Europe/Brussels:20231011T190000
DTEND;TZID=Europe/Brussels:20231011T190000
END:VEVENT
BEGIN:VEVENT
UID:952A42C0-E06A-400D-BAE7-1F26DE702556-20-902_awayreminder@1941.badminton
 ners.net
DTSTAMP:20260420T072432Z
SUMMARY:Uitmatch bevestigd? (Smash 1G (95) - Huirtuits Dropke 3G (90))
DESCRIPTION:Je hebt 72 uur na aanvang om een uitmatch op Badmintonvlaandere
 n in te vullen. Match info: Smash 1G (95) - Huirtuits Dropke 3G (90) - Lin
 k: https://www.badmintonvlaanderen.be/sport/teammatch.aspx?id=952A42C0-E06
 A-400D-BAE7-1F26DE702556&match=902
DTSTART;TZID=Europe/Brussels:20231022T200000
DTEND;TZID=Europe/Brussels:20231022T200000
END:VEVENT
BEGIN:VEVENT
UID:952A42C0-E06A-400D-BAE7-1F26DE702556-20-906_awayreminder@1941.badminton
 ners.net
DTSTAMP:20260420T072432Z
SUMMARY:Uitmatch bevestigd? (De Nekker 2G (86) - Huirtuits Dropke 3G (90))
DESCRIPTION:Je hebt 72 uur na aanvang om een uitmatch op Badmintonvlaandere
 n in te vullen. Match info: De Nekker 2G (86) - Huirtuits Dropke 3G (90) -
  Link: https://www.badmintonvlaanderen.be/sport/teammatch.aspx?id=952A42C0
 -E06A-400D-BAE7-1F26DE702556&match=906
DTSTART;TZID=Europe/Brussels:20231111T203000
DTEND;TZID=Europe/Brussels:20231111T203000
END:VEVENT
BEGIN:VEVENT
UID:952A42C0-E06A-400D-BAE7-1F26DE702556-20-903_awayreminder@1941.badminton
 ners.net
DTSTAMP:20260420T072432Z
SUMMARY:Uitmatch bevestigd? (Berlaar 1G (89) - Huirtuits Dropke 3G (90))
DESCRIPTION:Je hebt 72 uur na aanvang om een uitmatch op Badmintonvlaandere
 n in te vullen. Match info: Berlaar 1G (89) - Huirtuits Dropke 3G (90) - L
 ink: https://www.badmintonvlaanderen.be/sport/teammatch.aspx?id=952A42C0-E
 06A-400D-BAE7-1F26DE702556&match=903
DTSTART;TZID=Europe/Brussels:20240313T100000
DTEND;TZID=Europe/Brussels:20240313T100000
END:VEVENT
BEGIN:VEVENT
UID:952A42C0-E06A-400D-BAE7-1F26DE702556-20-905_awayreminder@1941.badminton
 ners.net
DTSTAMP:20260420T072432Z
SUMMARY:Uitmatch bevestigd? (Spinshuttle 3G (95) - Huirtuits Dropke 3G (90)
 )
DESCRIPTION:Je hebt 72 uur na aanvang om een uitmatch op Badmintonvlaandere
 n in te vullen. Match info: Spinshuttle 3G (95) - Huirtuits Dropke 3G (90)
  - Link: https://www.badmintonvlaanderen.be/sport/teammatch.aspx?id=952A42
 C0-E06A-400D-BAE7-1F26DE702556&match=905
DTSTART;TZID=Europe/Brussels:20240315T200000
DTEND;TZID=Europe/Brussels:20240315T200000
END:VEVENT
BEGIN:VEVENT
UID:952A42C0-E06A-400D-BAE7-1F26DE702556-20-901_awayreminder@1941.badminton
 ners.net
DTSTAMP:20260420T072432Z
SUMMARY:Uitmatch bevestigd? (Herentals 2G (87) - Huirtuits Dropke 3G (90))
DESCRIPTION:Je hebt 72 uur na aanvang om een uitmatch op Badmintonvlaandere
 n in te vullen. Match info: Herentals 2G (87) - Huirtuits Dropke 3G (90) -
  Link: https://www.badmintonvlaanderen.be/sport/teammatch.aspx?id=952A42C0
 -E06A-400D-BAE7-1F26DE702556&match=901
DTSTART;TZID=Europe/Brussels:20240331T220000
DTEND;TZID=Europe/Brussels:20240331T220000
END:VEVENT
END:VCALENDAR