BEGIN:VCALENDAR
VERSION:2.0
PRODID:spatie/icalendar-generator
NAME:herentals_2g_87_reminders
X-WR-CALNAME:herentals_2g_87_reminders
BEGIN:VTIMEZONE
TZID:Europe/Brussels
BEGIN:DAYLIGHT
DTSTART:20230326T010000
TZOFFSETFROM:+0100
TZOFFSETTO:+0200
END:DAYLIGHT
BEGIN:STANDARD
DTSTART:20231029T030000
TZOFFSETFROM:+0200
TZOFFSETTO:+0100
END:STANDARD
BEGIN:DAYLIGHT
DTSTART:20240331T010000
TZOFFSETFROM:+0100
TZOFFSETTO:+0200
END:DAYLIGHT
END:VTIMEZONE
BEGIN:VTIMEZONE
TZID:UTC
BEGIN:STANDARD
DTSTART:20250724T055215
TZOFFSETFROM:+0000
TZOFFSETTO:+0000
END:STANDARD
END:VTIMEZONE
BEGIN:VEVENT
UID:952A42C0-E06A-400D-BAE7-1F26DE702556-20-871_homereminder@1943.badminton
 ners.net
DTSTAMP:20260420T055215Z
SUMMARY:Thuismatch ingevuld? (Herentals 2G (87) - Smash 1G (95))
DESCRIPTION:Je hebt 36 uur na aanvang om een thuismatch op Badmintonvlaande
 ren in te vullen. Match info: Herentals 2G (87) - Smash 1G (95) - Link: ht
 tps://www.badmintonvlaanderen.be/sport/teammatch.aspx?id=952A42C0-E06A-400
 D-BAE7-1F26DE702556&match=871
DTSTART;TZID=Europe/Brussels:20230930T090000
DTEND;TZID=Europe/Brussels:20230930T090000
END:VEVENT
BEGIN:VEVENT
UID:952A42C0-E06A-400D-BAE7-1F26DE702556-20-883_homereminder@1943.badminton
 ners.net
DTSTAMP:20260420T055215Z
SUMMARY:Thuismatch ingevuld? (Herentals 2G (87) - Klein Boom 3G (89))
DESCRIPTION:Je hebt 36 uur na aanvang om een thuismatch op Badmintonvlaande
 ren in te vullen. Match info: Herentals 2G (87) - Klein Boom 3G (89) - Lin
 k: https://www.badmintonvlaanderen.be/sport/teammatch.aspx?id=952A42C0-E06
 A-400D-BAE7-1F26DE702556&match=883
DTSTART;TZID=Europe/Brussels:20231028T090000
DTEND;TZID=Europe/Brussels:20231028T090000
END:VEVENT
BEGIN:VEVENT
UID:952A42C0-E06A-400D-BAE7-1F26DE702556-20-877_homereminder@1943.badminton
 ners.net
DTSTAMP:20260420T055215Z
SUMMARY:Thuismatch ingevuld? (Herentals 2G (87) - Berlaar 1G (89))
DESCRIPTION:Je hebt 36 uur na aanvang om een thuismatch op Badmintonvlaande
 ren in te vullen. Match info: Herentals 2G (87) - Berlaar 1G (89) - Link: 
 https://www.badmintonvlaanderen.be/sport/teammatch.aspx?id=952A42C0-E06A-4
 00D-BAE7-1F26DE702556&match=877
DTSTART;TZID=Europe/Brussels:20231108T090000
DTEND;TZID=Europe/Brussels:20231108T090000
END:VEVENT
BEGIN:VEVENT
UID:952A42C0-E06A-400D-BAE7-1F26DE702556-20-895_homereminder@1943.badminton
 ners.net
DTSTAMP:20260420T055215Z
SUMMARY:Thuismatch ingevuld? (Herentals 2G (87) - De Nekker 2G (86))
DESCRIPTION:Je hebt 36 uur na aanvang om een thuismatch op Badmintonvlaande
 ren in te vullen. Match info: Herentals 2G (87) - De Nekker 2G (86) - Link
 : https://www.badmintonvlaanderen.be/sport/teammatch.aspx?id=952A42C0-E06A
 -400D-BAE7-1F26DE702556&match=895
DTSTART;TZID=Europe/Brussels:20231125T090000
DTEND;TZID=Europe/Brussels:20231125T090000
END:VEVENT
BEGIN:VEVENT
UID:952A42C0-E06A-400D-BAE7-1F26DE702556-20-889_homereminder@1943.badminton
 ners.net
DTSTAMP:20260420T055215Z
SUMMARY:Thuismatch ingevuld? (Herentals 2G (87) - Spinshuttle 3G (95))
DESCRIPTION:Je hebt 36 uur na aanvang om een thuismatch op Badmintonvlaande
 ren in te vullen. Match info: Herentals 2G (87) - Spinshuttle 3G (95) - Li
 nk: https://www.badmintonvlaanderen.be/sport/teammatch.aspx?id=952A42C0-E0
 6A-400D-BAE7-1F26DE702556&match=889
DTSTART;TZID=Europe/Brussels:20240203T090000
DTEND;TZID=Europe/Brussels:20240203T090000
END:VEVENT
BEGIN:VEVENT
UID:952A42C0-E06A-400D-BAE7-1F26DE702556-20-901_homereminder@1943.badminton
 ners.net
DTSTAMP:20260420T055215Z
SUMMARY:Thuismatch ingevuld? (Herentals 2G (87) - Huirtuits Dropke 3G (90))
DESCRIPTION:Je hebt 36 uur na aanvang om een thuismatch op Badmintonvlaande
 ren in te vullen. Match info: Herentals 2G (87) - Huirtuits Dropke 3G (90)
  - Link: https://www.badmintonvlaanderen.be/sport/teammatch.aspx?id=952A42
 C0-E06A-400D-BAE7-1F26DE702556&match=901
DTSTART;TZID=Europe/Brussels:20240330T090000
DTEND;TZID=Europe/Brussels:20240330T090000
END:VEVENT
BEGIN:VEVENT
UID:952A42C0-E06A-400D-BAE7-1F26DE702556-20-868_awayreminder@1943.badminton
 ners.net
DTSTAMP:20260420T055215Z
SUMMARY:Uitmatch bevestigd? (Spinshuttle 3G (95) - Herentals 2G (87))
DESCRIPTION:Je hebt 72 uur na aanvang om een uitmatch op Badmintonvlaandere
 n in te vullen. Match info: Spinshuttle 3G (95) - Herentals 2G (87) - Link
 : https://www.badmintonvlaanderen.be/sport/teammatch.aspx?id=952A42C0-E06A
 -400D-BAE7-1F26DE702556&match=868
DTSTART;TZID=Europe/Brussels:20231110T200000
DTEND;TZID=Europe/Brussels:20231110T200000
END:VEVENT
BEGIN:VEVENT
UID:952A42C0-E06A-400D-BAE7-1F26DE702556-20-870_awayreminder@1943.badminton
 ners.net
DTSTAMP:20260420T055215Z
SUMMARY:Uitmatch bevestigd? (Huirtuits Dropke 3G (90) - Herentals 2G (87))
DESCRIPTION:Je hebt 72 uur na aanvang om een uitmatch op Badmintonvlaandere
 n in te vullen. Match info: Huirtuits Dropke 3G (90) - Herentals 2G (87) -
  Link: https://www.badmintonvlaanderen.be/sport/teammatch.aspx?id=952A42C0
 -E06A-400D-BAE7-1F26DE702556&match=870
DTSTART;TZID=Europe/Brussels:20231221T203000
DTEND;TZID=Europe/Brussels:20231221T203000
END:VEVENT
BEGIN:VEVENT
UID:952A42C0-E06A-400D-BAE7-1F26DE702556-20-869_awayreminder@1943.badminton
 ners.net
DTSTAMP:20260420T055215Z
SUMMARY:Uitmatch bevestigd? (De Nekker 2G (86) - Herentals 2G (87))
DESCRIPTION:Je hebt 72 uur na aanvang om een uitmatch op Badmintonvlaandere
 n in te vullen. Match info: De Nekker 2G (86) - Herentals 2G (87) - Link: 
 https://www.badmintonvlaanderen.be/sport/teammatch.aspx?id=952A42C0-E06A-4
 00D-BAE7-1F26DE702556&match=869
DTSTART;TZID=Europe/Brussels:20240127T203000
DTEND;TZID=Europe/Brussels:20240127T203000
END:VEVENT
BEGIN:VEVENT
UID:952A42C0-E06A-400D-BAE7-1F26DE702556-20-865_awayreminder@1943.badminton
 ners.net
DTSTAMP:20260420T055215Z
SUMMARY:Uitmatch bevestigd? (Smash 1G (95) - Herentals 2G (87))
DESCRIPTION:Je hebt 72 uur na aanvang om een uitmatch op Badmintonvlaandere
 n in te vullen. Match info: Smash 1G (95) - Herentals 2G (87) - Link: http
 s://www.badmintonvlaanderen.be/sport/teammatch.aspx?id=952A42C0-E06A-400D-
 BAE7-1F26DE702556&match=865
DTSTART;TZID=Europe/Brussels:20240221T100000
DTEND;TZID=Europe/Brussels:20240221T100000
END:VEVENT
BEGIN:VEVENT
UID:952A42C0-E06A-400D-BAE7-1F26DE702556-20-867_awayreminder@1943.badminton
 ners.net
DTSTAMP:20260420T055215Z
SUMMARY:Uitmatch bevestigd? (Klein Boom 3G (89) - Herentals 2G (87))
DESCRIPTION:Je hebt 72 uur na aanvang om een uitmatch op Badmintonvlaandere
 n in te vullen. Match info: Klein Boom 3G (89) - Herentals 2G (87) - Link:
  https://www.badmintonvlaanderen.be/sport/teammatch.aspx?id=952A42C0-E06A-
 400D-BAE7-1F26DE702556&match=867
DTSTART;TZID=Europe/Brussels:20240320T190000
DTEND;TZID=Europe/Brussels:20240320T190000
END:VEVENT
BEGIN:VEVENT
UID:952A42C0-E06A-400D-BAE7-1F26DE702556-20-866_awayreminder@1943.badminton
 ners.net
DTSTAMP:20260420T055215Z
SUMMARY:Uitmatch bevestigd? (Berlaar 1G (89) - Herentals 2G (87))
DESCRIPTION:Je hebt 72 uur na aanvang om een uitmatch op Badmintonvlaandere
 n in te vullen. Match info: Berlaar 1G (89) - Herentals 2G (87) - Link: ht
 tps://www.badmintonvlaanderen.be/sport/teammatch.aspx?id=952A42C0-E06A-400
 D-BAE7-1F26DE702556&match=866
DTSTART;TZID=Europe/Brussels:20240417T100000
DTEND;TZID=Europe/Brussels:20240417T100000
END:VEVENT
END:VCALENDAR