BEGIN:VCALENDAR
VERSION:2.0
PRODID:spatie/icalendar-generator
NAME:zoersel_3g_98_reminders
X-WR-CALNAME:zoersel_3g_98_reminders
BEGIN:VTIMEZONE
TZID:Europe/Brussels
BEGIN:DAYLIGHT
DTSTART:20230326T010000
TZOFFSETFROM:+0100
TZOFFSETTO:+0200
END:DAYLIGHT
BEGIN:STANDARD
DTSTART:20231029T030000
TZOFFSETFROM:+0200
TZOFFSETTO:+0100
END:STANDARD
BEGIN:DAYLIGHT
DTSTART:20240331T010000
TZOFFSETFROM:+0100
TZOFFSETTO:+0200
END:DAYLIGHT
BEGIN:STANDARD
DTSTART:20241027T030000
TZOFFSETFROM:+0200
TZOFFSETTO:+0100
END:STANDARD
END:VTIMEZONE
BEGIN:VTIMEZONE
TZID:UTC
BEGIN:STANDARD
DTSTART:20250724T055112
TZOFFSETFROM:+0000
TZOFFSETTO:+0000
END:STANDARD
END:VTIMEZONE
BEGIN:VEVENT
UID:952A42C0-E06A-400D-BAE7-1F26DE702556-21-918_homereminder@1922.badminton
 ners.net
DTSTAMP:20260420T055112Z
SUMMARY:Thuismatch ingevuld? (Zoersel 3G (98) - Beerke 3G (96))
DESCRIPTION:Je hebt 36 uur na aanvang om een thuismatch op Badmintonvlaande
 ren in te vullen. Match info: Zoersel 3G (98) - Beerke 3G (96) - Link: htt
 ps://www.badmintonvlaanderen.be/sport/teammatch.aspx?id=952A42C0-E06A-400D
 -BAE7-1F26DE702556&match=918
DTSTART;TZID=Europe/Brussels:20230919T000000
DTEND;TZID=Europe/Brussels:20230919T000000
END:VEVENT
BEGIN:VEVENT
UID:952A42C0-E06A-400D-BAE7-1F26DE702556-21-938_homereminder@1922.badminton
 ners.net
DTSTAMP:20260420T055112Z
SUMMARY:Thuismatch ingevuld? (Zoersel 3G (98) - Herentals 3G (90))
DESCRIPTION:Je hebt 36 uur na aanvang om een thuismatch op Badmintonvlaande
 ren in te vullen. Match info: Zoersel 3G (98) - Herentals 3G (90) - Link: 
 https://www.badmintonvlaanderen.be/sport/teammatch.aspx?id=952A42C0-E06A-4
 00D-BAE7-1F26DE702556&match=938
DTSTART;TZID=Europe/Brussels:20231003T000000
DTEND;TZID=Europe/Brussels:20231003T000000
END:VEVENT
BEGIN:VEVENT
UID:952A42C0-E06A-400D-BAE7-1F26DE702556-21-928_homereminder@1922.badminton
 ners.net
DTSTAMP:20260420T055112Z
SUMMARY:Thuismatch ingevuld? (Zoersel 3G (98) - Merksplas 2G (100))
DESCRIPTION:Je hebt 36 uur na aanvang om een thuismatch op Badmintonvlaande
 ren in te vullen. Match info: Zoersel 3G (98) - Merksplas 2G (100) - Link:
  https://www.badmintonvlaanderen.be/sport/teammatch.aspx?id=952A42C0-E06A-
 400D-BAE7-1F26DE702556&match=928
DTSTART;TZID=Europe/Brussels:20231114T000000
DTEND;TZID=Europe/Brussels:20231114T000000
END:VEVENT
BEGIN:VEVENT
UID:952A42C0-E06A-400D-BAE7-1F26DE702556-21-923_homereminder@1922.badminton
 ners.net
DTSTAMP:20260420T055112Z
SUMMARY:Thuismatch ingevuld? (Zoersel 3G (98) - Duffel 1G (107))
DESCRIPTION:Je hebt 36 uur na aanvang om een thuismatch op Badmintonvlaande
 ren in te vullen. Match info: Zoersel 3G (98) - Duffel 1G (107) - Link: ht
 tps://www.badmintonvlaanderen.be/sport/teammatch.aspx?id=952A42C0-E06A-400
 D-BAE7-1F26DE702556&match=923
DTSTART;TZID=Europe/Brussels:20240305T000000
DTEND;TZID=Europe/Brussels:20240305T000000
END:VEVENT
BEGIN:VEVENT
UID:952A42C0-E06A-400D-BAE7-1F26DE702556-21-933_homereminder@1922.badminton
 ners.net
DTSTAMP:20260420T055112Z
SUMMARY:Thuismatch ingevuld? (Zoersel 3G (98) - Klein Boom 5G (96))
DESCRIPTION:Je hebt 36 uur na aanvang om een thuismatch op Badmintonvlaande
 ren in te vullen. Match info: Zoersel 3G (98) - Klein Boom 5G (96) - Link:
  https://www.badmintonvlaanderen.be/sport/teammatch.aspx?id=952A42C0-E06A-
 400D-BAE7-1F26DE702556&match=933
DTSTART;TZID=Europe/Brussels:20240430T000000
DTEND;TZID=Europe/Brussels:20240430T000000
END:VEVENT
BEGIN:VEVENT
UID:952A42C0-E06A-400D-BAE7-1F26DE702556-21-916_awayreminder@1922.badminton
 ners.net
DTSTAMP:20260420T055112Z
SUMMARY:Uitmatch bevestigd? (Klein Boom 5G (96) - Zoersel 3G (98))
DESCRIPTION:Je hebt 72 uur na aanvang om een uitmatch op Badmintonvlaandere
 n in te vullen. Match info: Klein Boom 5G (96) - Zoersel 3G (98) - Link: h
 ttps://www.badmintonvlaanderen.be/sport/teammatch.aspx?id=952A42C0-E06A-40
 0D-BAE7-1F26DE702556&match=916
DTSTART;TZID=Europe/Brussels:20231101T190000
DTEND;TZID=Europe/Brussels:20231101T190000
END:VEVENT
BEGIN:VEVENT
UID:952A42C0-E06A-400D-BAE7-1F26DE702556-21-914_awayreminder@1922.badminton
 ners.net
DTSTAMP:20260420T055112Z
SUMMARY:Uitmatch bevestigd? (Duffel 1G (107) - Zoersel 3G (98))
DESCRIPTION:Je hebt 72 uur na aanvang om een uitmatch op Badmintonvlaandere
 n in te vullen. Match info: Duffel 1G (107) - Zoersel 3G (98) - Link: http
 s://www.badmintonvlaanderen.be/sport/teammatch.aspx?id=952A42C0-E06A-400D-
 BAE7-1F26DE702556&match=914
DTSTART;TZID=Europe/Brussels:20231213T200000
DTEND;TZID=Europe/Brussels:20231213T200000
END:VEVENT
BEGIN:VEVENT
UID:952A42C0-E06A-400D-BAE7-1F26DE702556-21-917_awayreminder@1922.badminton
 ners.net
DTSTAMP:20260420T055112Z
SUMMARY:Uitmatch bevestigd? (Herentals 3G (90) - Zoersel 3G (98))
DESCRIPTION:Je hebt 72 uur na aanvang om een uitmatch op Badmintonvlaandere
 n in te vullen. Match info: Herentals 3G (90) - Zoersel 3G (98) - Link: ht
 tps://www.badmintonvlaanderen.be/sport/teammatch.aspx?id=952A42C0-E06A-400
 D-BAE7-1F26DE702556&match=917
DTSTART;TZID=Europe/Brussels:20240121T210000
DTEND;TZID=Europe/Brussels:20240121T210000
END:VEVENT
BEGIN:VEVENT
UID:952A42C0-E06A-400D-BAE7-1F26DE702556-21-913_awayreminder@1922.badminton
 ners.net
DTSTAMP:20260420T055112Z
SUMMARY:Uitmatch bevestigd? (Beerke 3G (96) - Zoersel 3G (98))
DESCRIPTION:Je hebt 72 uur na aanvang om een uitmatch op Badmintonvlaandere
 n in te vullen. Match info: Beerke 3G (96) - Zoersel 3G (98) - Link: https
 ://www.badmintonvlaanderen.be/sport/teammatch.aspx?id=952A42C0-E06A-400D-B
 AE7-1F26DE702556&match=913
DTSTART;TZID=Europe/Brussels:20240221T100000
DTEND;TZID=Europe/Brussels:20240221T100000
END:VEVENT
BEGIN:VEVENT
UID:952A42C0-E06A-400D-BAE7-1F26DE702556-21-915_awayreminder@1922.badminton
 ners.net
DTSTAMP:20260420T055112Z
SUMMARY:Uitmatch bevestigd? (Merksplas 2G (100) - Zoersel 3G (98))
DESCRIPTION:Je hebt 72 uur na aanvang om een uitmatch op Badmintonvlaandere
 n in te vullen. Match info: Merksplas 2G (100) - Zoersel 3G (98) - Link: h
 ttps://www.badmintonvlaanderen.be/sport/teammatch.aspx?id=952A42C0-E06A-40
 0D-BAE7-1F26DE702556&match=915
DTSTART;TZID=Europe/Brussels:20240320T183000
DTEND;TZID=Europe/Brussels:20240320T183000
END:VEVENT
END:VCALENDAR