BEGIN:VCALENDAR
VERSION:2.0
PRODID:spatie/icalendar-generator
NAME:beerke_3g_96_reminders
X-WR-CALNAME:beerke_3g_96_reminders
BEGIN:VTIMEZONE
TZID:Europe/Brussels
BEGIN:DAYLIGHT
DTSTART:20230326T010000
TZOFFSETFROM:+0100
TZOFFSETTO:+0200
END:DAYLIGHT
BEGIN:STANDARD
DTSTART:20231029T030000
TZOFFSETFROM:+0200
TZOFFSETTO:+0100
END:STANDARD
BEGIN:DAYLIGHT
DTSTART:20240331T010000
TZOFFSETFROM:+0100
TZOFFSETTO:+0200
END:DAYLIGHT
END:VTIMEZONE
BEGIN:VTIMEZONE
TZID:UTC
BEGIN:STANDARD
DTSTART:20250724T055114
TZOFFSETFROM:+0000
TZOFFSETTO:+0000
END:STANDARD
END:VTIMEZONE
BEGIN:VEVENT
UID:952A42C0-E06A-400D-BAE7-1F26DE702556-21-934_homereminder@1924.badminton
 ners.net
DTSTAMP:20260420T055114Z
SUMMARY:Thuismatch ingevuld? (Beerke 3G (96) - Klein Boom 5G (96))
DESCRIPTION:Je hebt 36 uur na aanvang om een thuismatch op Badmintonvlaande
 ren in te vullen. Match info: Beerke 3G (96) - Klein Boom 5G (96) - Link: 
 https://www.badmintonvlaanderen.be/sport/teammatch.aspx?id=952A42C0-E06A-4
 00D-BAE7-1F26DE702556&match=934
DTSTART;TZID=Europe/Brussels:20231002T220000
DTEND;TZID=Europe/Brussels:20231002T220000
END:VEVENT
BEGIN:VEVENT
UID:952A42C0-E06A-400D-BAE7-1F26DE702556-21-924_homereminder@1924.badminton
 ners.net
DTSTAMP:20260420T055114Z
SUMMARY:Thuismatch ingevuld? (Beerke 3G (96) - Duffel 1G (107))
DESCRIPTION:Je hebt 36 uur na aanvang om een thuismatch op Badmintonvlaande
 ren in te vullen. Match info: Beerke 3G (96) - Duffel 1G (107) - Link: htt
 ps://www.badmintonvlaanderen.be/sport/teammatch.aspx?id=952A42C0-E06A-400D
 -BAE7-1F26DE702556&match=924
DTSTART;TZID=Europe/Brussels:20231016T220000
DTEND;TZID=Europe/Brussels:20231016T220000
END:VEVENT
BEGIN:VEVENT
UID:952A42C0-E06A-400D-BAE7-1F26DE702556-21-939_homereminder@1924.badminton
 ners.net
DTSTAMP:20260420T055114Z
SUMMARY:Thuismatch ingevuld? (Beerke 3G (96) - Herentals 3G (90))
DESCRIPTION:Je hebt 36 uur na aanvang om een thuismatch op Badmintonvlaande
 ren in te vullen. Match info: Beerke 3G (96) - Herentals 3G (90) - Link: h
 ttps://www.badmintonvlaanderen.be/sport/teammatch.aspx?id=952A42C0-E06A-40
 0D-BAE7-1F26DE702556&match=939
DTSTART;TZID=Europe/Brussels:20231211T220000
DTEND;TZID=Europe/Brussels:20231211T220000
END:VEVENT
BEGIN:VEVENT
UID:952A42C0-E06A-400D-BAE7-1F26DE702556-21-913_homereminder@1924.badminton
 ners.net
DTSTAMP:20260420T055114Z
SUMMARY:Thuismatch ingevuld? (Beerke 3G (96) - Zoersel 3G (98))
DESCRIPTION:Je hebt 36 uur na aanvang om een thuismatch op Badmintonvlaande
 ren in te vullen. Match info: Beerke 3G (96) - Zoersel 3G (98) - Link: htt
 ps://www.badmintonvlaanderen.be/sport/teammatch.aspx?id=952A42C0-E06A-400D
 -BAE7-1F26DE702556&match=913
DTSTART;TZID=Europe/Brussels:20240219T220000
DTEND;TZID=Europe/Brussels:20240219T220000
END:VEVENT
BEGIN:VEVENT
UID:952A42C0-E06A-400D-BAE7-1F26DE702556-21-929_homereminder@1924.badminton
 ners.net
DTSTAMP:20260420T055114Z
SUMMARY:Thuismatch ingevuld? (Beerke 3G (96) - Merksplas 2G (100))
DESCRIPTION:Je hebt 36 uur na aanvang om een thuismatch op Badmintonvlaande
 ren in te vullen. Match info: Beerke 3G (96) - Merksplas 2G (100) - Link: 
 https://www.badmintonvlaanderen.be/sport/teammatch.aspx?id=952A42C0-E06A-4
 00D-BAE7-1F26DE702556&match=929
DTSTART;TZID=Europe/Brussels:20240415T220000
DTEND;TZID=Europe/Brussels:20240415T220000
END:VEVENT
BEGIN:VEVENT
UID:952A42C0-E06A-400D-BAE7-1F26DE702556-21-918_awayreminder@1924.badminton
 ners.net
DTSTAMP:20260420T055114Z
SUMMARY:Uitmatch bevestigd? (Zoersel 3G (98) - Beerke 3G (96))
DESCRIPTION:Je hebt 72 uur na aanvang om een uitmatch op Badmintonvlaandere
 n in te vullen. Match info: Zoersel 3G (98) - Beerke 3G (96) - Link: https
 ://www.badmintonvlaanderen.be/sport/teammatch.aspx?id=952A42C0-E06A-400D-B
 AE7-1F26DE702556&match=918
DTSTART;TZID=Europe/Brussels:20230920T120000
DTEND;TZID=Europe/Brussels:20230920T120000
END:VEVENT
BEGIN:VEVENT
UID:952A42C0-E06A-400D-BAE7-1F26DE702556-21-920_awayreminder@1924.badminton
 ners.net
DTSTAMP:20260420T055114Z
SUMMARY:Uitmatch bevestigd? (Merksplas 2G (100) - Beerke 3G (96))
DESCRIPTION:Je hebt 72 uur na aanvang om een uitmatch op Badmintonvlaandere
 n in te vullen. Match info: Merksplas 2G (100) - Beerke 3G (96) - Link: ht
 tps://www.badmintonvlaanderen.be/sport/teammatch.aspx?id=952A42C0-E06A-400
 D-BAE7-1F26DE702556&match=920
DTSTART;TZID=Europe/Brussels:20231101T183000
DTEND;TZID=Europe/Brussels:20231101T183000
END:VEVENT
BEGIN:VEVENT
UID:952A42C0-E06A-400D-BAE7-1F26DE702556-21-921_awayreminder@1924.badminton
 ners.net
DTSTAMP:20260420T055114Z
SUMMARY:Uitmatch bevestigd? (Klein Boom 5G (96) - Beerke 3G (96))
DESCRIPTION:Je hebt 72 uur na aanvang om een uitmatch op Badmintonvlaandere
 n in te vullen. Match info: Klein Boom 5G (96) - Beerke 3G (96) - Link: ht
 tps://www.badmintonvlaanderen.be/sport/teammatch.aspx?id=952A42C0-E06A-400
 D-BAE7-1F26DE702556&match=921
DTSTART;TZID=Europe/Brussels:20240124T190000
DTEND;TZID=Europe/Brussels:20240124T190000
END:VEVENT
BEGIN:VEVENT
UID:952A42C0-E06A-400D-BAE7-1F26DE702556-21-922_awayreminder@1924.badminton
 ners.net
DTSTAMP:20260420T055114Z
SUMMARY:Uitmatch bevestigd? (Herentals 3G (90) - Beerke 3G (96))
DESCRIPTION:Je hebt 72 uur na aanvang om een uitmatch op Badmintonvlaandere
 n in te vullen. Match info: Herentals 3G (90) - Beerke 3G (96) - Link: htt
 ps://www.badmintonvlaanderen.be/sport/teammatch.aspx?id=952A42C0-E06A-400D
 -BAE7-1F26DE702556&match=922
DTSTART;TZID=Europe/Brussels:20240303T210000
DTEND;TZID=Europe/Brussels:20240303T210000
END:VEVENT
BEGIN:VEVENT
UID:952A42C0-E06A-400D-BAE7-1F26DE702556-21-919_awayreminder@1924.badminton
 ners.net
DTSTAMP:20260420T055114Z
SUMMARY:Uitmatch bevestigd? (Duffel 1G (107) - Beerke 3G (96))
DESCRIPTION:Je hebt 72 uur na aanvang om een uitmatch op Badmintonvlaandere
 n in te vullen. Match info: Duffel 1G (107) - Beerke 3G (96) - Link: https
 ://www.badmintonvlaanderen.be/sport/teammatch.aspx?id=952A42C0-E06A-400D-B
 AE7-1F26DE702556&match=919
DTSTART;TZID=Europe/Brussels:20240320T200000
DTEND;TZID=Europe/Brussels:20240320T200000
END:VEVENT
END:VCALENDAR