BEGIN:VCALENDAR
VERSION:2.0
PRODID:spatie/icalendar-generator
NAME:herentals_3g_90_reminders
X-WR-CALNAME:herentals_3g_90_reminders
BEGIN:VTIMEZONE
TZID:Europe/Brussels
BEGIN:DAYLIGHT
DTSTART:20230326T010000
TZOFFSETFROM:+0100
TZOFFSETTO:+0200
END:DAYLIGHT
BEGIN:STANDARD
DTSTART:20231029T030000
TZOFFSETFROM:+0200
TZOFFSETTO:+0100
END:STANDARD
BEGIN:DAYLIGHT
DTSTART:20240331T010000
TZOFFSETFROM:+0100
TZOFFSETTO:+0200
END:DAYLIGHT
BEGIN:STANDARD
DTSTART:20241027T030000
TZOFFSETFROM:+0200
TZOFFSETTO:+0100
END:STANDARD
END:VTIMEZONE
BEGIN:VTIMEZONE
TZID:UTC
BEGIN:STANDARD
DTSTART:20250724T055122
TZOFFSETFROM:+0000
TZOFFSETTO:+0000
END:STANDARD
END:VTIMEZONE
BEGIN:VEVENT
UID:952A42C0-E06A-400D-BAE7-1F26DE702556-21-937_homereminder@1933.badminton
 ners.net
DTSTAMP:20260420T055122Z
SUMMARY:Thuismatch ingevuld? (Herentals 3G (90) - Klein Boom 5G (96))
DESCRIPTION:Je hebt 36 uur na aanvang om een thuismatch op Badmintonvlaande
 ren in te vullen. Match info: Herentals 3G (90) - Klein Boom 5G (96) - Lin
 k: https://www.badmintonvlaanderen.be/sport/teammatch.aspx?id=952A42C0-E06
 A-400D-BAE7-1F26DE702556&match=937
DTSTART;TZID=Europe/Brussels:20231112T090000
DTEND;TZID=Europe/Brussels:20231112T090000
END:VEVENT
BEGIN:VEVENT
UID:952A42C0-E06A-400D-BAE7-1F26DE702556-21-932_homereminder@1933.badminton
 ners.net
DTSTAMP:20260420T055122Z
SUMMARY:Thuismatch ingevuld? (Herentals 3G (90) - Merksplas 2G (100))
DESCRIPTION:Je hebt 36 uur na aanvang om een thuismatch op Badmintonvlaande
 ren in te vullen. Match info: Herentals 3G (90) - Merksplas 2G (100) - Lin
 k: https://www.badmintonvlaanderen.be/sport/teammatch.aspx?id=952A42C0-E06
 A-400D-BAE7-1F26DE702556&match=932
DTSTART;TZID=Europe/Brussels:20231216T090000
DTEND;TZID=Europe/Brussels:20231216T090000
END:VEVENT
BEGIN:VEVENT
UID:952A42C0-E06A-400D-BAE7-1F26DE702556-21-917_homereminder@1933.badminton
 ners.net
DTSTAMP:20260420T055122Z
SUMMARY:Thuismatch ingevuld? (Herentals 3G (90) - Zoersel 3G (98))
DESCRIPTION:Je hebt 36 uur na aanvang om een thuismatch op Badmintonvlaande
 ren in te vullen. Match info: Herentals 3G (90) - Zoersel 3G (98) - Link: 
 https://www.badmintonvlaanderen.be/sport/teammatch.aspx?id=952A42C0-E06A-4
 00D-BAE7-1F26DE702556&match=917
DTSTART;TZID=Europe/Brussels:20240120T090000
DTEND;TZID=Europe/Brussels:20240120T090000
END:VEVENT
BEGIN:VEVENT
UID:952A42C0-E06A-400D-BAE7-1F26DE702556-21-927_homereminder@1933.badminton
 ners.net
DTSTAMP:20260420T055122Z
SUMMARY:Thuismatch ingevuld? (Herentals 3G (90) - Duffel 1G (107))
DESCRIPTION:Je hebt 36 uur na aanvang om een thuismatch op Badmintonvlaande
 ren in te vullen. Match info: Herentals 3G (90) - Duffel 1G (107) - Link: 
 https://www.badmintonvlaanderen.be/sport/teammatch.aspx?id=952A42C0-E06A-4
 00D-BAE7-1F26DE702556&match=927
DTSTART;TZID=Europe/Brussels:20240210T090000
DTEND;TZID=Europe/Brussels:20240210T090000
END:VEVENT
BEGIN:VEVENT
UID:952A42C0-E06A-400D-BAE7-1F26DE702556-21-922_homereminder@1933.badminton
 ners.net
DTSTAMP:20260420T055122Z
SUMMARY:Thuismatch ingevuld? (Herentals 3G (90) - Beerke 3G (96))
DESCRIPTION:Je hebt 36 uur na aanvang om een thuismatch op Badmintonvlaande
 ren in te vullen. Match info: Herentals 3G (90) - Beerke 3G (96) - Link: h
 ttps://www.badmintonvlaanderen.be/sport/teammatch.aspx?id=952A42C0-E06A-40
 0D-BAE7-1F26DE702556&match=922
DTSTART;TZID=Europe/Brussels:20240302T090000
DTEND;TZID=Europe/Brussels:20240302T090000
END:VEVENT
BEGIN:VEVENT
UID:952A42C0-E06A-400D-BAE7-1F26DE702556-21-938_awayreminder@1933.badminton
 ners.net
DTSTAMP:20260420T055122Z
SUMMARY:Uitmatch bevestigd? (Zoersel 3G (98) - Herentals 3G (90))
DESCRIPTION:Je hebt 72 uur na aanvang om een uitmatch op Badmintonvlaandere
 n in te vullen. Match info: Zoersel 3G (98) - Herentals 3G (90) - Link: ht
 tps://www.badmintonvlaanderen.be/sport/teammatch.aspx?id=952A42C0-E06A-400
 D-BAE7-1F26DE702556&match=938
DTSTART;TZID=Europe/Brussels:20231004T120000
DTEND;TZID=Europe/Brussels:20231004T120000
END:VEVENT
BEGIN:VEVENT
UID:952A42C0-E06A-400D-BAE7-1F26DE702556-21-940_awayreminder@1933.badminton
 ners.net
DTSTAMP:20260420T055122Z
SUMMARY:Uitmatch bevestigd? (Duffel 1G (107) - Herentals 3G (90))
DESCRIPTION:Je hebt 72 uur na aanvang om een uitmatch op Badmintonvlaandere
 n in te vullen. Match info: Duffel 1G (107) - Herentals 3G (90) - Link: ht
 tps://www.badmintonvlaanderen.be/sport/teammatch.aspx?id=952A42C0-E06A-400
 D-BAE7-1F26DE702556&match=940
DTSTART;TZID=Europe/Brussels:20231129T200000
DTEND;TZID=Europe/Brussels:20231129T200000
END:VEVENT
BEGIN:VEVENT
UID:952A42C0-E06A-400D-BAE7-1F26DE702556-21-939_awayreminder@1933.badminton
 ners.net
DTSTAMP:20260420T055122Z
SUMMARY:Uitmatch bevestigd? (Beerke 3G (96) - Herentals 3G (90))
DESCRIPTION:Je hebt 72 uur na aanvang om een uitmatch op Badmintonvlaandere
 n in te vullen. Match info: Beerke 3G (96) - Herentals 3G (90) - Link: htt
 ps://www.badmintonvlaanderen.be/sport/teammatch.aspx?id=952A42C0-E06A-400D
 -BAE7-1F26DE702556&match=939
DTSTART;TZID=Europe/Brussels:20231213T100000
DTEND;TZID=Europe/Brussels:20231213T100000
END:VEVENT
BEGIN:VEVENT
UID:952A42C0-E06A-400D-BAE7-1F26DE702556-21-942_awayreminder@1933.badminton
 ners.net
DTSTAMP:20260420T055122Z
SUMMARY:Uitmatch bevestigd? (Klein Boom 5G (96) - Herentals 3G (90))
DESCRIPTION:Je hebt 72 uur na aanvang om een uitmatch op Badmintonvlaandere
 n in te vullen. Match info: Klein Boom 5G (96) - Herentals 3G (90) - Link:
  https://www.badmintonvlaanderen.be/sport/teammatch.aspx?id=952A42C0-E06A-
 400D-BAE7-1F26DE702556&match=942
DTSTART;TZID=Europe/Brussels:20240424T190000
DTEND;TZID=Europe/Brussels:20240424T190000
END:VEVENT
BEGIN:VEVENT
UID:952A42C0-E06A-400D-BAE7-1F26DE702556-21-941_awayreminder@1933.badminton
 ners.net
DTSTAMP:20260420T055122Z
SUMMARY:Uitmatch bevestigd? (Merksplas 2G (100) - Herentals 3G (90))
DESCRIPTION:Je hebt 72 uur na aanvang om een uitmatch op Badmintonvlaandere
 n in te vullen. Match info: Merksplas 2G (100) - Herentals 3G (90) - Link:
  https://www.badmintonvlaanderen.be/sport/teammatch.aspx?id=952A42C0-E06A-
 400D-BAE7-1F26DE702556&match=941
DTSTART;TZID=Europe/Brussels:20240501T183000
DTEND;TZID=Europe/Brussels:20240501T183000
END:VEVENT
END:VCALENDAR