BEGIN:VCALENDAR
VERSION:2.0
PRODID:spatie/icalendar-generator
NAME:klein_boom_5g_96_reminders
X-WR-CALNAME:klein_boom_5g_96_reminders
BEGIN:VTIMEZONE
TZID:Europe/Brussels
BEGIN:DAYLIGHT
DTSTART:20230326T010000
TZOFFSETFROM:+0100
TZOFFSETTO:+0200
END:DAYLIGHT
BEGIN:STANDARD
DTSTART:20231029T030000
TZOFFSETFROM:+0200
TZOFFSETTO:+0100
END:STANDARD
BEGIN:DAYLIGHT
DTSTART:20240331T010000
TZOFFSETFROM:+0100
TZOFFSETTO:+0200
END:DAYLIGHT
BEGIN:STANDARD
DTSTART:20241027T030000
TZOFFSETFROM:+0200
TZOFFSETTO:+0100
END:STANDARD
END:VTIMEZONE
BEGIN:VTIMEZONE
TZID:UTC
BEGIN:STANDARD
DTSTART:20250724T055119
TZOFFSETFROM:+0000
TZOFFSETTO:+0000
END:STANDARD
END:VTIMEZONE
BEGIN:VEVENT
UID:952A42C0-E06A-400D-BAE7-1F26DE702556-21-926_homereminder@1937.badminton
 ners.net
DTSTAMP:20260420T055119Z
SUMMARY:Thuismatch ingevuld? (Klein Boom 5G (96) - Duffel 1G (107))
DESCRIPTION:Je hebt 36 uur na aanvang om een thuismatch op Badmintonvlaande
 ren in te vullen. Match info: Klein Boom 5G (96) - Duffel 1G (107) - Link:
  https://www.badmintonvlaanderen.be/sport/teammatch.aspx?id=952A42C0-E06A-
 400D-BAE7-1F26DE702556&match=926
DTSTART;TZID=Europe/Brussels:20230905T070000
DTEND;TZID=Europe/Brussels:20230905T070000
END:VEVENT
BEGIN:VEVENT
UID:952A42C0-E06A-400D-BAE7-1F26DE702556-21-916_homereminder@1937.badminton
 ners.net
DTSTAMP:20260420T055119Z
SUMMARY:Thuismatch ingevuld? (Klein Boom 5G (96) - Zoersel 3G (98))
DESCRIPTION:Je hebt 36 uur na aanvang om een thuismatch op Badmintonvlaande
 ren in te vullen. Match info: Klein Boom 5G (96) - Zoersel 3G (98) - Link:
  https://www.badmintonvlaanderen.be/sport/teammatch.aspx?id=952A42C0-E06A-
 400D-BAE7-1F26DE702556&match=916
DTSTART;TZID=Europe/Brussels:20231031T070000
DTEND;TZID=Europe/Brussels:20231031T070000
END:VEVENT
BEGIN:VEVENT
UID:952A42C0-E06A-400D-BAE7-1F26DE702556-21-931_homereminder@1937.badminton
 ners.net
DTSTAMP:20260420T055119Z
SUMMARY:Thuismatch ingevuld? (Klein Boom 5G (96) - Merksplas 2G (100))
DESCRIPTION:Je hebt 36 uur na aanvang om een thuismatch op Badmintonvlaande
 ren in te vullen. Match info: Klein Boom 5G (96) - Merksplas 2G (100) - Li
 nk: https://www.badmintonvlaanderen.be/sport/teammatch.aspx?id=952A42C0-E0
 6A-400D-BAE7-1F26DE702556&match=931
DTSTART;TZID=Europe/Brussels:20240109T070000
DTEND;TZID=Europe/Brussels:20240109T070000
END:VEVENT
BEGIN:VEVENT
UID:952A42C0-E06A-400D-BAE7-1F26DE702556-21-921_homereminder@1937.badminton
 ners.net
DTSTAMP:20260420T055119Z
SUMMARY:Thuismatch ingevuld? (Klein Boom 5G (96) - Beerke 3G (96))
DESCRIPTION:Je hebt 36 uur na aanvang om een thuismatch op Badmintonvlaande
 ren in te vullen. Match info: Klein Boom 5G (96) - Beerke 3G (96) - Link: 
 https://www.badmintonvlaanderen.be/sport/teammatch.aspx?id=952A42C0-E06A-4
 00D-BAE7-1F26DE702556&match=921
DTSTART;TZID=Europe/Brussels:20240123T070000
DTEND;TZID=Europe/Brussels:20240123T070000
END:VEVENT
BEGIN:VEVENT
UID:952A42C0-E06A-400D-BAE7-1F26DE702556-21-942_homereminder@1937.badminton
 ners.net
DTSTAMP:20260420T055119Z
SUMMARY:Thuismatch ingevuld? (Klein Boom 5G (96) - Herentals 3G (90))
DESCRIPTION:Je hebt 36 uur na aanvang om een thuismatch op Badmintonvlaande
 ren in te vullen. Match info: Klein Boom 5G (96) - Herentals 3G (90) - Lin
 k: https://www.badmintonvlaanderen.be/sport/teammatch.aspx?id=952A42C0-E06
 A-400D-BAE7-1F26DE702556&match=942
DTSTART;TZID=Europe/Brussels:20240423T070000
DTEND;TZID=Europe/Brussels:20240423T070000
END:VEVENT
BEGIN:VEVENT
UID:952A42C0-E06A-400D-BAE7-1F26DE702556-21-934_awayreminder@1937.badminton
 ners.net
DTSTAMP:20260420T055119Z
SUMMARY:Uitmatch bevestigd? (Beerke 3G (96) - Klein Boom 5G (96))
DESCRIPTION:Je hebt 72 uur na aanvang om een uitmatch op Badmintonvlaandere
 n in te vullen. Match info: Beerke 3G (96) - Klein Boom 5G (96) - Link: ht
 tps://www.badmintonvlaanderen.be/sport/teammatch.aspx?id=952A42C0-E06A-400
 D-BAE7-1F26DE702556&match=934
DTSTART;TZID=Europe/Brussels:20231004T100000
DTEND;TZID=Europe/Brussels:20231004T100000
END:VEVENT
BEGIN:VEVENT
UID:952A42C0-E06A-400D-BAE7-1F26DE702556-21-937_awayreminder@1937.badminton
 ners.net
DTSTAMP:20260420T055119Z
SUMMARY:Uitmatch bevestigd? (Herentals 3G (90) - Klein Boom 5G (96))
DESCRIPTION:Je hebt 72 uur na aanvang om een uitmatch op Badmintonvlaandere
 n in te vullen. Match info: Herentals 3G (90) - Klein Boom 5G (96) - Link:
  https://www.badmintonvlaanderen.be/sport/teammatch.aspx?id=952A42C0-E06A-
 400D-BAE7-1F26DE702556&match=937
DTSTART;TZID=Europe/Brussels:20231113T210000
DTEND;TZID=Europe/Brussels:20231113T210000
END:VEVENT
BEGIN:VEVENT
UID:952A42C0-E06A-400D-BAE7-1F26DE702556-21-936_awayreminder@1937.badminton
 ners.net
DTSTAMP:20260420T055119Z
SUMMARY:Uitmatch bevestigd? (Merksplas 2G (100) - Klein Boom 5G (96))
DESCRIPTION:Je hebt 72 uur na aanvang om een uitmatch op Badmintonvlaandere
 n in te vullen. Match info: Merksplas 2G (100) - Klein Boom 5G (96) - Link
 : https://www.badmintonvlaanderen.be/sport/teammatch.aspx?id=952A42C0-E06A
 -400D-BAE7-1F26DE702556&match=936
DTSTART;TZID=Europe/Brussels:20231129T183000
DTEND;TZID=Europe/Brussels:20231129T183000
END:VEVENT
BEGIN:VEVENT
UID:952A42C0-E06A-400D-BAE7-1F26DE702556-21-935_awayreminder@1937.badminton
 ners.net
DTSTAMP:20260420T055119Z
SUMMARY:Uitmatch bevestigd? (Duffel 1G (107) - Klein Boom 5G (96))
DESCRIPTION:Je hebt 72 uur na aanvang om een uitmatch op Badmintonvlaandere
 n in te vullen. Match info: Duffel 1G (107) - Klein Boom 5G (96) - Link: h
 ttps://www.badmintonvlaanderen.be/sport/teammatch.aspx?id=952A42C0-E06A-40
 0D-BAE7-1F26DE702556&match=935
DTSTART;TZID=Europe/Brussels:20240221T200000
DTEND;TZID=Europe/Brussels:20240221T200000
END:VEVENT
BEGIN:VEVENT
UID:952A42C0-E06A-400D-BAE7-1F26DE702556-21-933_awayreminder@1937.badminton
 ners.net
DTSTAMP:20260420T055119Z
SUMMARY:Uitmatch bevestigd? (Zoersel 3G (98) - Klein Boom 5G (96))
DESCRIPTION:Je hebt 72 uur na aanvang om een uitmatch op Badmintonvlaandere
 n in te vullen. Match info: Zoersel 3G (98) - Klein Boom 5G (96) - Link: h
 ttps://www.badmintonvlaanderen.be/sport/teammatch.aspx?id=952A42C0-E06A-40
 0D-BAE7-1F26DE702556&match=933
DTSTART;TZID=Europe/Brussels:20240501T120000
DTEND;TZID=Europe/Brussels:20240501T120000
END:VEVENT
END:VCALENDAR