BEGIN:VCALENDAR
VERSION:2.0
PRODID:spatie/icalendar-generator
NAME:merksplas_2g_100_reminders
X-WR-CALNAME:merksplas_2g_100_reminders
BEGIN:VTIMEZONE
TZID:Europe/Brussels
BEGIN:DAYLIGHT
DTSTART:20230326T010000
TZOFFSETFROM:+0100
TZOFFSETTO:+0200
END:DAYLIGHT
BEGIN:STANDARD
DTSTART:20231029T030000
TZOFFSETFROM:+0200
TZOFFSETTO:+0100
END:STANDARD
BEGIN:DAYLIGHT
DTSTART:20240331T010000
TZOFFSETFROM:+0100
TZOFFSETTO:+0200
END:DAYLIGHT
BEGIN:STANDARD
DTSTART:20241027T030000
TZOFFSETFROM:+0200
TZOFFSETTO:+0100
END:STANDARD
END:VTIMEZONE
BEGIN:VTIMEZONE
TZID:UTC
BEGIN:STANDARD
DTSTART:20250724T072350
TZOFFSETFROM:+0000
TZOFFSETTO:+0000
END:STANDARD
END:VTIMEZONE
BEGIN:VEVENT
UID:952A42C0-E06A-400D-BAE7-1F26DE702556-21-920_homereminder@1940.badminton
 ners.net
DTSTAMP:20260420T072350Z
SUMMARY:Thuismatch ingevuld? (Merksplas 2G (100) - Beerke 3G (96))
DESCRIPTION:Je hebt 36 uur na aanvang om een thuismatch op Badmintonvlaande
 ren in te vullen. Match info: Merksplas 2G (100) - Beerke 3G (96) - Link: 
 https://www.badmintonvlaanderen.be/sport/teammatch.aspx?id=952A42C0-E06A-4
 00D-BAE7-1F26DE702556&match=920
DTSTART;TZID=Europe/Brussels:20231031T063000
DTEND;TZID=Europe/Brussels:20231031T063000
END:VEVENT
BEGIN:VEVENT
UID:952A42C0-E06A-400D-BAE7-1F26DE702556-21-936_homereminder@1940.badminton
 ners.net
DTSTAMP:20260420T072350Z
SUMMARY:Thuismatch ingevuld? (Merksplas 2G (100) - Klein Boom 5G (96))
DESCRIPTION:Je hebt 36 uur na aanvang om een thuismatch op Badmintonvlaande
 ren in te vullen. Match info: Merksplas 2G (100) - Klein Boom 5G (96) - Li
 nk: https://www.badmintonvlaanderen.be/sport/teammatch.aspx?id=952A42C0-E0
 6A-400D-BAE7-1F26DE702556&match=936
DTSTART;TZID=Europe/Brussels:20231128T063000
DTEND;TZID=Europe/Brussels:20231128T063000
END:VEVENT
BEGIN:VEVENT
UID:952A42C0-E06A-400D-BAE7-1F26DE702556-21-925_homereminder@1940.badminton
 ners.net
DTSTAMP:20260420T072350Z
SUMMARY:Thuismatch ingevuld? (Merksplas 2G (100) - Duffel 1G (107))
DESCRIPTION:Je hebt 36 uur na aanvang om een thuismatch op Badmintonvlaande
 ren in te vullen. Match info: Merksplas 2G (100) - Duffel 1G (107) - Link:
  https://www.badmintonvlaanderen.be/sport/teammatch.aspx?id=952A42C0-E06A-
 400D-BAE7-1F26DE702556&match=925
DTSTART;TZID=Europe/Brussels:20240123T063000
DTEND;TZID=Europe/Brussels:20240123T063000
END:VEVENT
BEGIN:VEVENT
UID:952A42C0-E06A-400D-BAE7-1F26DE702556-21-915_homereminder@1940.badminton
 ners.net
DTSTAMP:20260420T072350Z
SUMMARY:Thuismatch ingevuld? (Merksplas 2G (100) - Zoersel 3G (98))
DESCRIPTION:Je hebt 36 uur na aanvang om een thuismatch op Badmintonvlaande
 ren in te vullen. Match info: Merksplas 2G (100) - Zoersel 3G (98) - Link:
  https://www.badmintonvlaanderen.be/sport/teammatch.aspx?id=952A42C0-E06A-
 400D-BAE7-1F26DE702556&match=915
DTSTART;TZID=Europe/Brussels:20240319T063000
DTEND;TZID=Europe/Brussels:20240319T063000
END:VEVENT
BEGIN:VEVENT
UID:952A42C0-E06A-400D-BAE7-1F26DE702556-21-941_homereminder@1940.badminton
 ners.net
DTSTAMP:20260420T072350Z
SUMMARY:Thuismatch ingevuld? (Merksplas 2G (100) - Herentals 3G (90))
DESCRIPTION:Je hebt 36 uur na aanvang om een thuismatch op Badmintonvlaande
 ren in te vullen. Match info: Merksplas 2G (100) - Herentals 3G (90) - Lin
 k: https://www.badmintonvlaanderen.be/sport/teammatch.aspx?id=952A42C0-E06
 A-400D-BAE7-1F26DE702556&match=941
DTSTART;TZID=Europe/Brussels:20240430T063000
DTEND;TZID=Europe/Brussels:20240430T063000
END:VEVENT
BEGIN:VEVENT
UID:952A42C0-E06A-400D-BAE7-1F26DE702556-21-930_awayreminder@1940.badminton
 ners.net
DTSTAMP:20260420T072350Z
SUMMARY:Uitmatch bevestigd? (Duffel 1G (107) - Merksplas 2G (100))
DESCRIPTION:Je hebt 72 uur na aanvang om een uitmatch op Badmintonvlaandere
 n in te vullen. Match info: Duffel 1G (107) - Merksplas 2G (100) - Link: h
 ttps://www.badmintonvlaanderen.be/sport/teammatch.aspx?id=952A42C0-E06A-40
 0D-BAE7-1F26DE702556&match=930
DTSTART;TZID=Europe/Brussels:20231025T200000
DTEND;TZID=Europe/Brussels:20231025T200000
END:VEVENT
BEGIN:VEVENT
UID:952A42C0-E06A-400D-BAE7-1F26DE702556-21-928_awayreminder@1940.badminton
 ners.net
DTSTAMP:20260420T072350Z
SUMMARY:Uitmatch bevestigd? (Zoersel 3G (98) - Merksplas 2G (100))
DESCRIPTION:Je hebt 72 uur na aanvang om een uitmatch op Badmintonvlaandere
 n in te vullen. Match info: Zoersel 3G (98) - Merksplas 2G (100) - Link: h
 ttps://www.badmintonvlaanderen.be/sport/teammatch.aspx?id=952A42C0-E06A-40
 0D-BAE7-1F26DE702556&match=928
DTSTART;TZID=Europe/Brussels:20231115T120000
DTEND;TZID=Europe/Brussels:20231115T120000
END:VEVENT
BEGIN:VEVENT
UID:952A42C0-E06A-400D-BAE7-1F26DE702556-21-932_awayreminder@1940.badminton
 ners.net
DTSTAMP:20260420T072350Z
SUMMARY:Uitmatch bevestigd? (Herentals 3G (90) - Merksplas 2G (100))
DESCRIPTION:Je hebt 72 uur na aanvang om een uitmatch op Badmintonvlaandere
 n in te vullen. Match info: Herentals 3G (90) - Merksplas 2G (100) - Link:
  https://www.badmintonvlaanderen.be/sport/teammatch.aspx?id=952A42C0-E06A-
 400D-BAE7-1F26DE702556&match=932
DTSTART;TZID=Europe/Brussels:20231217T210000
DTEND;TZID=Europe/Brussels:20231217T210000
END:VEVENT
BEGIN:VEVENT
UID:952A42C0-E06A-400D-BAE7-1F26DE702556-21-931_awayreminder@1940.badminton
 ners.net
DTSTAMP:20260420T072350Z
SUMMARY:Uitmatch bevestigd? (Klein Boom 5G (96) - Merksplas 2G (100))
DESCRIPTION:Je hebt 72 uur na aanvang om een uitmatch op Badmintonvlaandere
 n in te vullen. Match info: Klein Boom 5G (96) - Merksplas 2G (100) - Link
 : https://www.badmintonvlaanderen.be/sport/teammatch.aspx?id=952A42C0-E06A
 -400D-BAE7-1F26DE702556&match=931
DTSTART;TZID=Europe/Brussels:20240110T190000
DTEND;TZID=Europe/Brussels:20240110T190000
END:VEVENT
BEGIN:VEVENT
UID:952A42C0-E06A-400D-BAE7-1F26DE702556-21-929_awayreminder@1940.badminton
 ners.net
DTSTAMP:20260420T072350Z
SUMMARY:Uitmatch bevestigd? (Beerke 3G (96) - Merksplas 2G (100))
DESCRIPTION:Je hebt 72 uur na aanvang om een uitmatch op Badmintonvlaandere
 n in te vullen. Match info: Beerke 3G (96) - Merksplas 2G (100) - Link: ht
 tps://www.badmintonvlaanderen.be/sport/teammatch.aspx?id=952A42C0-E06A-400
 D-BAE7-1F26DE702556&match=929
DTSTART;TZID=Europe/Brussels:20240417T100000
DTEND;TZID=Europe/Brussels:20240417T100000
END:VEVENT
END:VCALENDAR