BEGIN:VCALENDAR
VERSION:2.0
PRODID:spatie/icalendar-generator
NAME:brasschaat_5g_85_reminders
X-WR-CALNAME:brasschaat_5g_85_reminders
BEGIN:VTIMEZONE
TZID:Europe/Brussels
BEGIN:DAYLIGHT
DTSTART:20230326T010000
TZOFFSETFROM:+0100
TZOFFSETTO:+0200
END:DAYLIGHT
BEGIN:STANDARD
DTSTART:20231029T030000
TZOFFSETFROM:+0200
TZOFFSETTO:+0100
END:STANDARD
BEGIN:DAYLIGHT
DTSTART:20240331T010000
TZOFFSETFROM:+0100
TZOFFSETTO:+0200
END:DAYLIGHT
BEGIN:STANDARD
DTSTART:20241027T030000
TZOFFSETFROM:+0200
TZOFFSETTO:+0100
END:STANDARD
END:VTIMEZONE
BEGIN:VTIMEZONE
TZID:UTC
BEGIN:STANDARD
DTSTART:20250724T073623
TZOFFSETFROM:+0000
TZOFFSETTO:+0000
END:STANDARD
END:VTIMEZONE
BEGIN:VEVENT
UID:952A42C0-E06A-400D-BAE7-1F26DE702556-23-996_homereminder@1929.badminton
 ners.net
DTSTAMP:20260420T073623Z
SUMMARY:Thuismatch ingevuld? (Brasschaat 5G (85) - Zandhoven 1G (91))
DESCRIPTION:Je hebt 36 uur na aanvang om een thuismatch op Badmintonvlaande
 ren in te vullen. Match info: Brasschaat 5G (85) - Zandhoven 1G (91) - Lin
 k: https://www.badmintonvlaanderen.be/sport/teammatch.aspx?id=952A42C0-E06
 A-400D-BAE7-1F26DE702556&match=996
DTSTART;TZID=Europe/Brussels:20231017T070000
DTEND;TZID=Europe/Brussels:20231017T070000
END:VEVENT
BEGIN:VEVENT
UID:952A42C0-E06A-400D-BAE7-1F26DE702556-23-1011_homereminder@1929.badminto
 nners.net
DTSTAMP:20260420T073623Z
SUMMARY:Thuismatch ingevuld? (Brasschaat 5G (85) - Plumula 3G (102))
DESCRIPTION:Je hebt 36 uur na aanvang om een thuismatch op Badmintonvlaande
 ren in te vullen. Match info: Brasschaat 5G (85) - Plumula 3G (102) - Link
 : https://www.badmintonvlaanderen.be/sport/teammatch.aspx?id=952A42C0-E06A
 -400D-BAE7-1F26DE702556&match=1011
DTSTART;TZID=Europe/Brussels:20231031T070000
DTEND;TZID=Europe/Brussels:20231031T070000
END:VEVENT
BEGIN:VEVENT
UID:952A42C0-E06A-400D-BAE7-1F26DE702556-23-1006_homereminder@1929.badminto
 nners.net
DTSTAMP:20260420T073623Z
SUMMARY:Thuismatch ingevuld? (Brasschaat 5G (85) - Herentals 4G (96))
DESCRIPTION:Je hebt 36 uur na aanvang om een thuismatch op Badmintonvlaande
 ren in te vullen. Match info: Brasschaat 5G (85) - Herentals 4G (96) - Lin
 k: https://www.badmintonvlaanderen.be/sport/teammatch.aspx?id=952A42C0-E06
 A-400D-BAE7-1F26DE702556&match=1006
DTSTART;TZID=Europe/Brussels:20231212T070000
DTEND;TZID=Europe/Brussels:20231212T070000
END:VEVENT
BEGIN:VEVENT
UID:952A42C0-E06A-400D-BAE7-1F26DE702556-23-985_homereminder@1929.badminton
 ners.net
DTSTAMP:20260420T073623Z
SUMMARY:Thuismatch ingevuld? (Brasschaat 5G (85) - Sint job 1G (102))
DESCRIPTION:Je hebt 36 uur na aanvang om een thuismatch op Badmintonvlaande
 ren in te vullen. Match info: Brasschaat 5G (85) - Sint job 1G (102) - Lin
 k: https://www.badmintonvlaanderen.be/sport/teammatch.aspx?id=952A42C0-E06
 A-400D-BAE7-1F26DE702556&match=985
DTSTART;TZID=Europe/Brussels:20240220T070000
DTEND;TZID=Europe/Brussels:20240220T070000
END:VEVENT
BEGIN:VEVENT
UID:952A42C0-E06A-400D-BAE7-1F26DE702556-23-1001_homereminder@1929.badminto
 nners.net
DTSTAMP:20260420T073623Z
SUMMARY:Thuismatch ingevuld? (Brasschaat 5G (85) - Klein Boom 4G (91))
DESCRIPTION:Je hebt 36 uur na aanvang om een thuismatch op Badmintonvlaande
 ren in te vullen. Match info: Brasschaat 5G (85) - Klein Boom 4G (91) - Li
 nk: https://www.badmintonvlaanderen.be/sport/teammatch.aspx?id=952A42C0-E0
 6A-400D-BAE7-1F26DE702556&match=1001
DTSTART;TZID=Europe/Brussels:20240430T070000
DTEND;TZID=Europe/Brussels:20240430T070000
END:VEVENT
BEGIN:VEVENT
UID:952A42C0-E06A-400D-BAE7-1F26DE702556-23-992_awayreminder@1929.badminton
 ners.net
DTSTAMP:20260420T073623Z
SUMMARY:Uitmatch bevestigd? (Klein Boom 4G (91) - Brasschaat 5G (85))
DESCRIPTION:Je hebt 72 uur na aanvang om een uitmatch op Badmintonvlaandere
 n in te vullen. Match info: Klein Boom 4G (91) - Brasschaat 5G (85) - Link
 : https://www.badmintonvlaanderen.be/sport/teammatch.aspx?id=952A42C0-E06A
 -400D-BAE7-1F26DE702556&match=992
DTSTART;TZID=Europe/Brussels:20231102T200000
DTEND;TZID=Europe/Brussels:20231102T200000
END:VEVENT
BEGIN:VEVENT
UID:952A42C0-E06A-400D-BAE7-1F26DE702556-23-990_awayreminder@1929.badminton
 ners.net
DTSTAMP:20260420T073623Z
SUMMARY:Uitmatch bevestigd? (Sint job 1G (102) - Brasschaat 5G (85))
DESCRIPTION:Je hebt 72 uur na aanvang om een uitmatch op Badmintonvlaandere
 n in te vullen. Match info: Sint job 1G (102) - Brasschaat 5G (85) - Link:
  https://www.badmintonvlaanderen.be/sport/teammatch.aspx?id=952A42C0-E06A-
 400D-BAE7-1F26DE702556&match=990
DTSTART;TZID=Europe/Brussels:20231129T100000
DTEND;TZID=Europe/Brussels:20231129T100000
END:VEVENT
BEGIN:VEVENT
UID:952A42C0-E06A-400D-BAE7-1F26DE702556-23-993_awayreminder@1929.badminton
 ners.net
DTSTAMP:20260420T073623Z
SUMMARY:Uitmatch bevestigd? (Herentals 4G (96) - Brasschaat 5G (85))
DESCRIPTION:Je hebt 72 uur na aanvang om een uitmatch op Badmintonvlaandere
 n in te vullen. Match info: Herentals 4G (96) - Brasschaat 5G (85) - Link:
  https://www.badmintonvlaanderen.be/sport/teammatch.aspx?id=952A42C0-E06A-
 400D-BAE7-1F26DE702556&match=993
DTSTART;TZID=Europe/Brussels:20240125T210000
DTEND;TZID=Europe/Brussels:20240125T210000
END:VEVENT
BEGIN:VEVENT
UID:952A42C0-E06A-400D-BAE7-1F26DE702556-23-994_awayreminder@1929.badminton
 ners.net
DTSTAMP:20260420T073623Z
SUMMARY:Uitmatch bevestigd? (Plumula 3G (102) - Brasschaat 5G (85))
DESCRIPTION:Je hebt 72 uur na aanvang om een uitmatch op Badmintonvlaandere
 n in te vullen. Match info: Plumula 3G (102) - Brasschaat 5G (85) - Link: 
 https://www.badmintonvlaanderen.be/sport/teammatch.aspx?id=952A42C0-E06A-4
 00D-BAE7-1F26DE702556&match=994
DTSTART;TZID=Europe/Brussels:20240306T173000
DTEND;TZID=Europe/Brussels:20240306T173000
END:VEVENT
BEGIN:VEVENT
UID:952A42C0-E06A-400D-BAE7-1F26DE702556-23-991_awayreminder@1929.badminton
 ners.net
DTSTAMP:20260420T073623Z
SUMMARY:Uitmatch bevestigd? (Zandhoven 1G (91) - Brasschaat 5G (85))
DESCRIPTION:Je hebt 72 uur na aanvang om een uitmatch op Badmintonvlaandere
 n in te vullen. Match info: Zandhoven 1G (91) - Brasschaat 5G (85) - Link:
  https://www.badmintonvlaanderen.be/sport/teammatch.aspx?id=952A42C0-E06A-
 400D-BAE7-1F26DE702556&match=991
DTSTART;TZID=Europe/Brussels:20240328T200000
DTEND;TZID=Europe/Brussels:20240328T200000
END:VEVENT
END:VCALENDAR