BEGIN:VCALENDAR
VERSION:2.0
PRODID:spatie/icalendar-generator
NAME:zandhoven_1g_91_reminders
X-WR-CALNAME:zandhoven_1g_91_reminders
BEGIN:VTIMEZONE
TZID:Europe/Brussels
BEGIN:DAYLIGHT
DTSTART:20230326T010000
TZOFFSETFROM:+0100
TZOFFSETTO:+0200
END:DAYLIGHT
BEGIN:STANDARD
DTSTART:20231029T030000
TZOFFSETFROM:+0200
TZOFFSETTO:+0100
END:STANDARD
BEGIN:DAYLIGHT
DTSTART:20240331T010000
TZOFFSETFROM:+0100
TZOFFSETTO:+0200
END:DAYLIGHT
END:VTIMEZONE
BEGIN:VTIMEZONE
TZID:UTC
BEGIN:STANDARD
DTSTART:20250724T055211
TZOFFSETFROM:+0000
TZOFFSETTO:+0000
END:STANDARD
END:VTIMEZONE
BEGIN:VEVENT
UID:952A42C0-E06A-400D-BAE7-1F26DE702556-23-1012_homereminder@1931.badminto
 nners.net
DTSTAMP:20260420T055211Z
SUMMARY:Thuismatch ingevuld? (Zandhoven 1G (91) - Plumula 3G (102))
DESCRIPTION:Je hebt 36 uur na aanvang om een thuismatch op Badmintonvlaande
 ren in te vullen. Match info: Zandhoven 1G (91) - Plumula 3G (102) - Link:
  https://www.badmintonvlaanderen.be/sport/teammatch.aspx?id=952A42C0-E06A-
 400D-BAE7-1F26DE702556&match=1012
DTSTART;TZID=Europe/Brussels:20230927T080000
DTEND;TZID=Europe/Brussels:20230927T080000
END:VEVENT
BEGIN:VEVENT
UID:952A42C0-E06A-400D-BAE7-1F26DE702556-23-986_homereminder@1931.badminton
 ners.net
DTSTAMP:20260420T055211Z
SUMMARY:Thuismatch ingevuld? (Zandhoven 1G (91) - Sint job 1G (102))
DESCRIPTION:Je hebt 36 uur na aanvang om een thuismatch op Badmintonvlaande
 ren in te vullen. Match info: Zandhoven 1G (91) - Sint job 1G (102) - Link
 : https://www.badmintonvlaanderen.be/sport/teammatch.aspx?id=952A42C0-E06A
 -400D-BAE7-1F26DE702556&match=986
DTSTART;TZID=Europe/Brussels:20231025T080000
DTEND;TZID=Europe/Brussels:20231025T080000
END:VEVENT
BEGIN:VEVENT
UID:952A42C0-E06A-400D-BAE7-1F26DE702556-23-1002_homereminder@1931.badminto
 nners.net
DTSTAMP:20260420T055211Z
SUMMARY:Thuismatch ingevuld? (Zandhoven 1G (91) - Klein Boom 4G (91))
DESCRIPTION:Je hebt 36 uur na aanvang om een thuismatch op Badmintonvlaande
 ren in te vullen. Match info: Zandhoven 1G (91) - Klein Boom 4G (91) - Lin
 k: https://www.badmintonvlaanderen.be/sport/teammatch.aspx?id=952A42C0-E06
 A-400D-BAE7-1F26DE702556&match=1002
DTSTART;TZID=Europe/Brussels:20231206T080000
DTEND;TZID=Europe/Brussels:20231206T080000
END:VEVENT
BEGIN:VEVENT
UID:952A42C0-E06A-400D-BAE7-1F26DE702556-23-1007_homereminder@1931.badminto
 nners.net
DTSTAMP:20260420T055211Z
SUMMARY:Thuismatch ingevuld? (Zandhoven 1G (91) - Herentals 4G (96))
DESCRIPTION:Je hebt 36 uur na aanvang om een thuismatch op Badmintonvlaande
 ren in te vullen. Match info: Zandhoven 1G (91) - Herentals 4G (96) - Link
 : https://www.badmintonvlaanderen.be/sport/teammatch.aspx?id=952A42C0-E06A
 -400D-BAE7-1F26DE702556&match=1007
DTSTART;TZID=Europe/Brussels:20240313T080000
DTEND;TZID=Europe/Brussels:20240313T080000
END:VEVENT
BEGIN:VEVENT
UID:952A42C0-E06A-400D-BAE7-1F26DE702556-23-991_homereminder@1931.badminton
 ners.net
DTSTAMP:20260420T055211Z
SUMMARY:Thuismatch ingevuld? (Zandhoven 1G (91) - Brasschaat 5G (85))
DESCRIPTION:Je hebt 36 uur na aanvang om een thuismatch op Badmintonvlaande
 ren in te vullen. Match info: Zandhoven 1G (91) - Brasschaat 5G (85) - Lin
 k: https://www.badmintonvlaanderen.be/sport/teammatch.aspx?id=952A42C0-E06
 A-400D-BAE7-1F26DE702556&match=991
DTSTART;TZID=Europe/Brussels:20240327T080000
DTEND;TZID=Europe/Brussels:20240327T080000
END:VEVENT
BEGIN:VEVENT
UID:952A42C0-E06A-400D-BAE7-1F26DE702556-23-996_awayreminder@1931.badminton
 ners.net
DTSTAMP:20260420T055211Z
SUMMARY:Uitmatch bevestigd? (Brasschaat 5G (85) - Zandhoven 1G (91))
DESCRIPTION:Je hebt 72 uur na aanvang om een uitmatch op Badmintonvlaandere
 n in te vullen. Match info: Brasschaat 5G (85) - Zandhoven 1G (91) - Link:
  https://www.badmintonvlaanderen.be/sport/teammatch.aspx?id=952A42C0-E06A-
 400D-BAE7-1F26DE702556&match=996
DTSTART;TZID=Europe/Brussels:20231018T190000
DTEND;TZID=Europe/Brussels:20231018T190000
END:VEVENT
BEGIN:VEVENT
UID:952A42C0-E06A-400D-BAE7-1F26DE702556-23-998_awayreminder@1931.badminton
 ners.net
DTSTAMP:20260420T055211Z
SUMMARY:Uitmatch bevestigd? (Herentals 4G (96) - Zandhoven 1G (91))
DESCRIPTION:Je hebt 72 uur na aanvang om een uitmatch op Badmintonvlaandere
 n in te vullen. Match info: Herentals 4G (96) - Zandhoven 1G (91) - Link: 
 https://www.badmintonvlaanderen.be/sport/teammatch.aspx?id=952A42C0-E06A-4
 00D-BAE7-1F26DE702556&match=998
DTSTART;TZID=Europe/Brussels:20231221T210000
DTEND;TZID=Europe/Brussels:20231221T210000
END:VEVENT
BEGIN:VEVENT
UID:952A42C0-E06A-400D-BAE7-1F26DE702556-23-997_awayreminder@1931.badminton
 ners.net
DTSTAMP:20260420T055211Z
SUMMARY:Uitmatch bevestigd? (Klein Boom 4G (91) - Zandhoven 1G (91))
DESCRIPTION:Je hebt 72 uur na aanvang om een uitmatch op Badmintonvlaandere
 n in te vullen. Match info: Klein Boom 4G (91) - Zandhoven 1G (91) - Link:
  https://www.badmintonvlaanderen.be/sport/teammatch.aspx?id=952A42C0-E06A-
 400D-BAE7-1F26DE702556&match=997
DTSTART;TZID=Europe/Brussels:20240131T190000
DTEND;TZID=Europe/Brussels:20240131T190000
END:VEVENT
BEGIN:VEVENT
UID:952A42C0-E06A-400D-BAE7-1F26DE702556-23-999_awayreminder@1931.badminton
 ners.net
DTSTAMP:20260420T055211Z
SUMMARY:Uitmatch bevestigd? (Plumula 3G (102) - Zandhoven 1G (91))
DESCRIPTION:Je hebt 72 uur na aanvang om een uitmatch op Badmintonvlaandere
 n in te vullen. Match info: Plumula 3G (102) - Zandhoven 1G (91) - Link: h
 ttps://www.badmintonvlaanderen.be/sport/teammatch.aspx?id=952A42C0-E06A-40
 0D-BAE7-1F26DE702556&match=999
DTSTART;TZID=Europe/Brussels:20240207T173000
DTEND;TZID=Europe/Brussels:20240207T173000
END:VEVENT
BEGIN:VEVENT
UID:952A42C0-E06A-400D-BAE7-1F26DE702556-23-995_awayreminder@1931.badminton
 ners.net
DTSTAMP:20260420T055211Z
SUMMARY:Uitmatch bevestigd? (Sint job 1G (102) - Zandhoven 1G (91))
DESCRIPTION:Je hebt 72 uur na aanvang om een uitmatch op Badmintonvlaandere
 n in te vullen. Match info: Sint job 1G (102) - Zandhoven 1G (91) - Link: 
 https://www.badmintonvlaanderen.be/sport/teammatch.aspx?id=952A42C0-E06A-4
 00D-BAE7-1F26DE702556&match=995
DTSTART;TZID=Europe/Brussels:20240306T100000
DTEND;TZID=Europe/Brussels:20240306T100000
END:VEVENT
END:VCALENDAR