BEGIN:VCALENDAR
VERSION:2.0
PRODID:spatie/icalendar-generator
NAME:plumula_3g_102_reminders
X-WR-CALNAME:plumula_3g_102_reminders
BEGIN:VTIMEZONE
TZID:Europe/Brussels
BEGIN:DAYLIGHT
DTSTART:20230326T010000
TZOFFSETFROM:+0100
TZOFFSETTO:+0200
END:DAYLIGHT
BEGIN:STANDARD
DTSTART:20231029T030000
TZOFFSETFROM:+0200
TZOFFSETTO:+0100
END:STANDARD
BEGIN:DAYLIGHT
DTSTART:20240331T010000
TZOFFSETFROM:+0100
TZOFFSETTO:+0200
END:DAYLIGHT
END:VTIMEZONE
BEGIN:VTIMEZONE
TZID:UTC
BEGIN:STANDARD
DTSTART:20250724T055214
TZOFFSETFROM:+0000
TZOFFSETTO:+0000
END:STANDARD
END:VTIMEZONE
BEGIN:VEVENT
UID:952A42C0-E06A-400D-BAE7-1F26DE702556-23-1009_homereminder@1935.badminto
 nners.net
DTSTAMP:20260420T055214Z
SUMMARY:Thuismatch ingevuld? (Plumula 3G (102) - Herentals 4G (96))
DESCRIPTION:Je hebt 36 uur na aanvang om een thuismatch op Badmintonvlaande
 ren in te vullen. Match info: Plumula 3G (102) - Herentals 4G (96) - Link:
  https://www.badmintonvlaanderen.be/sport/teammatch.aspx?id=952A42C0-E06A-
 400D-BAE7-1F26DE702556&match=1009
DTSTART;TZID=Europe/Brussels:20231024T053000
DTEND;TZID=Europe/Brussels:20231024T053000
END:VEVENT
BEGIN:VEVENT
UID:952A42C0-E06A-400D-BAE7-1F26DE702556-23-1004_homereminder@1935.badminto
 nners.net
DTSTAMP:20260420T055214Z
SUMMARY:Thuismatch ingevuld? (Plumula 3G (102) - Klein Boom 4G (91))
DESCRIPTION:Je hebt 36 uur na aanvang om een thuismatch op Badmintonvlaande
 ren in te vullen. Match info: Plumula 3G (102) - Klein Boom 4G (91) - Link
 : https://www.badmintonvlaanderen.be/sport/teammatch.aspx?id=952A42C0-E06A
 -400D-BAE7-1F26DE702556&match=1004
DTSTART;TZID=Europe/Brussels:20231128T053000
DTEND;TZID=Europe/Brussels:20231128T053000
END:VEVENT
BEGIN:VEVENT
UID:952A42C0-E06A-400D-BAE7-1F26DE702556-23-989_homereminder@1935.badminton
 ners.net
DTSTAMP:20260420T055214Z
SUMMARY:Thuismatch ingevuld? (Plumula 3G (102) - Sint job 1G (102))
DESCRIPTION:Je hebt 36 uur na aanvang om een thuismatch op Badmintonvlaande
 ren in te vullen. Match info: Plumula 3G (102) - Sint job 1G (102) - Link:
  https://www.badmintonvlaanderen.be/sport/teammatch.aspx?id=952A42C0-E06A-
 400D-BAE7-1F26DE702556&match=989
DTSTART;TZID=Europe/Brussels:20240123T053000
DTEND;TZID=Europe/Brussels:20240123T053000
END:VEVENT
BEGIN:VEVENT
UID:952A42C0-E06A-400D-BAE7-1F26DE702556-23-999_homereminder@1935.badminton
 ners.net
DTSTAMP:20260420T055214Z
SUMMARY:Thuismatch ingevuld? (Plumula 3G (102) - Zandhoven 1G (91))
DESCRIPTION:Je hebt 36 uur na aanvang om een thuismatch op Badmintonvlaande
 ren in te vullen. Match info: Plumula 3G (102) - Zandhoven 1G (91) - Link:
  https://www.badmintonvlaanderen.be/sport/teammatch.aspx?id=952A42C0-E06A-
 400D-BAE7-1F26DE702556&match=999
DTSTART;TZID=Europe/Brussels:20240206T053000
DTEND;TZID=Europe/Brussels:20240206T053000
END:VEVENT
BEGIN:VEVENT
UID:952A42C0-E06A-400D-BAE7-1F26DE702556-23-994_homereminder@1935.badminton
 ners.net
DTSTAMP:20260420T055214Z
SUMMARY:Thuismatch ingevuld? (Plumula 3G (102) - Brasschaat 5G (85))
DESCRIPTION:Je hebt 36 uur na aanvang om een thuismatch op Badmintonvlaande
 ren in te vullen. Match info: Plumula 3G (102) - Brasschaat 5G (85) - Link
 : https://www.badmintonvlaanderen.be/sport/teammatch.aspx?id=952A42C0-E06A
 -400D-BAE7-1F26DE702556&match=994
DTSTART;TZID=Europe/Brussels:20240305T053000
DTEND;TZID=Europe/Brussels:20240305T053000
END:VEVENT
BEGIN:VEVENT
UID:952A42C0-E06A-400D-BAE7-1F26DE702556-23-1012_awayreminder@1935.badminto
 nners.net
DTSTAMP:20260420T055214Z
SUMMARY:Uitmatch bevestigd? (Zandhoven 1G (91) - Plumula 3G (102))
DESCRIPTION:Je hebt 72 uur na aanvang om een uitmatch op Badmintonvlaandere
 n in te vullen. Match info: Zandhoven 1G (91) - Plumula 3G (102) - Link: h
 ttps://www.badmintonvlaanderen.be/sport/teammatch.aspx?id=952A42C0-E06A-40
 0D-BAE7-1F26DE702556&match=1012
DTSTART;TZID=Europe/Brussels:20230928T200000
DTEND;TZID=Europe/Brussels:20230928T200000
END:VEVENT
BEGIN:VEVENT
UID:952A42C0-E06A-400D-BAE7-1F26DE702556-23-1011_awayreminder@1935.badminto
 nners.net
DTSTAMP:20260420T055214Z
SUMMARY:Uitmatch bevestigd? (Brasschaat 5G (85) - Plumula 3G (102))
DESCRIPTION:Je hebt 72 uur na aanvang om een uitmatch op Badmintonvlaandere
 n in te vullen. Match info: Brasschaat 5G (85) - Plumula 3G (102) - Link: 
 https://www.badmintonvlaanderen.be/sport/teammatch.aspx?id=952A42C0-E06A-4
 00D-BAE7-1F26DE702556&match=1011
DTSTART;TZID=Europe/Brussels:20231101T190000
DTEND;TZID=Europe/Brussels:20231101T190000
END:VEVENT
BEGIN:VEVENT
UID:952A42C0-E06A-400D-BAE7-1F26DE702556-23-1010_awayreminder@1935.badminto
 nners.net
DTSTAMP:20260420T055214Z
SUMMARY:Uitmatch bevestigd? (Sint job 1G (102) - Plumula 3G (102))
DESCRIPTION:Je hebt 72 uur na aanvang om een uitmatch op Badmintonvlaandere
 n in te vullen. Match info: Sint job 1G (102) - Plumula 3G (102) - Link: h
 ttps://www.badmintonvlaanderen.be/sport/teammatch.aspx?id=952A42C0-E06A-40
 0D-BAE7-1F26DE702556&match=1010
DTSTART;TZID=Europe/Brussels:20231213T100000
DTEND;TZID=Europe/Brussels:20231213T100000
END:VEVENT
BEGIN:VEVENT
UID:952A42C0-E06A-400D-BAE7-1F26DE702556-23-1013_awayreminder@1935.badminto
 nners.net
DTSTAMP:20260420T055214Z
SUMMARY:Uitmatch bevestigd? (Klein Boom 4G (91) - Plumula 3G (102))
DESCRIPTION:Je hebt 72 uur na aanvang om een uitmatch op Badmintonvlaandere
 n in te vullen. Match info: Klein Boom 4G (91) - Plumula 3G (102) - Link: 
 https://www.badmintonvlaanderen.be/sport/teammatch.aspx?id=952A42C0-E06A-4
 00D-BAE7-1F26DE702556&match=1013
DTSTART;TZID=Europe/Brussels:20240110T190000
DTEND;TZID=Europe/Brussels:20240110T190000
END:VEVENT
BEGIN:VEVENT
UID:952A42C0-E06A-400D-BAE7-1F26DE702556-23-1014_awayreminder@1935.badminto
 nners.net
DTSTAMP:20260420T055214Z
SUMMARY:Uitmatch bevestigd? (Herentals 4G (96) - Plumula 3G (102))
DESCRIPTION:Je hebt 72 uur na aanvang om een uitmatch op Badmintonvlaandere
 n in te vullen. Match info: Herentals 4G (96) - Plumula 3G (102) - Link: h
 ttps://www.badmintonvlaanderen.be/sport/teammatch.aspx?id=952A42C0-E06A-40
 0D-BAE7-1F26DE702556&match=1014
DTSTART;TZID=Europe/Brussels:20240328T210000
DTEND;TZID=Europe/Brussels:20240328T210000
END:VEVENT
END:VCALENDAR