BEGIN:VCALENDAR
VERSION:2.0
PRODID:spatie/icalendar-generator
NAME:klein_boom_4g_91_reminders
X-WR-CALNAME:klein_boom_4g_91_reminders
BEGIN:VTIMEZONE
TZID:Europe/Brussels
BEGIN:DAYLIGHT
DTSTART:20230326T010000
TZOFFSETFROM:+0100
TZOFFSETTO:+0200
END:DAYLIGHT
BEGIN:STANDARD
DTSTART:20231029T030000
TZOFFSETFROM:+0200
TZOFFSETTO:+0100
END:STANDARD
BEGIN:DAYLIGHT
DTSTART:20240331T010000
TZOFFSETFROM:+0100
TZOFFSETTO:+0200
END:DAYLIGHT
BEGIN:STANDARD
DTSTART:20241027T030000
TZOFFSETFROM:+0200
TZOFFSETTO:+0100
END:STANDARD
END:VTIMEZONE
BEGIN:VTIMEZONE
TZID:UTC
BEGIN:STANDARD
DTSTART:20250726T082639
TZOFFSETFROM:+0000
TZOFFSETTO:+0000
END:STANDARD
END:VTIMEZONE
BEGIN:VEVENT
UID:952A42C0-E06A-400D-BAE7-1F26DE702556-23-992_homereminder@1936.badminton
 ners.net
DTSTAMP:20260422T082639Z
SUMMARY:Thuismatch ingevuld? (Klein Boom 4G (91) - Brasschaat 5G (85))
DESCRIPTION:Je hebt 36 uur na aanvang om een thuismatch op Badmintonvlaande
 ren in te vullen. Match info: Klein Boom 4G (91) - Brasschaat 5G (85) - Li
 nk: https://www.badmintonvlaanderen.be/sport/teammatch.aspx?id=952A42C0-E0
 6A-400D-BAE7-1F26DE702556&match=992
DTSTART;TZID=Europe/Brussels:20231101T080000
DTEND;TZID=Europe/Brussels:20231101T080000
END:VEVENT
BEGIN:VEVENT
UID:952A42C0-E06A-400D-BAE7-1F26DE702556-23-1008_homereminder@1936.badminto
 nners.net
DTSTAMP:20260422T082639Z
SUMMARY:Thuismatch ingevuld? (Klein Boom 4G (91) - Herentals 4G (96))
DESCRIPTION:Je hebt 36 uur na aanvang om een thuismatch op Badmintonvlaande
 ren in te vullen. Match info: Klein Boom 4G (91) - Herentals 4G (96) - Lin
 k: https://www.badmintonvlaanderen.be/sport/teammatch.aspx?id=952A42C0-E06
 A-400D-BAE7-1F26DE702556&match=1008
DTSTART;TZID=Europe/Brussels:20231114T070000
DTEND;TZID=Europe/Brussels:20231114T070000
END:VEVENT
BEGIN:VEVENT
UID:952A42C0-E06A-400D-BAE7-1F26DE702556-23-1013_homereminder@1936.badminto
 nners.net
DTSTAMP:20260422T082639Z
SUMMARY:Thuismatch ingevuld? (Klein Boom 4G (91) - Plumula 3G (102))
DESCRIPTION:Je hebt 36 uur na aanvang om een thuismatch op Badmintonvlaande
 ren in te vullen. Match info: Klein Boom 4G (91) - Plumula 3G (102) - Link
 : https://www.badmintonvlaanderen.be/sport/teammatch.aspx?id=952A42C0-E06A
 -400D-BAE7-1F26DE702556&match=1013
DTSTART;TZID=Europe/Brussels:20240109T070000
DTEND;TZID=Europe/Brussels:20240109T070000
END:VEVENT
BEGIN:VEVENT
UID:952A42C0-E06A-400D-BAE7-1F26DE702556-23-997_homereminder@1936.badminton
 ners.net
DTSTAMP:20260422T082639Z
SUMMARY:Thuismatch ingevuld? (Klein Boom 4G (91) - Zandhoven 1G (91))
DESCRIPTION:Je hebt 36 uur na aanvang om een thuismatch op Badmintonvlaande
 ren in te vullen. Match info: Klein Boom 4G (91) - Zandhoven 1G (91) - Lin
 k: https://www.badmintonvlaanderen.be/sport/teammatch.aspx?id=952A42C0-E06
 A-400D-BAE7-1F26DE702556&match=997
DTSTART;TZID=Europe/Brussels:20240130T070000
DTEND;TZID=Europe/Brussels:20240130T070000
END:VEVENT
BEGIN:VEVENT
UID:952A42C0-E06A-400D-BAE7-1F26DE702556-23-987_homereminder@1936.badminton
 ners.net
DTSTAMP:20260422T082639Z
SUMMARY:Thuismatch ingevuld? (Klein Boom 4G (91) - Sint job 1G (102))
DESCRIPTION:Je hebt 36 uur na aanvang om een thuismatch op Badmintonvlaande
 ren in te vullen. Match info: Klein Boom 4G (91) - Sint job 1G (102) - Lin
 k: https://www.badmintonvlaanderen.be/sport/teammatch.aspx?id=952A42C0-E06
 A-400D-BAE7-1F26DE702556&match=987
DTSTART;TZID=Europe/Brussels:20240416T070000
DTEND;TZID=Europe/Brussels:20240416T070000
END:VEVENT
BEGIN:VEVENT
UID:952A42C0-E06A-400D-BAE7-1F26DE702556-23-1000_awayreminder@1936.badminto
 nners.net
DTSTAMP:20260422T082639Z
SUMMARY:Uitmatch bevestigd? (Sint job 1G (102) - Klein Boom 4G (91))
DESCRIPTION:Je hebt 72 uur na aanvang om een uitmatch op Badmintonvlaandere
 n in te vullen. Match info: Sint job 1G (102) - Klein Boom 4G (91) - Link:
  https://www.badmintonvlaanderen.be/sport/teammatch.aspx?id=952A42C0-E06A-
 400D-BAE7-1F26DE702556&match=1000
DTSTART;TZID=Europe/Brussels:20231125T203000
DTEND;TZID=Europe/Brussels:20231125T203000
END:VEVENT
BEGIN:VEVENT
UID:952A42C0-E06A-400D-BAE7-1F26DE702556-23-1004_awayreminder@1936.badminto
 nners.net
DTSTAMP:20260422T082639Z
SUMMARY:Uitmatch bevestigd? (Plumula 3G (102) - Klein Boom 4G (91))
DESCRIPTION:Je hebt 72 uur na aanvang om een uitmatch op Badmintonvlaandere
 n in te vullen. Match info: Plumula 3G (102) - Klein Boom 4G (91) - Link: 
 https://www.badmintonvlaanderen.be/sport/teammatch.aspx?id=952A42C0-E06A-4
 00D-BAE7-1F26DE702556&match=1004
DTSTART;TZID=Europe/Brussels:20231129T173000
DTEND;TZID=Europe/Brussels:20231129T173000
END:VEVENT
BEGIN:VEVENT
UID:952A42C0-E06A-400D-BAE7-1F26DE702556-23-1002_awayreminder@1936.badminto
 nners.net
DTSTAMP:20260422T082639Z
SUMMARY:Uitmatch bevestigd? (Zandhoven 1G (91) - Klein Boom 4G (91))
DESCRIPTION:Je hebt 72 uur na aanvang om een uitmatch op Badmintonvlaandere
 n in te vullen. Match info: Zandhoven 1G (91) - Klein Boom 4G (91) - Link:
  https://www.badmintonvlaanderen.be/sport/teammatch.aspx?id=952A42C0-E06A-
 400D-BAE7-1F26DE702556&match=1002
DTSTART;TZID=Europe/Brussels:20231207T200000
DTEND;TZID=Europe/Brussels:20231207T200000
END:VEVENT
BEGIN:VEVENT
UID:952A42C0-E06A-400D-BAE7-1F26DE702556-23-1003_awayreminder@1936.badminto
 nners.net
DTSTAMP:20260422T082639Z
SUMMARY:Uitmatch bevestigd? (Herentals 4G (96) - Klein Boom 4G (91))
DESCRIPTION:Je hebt 72 uur na aanvang om een uitmatch op Badmintonvlaandere
 n in te vullen. Match info: Herentals 4G (96) - Klein Boom 4G (91) - Link:
  https://www.badmintonvlaanderen.be/sport/teammatch.aspx?id=952A42C0-E06A-
 400D-BAE7-1F26DE702556&match=1003
DTSTART;TZID=Europe/Brussels:20240229T210000
DTEND;TZID=Europe/Brussels:20240229T210000
END:VEVENT
BEGIN:VEVENT
UID:952A42C0-E06A-400D-BAE7-1F26DE702556-23-1001_awayreminder@1936.badminto
 nners.net
DTSTAMP:20260422T082639Z
SUMMARY:Uitmatch bevestigd? (Brasschaat 5G (85) - Klein Boom 4G (91))
DESCRIPTION:Je hebt 72 uur na aanvang om een uitmatch op Badmintonvlaandere
 n in te vullen. Match info: Brasschaat 5G (85) - Klein Boom 4G (91) - Link
 : https://www.badmintonvlaanderen.be/sport/teammatch.aspx?id=952A42C0-E06A
 -400D-BAE7-1F26DE702556&match=1001
DTSTART;TZID=Europe/Brussels:20240501T190000
DTEND;TZID=Europe/Brussels:20240501T190000
END:VEVENT
END:VCALENDAR