BEGIN:VCALENDAR
VERSION:2.0
PRODID:spatie/icalendar-generator
NAME:sint_job_1g_102_reminders
X-WR-CALNAME:sint_job_1g_102_reminders
BEGIN:VTIMEZONE
TZID:Europe/Brussels
BEGIN:DAYLIGHT
DTSTART:20230326T010000
TZOFFSETFROM:+0100
TZOFFSETTO:+0200
END:DAYLIGHT
BEGIN:STANDARD
DTSTART:20231029T030000
TZOFFSETFROM:+0200
TZOFFSETTO:+0100
END:STANDARD
BEGIN:DAYLIGHT
DTSTART:20240331T010000
TZOFFSETFROM:+0100
TZOFFSETTO:+0200
END:DAYLIGHT
END:VTIMEZONE
BEGIN:VTIMEZONE
TZID:UTC
BEGIN:STANDARD
DTSTART:20250724T055212
TZOFFSETFROM:+0000
TZOFFSETTO:+0000
END:STANDARD
END:VTIMEZONE
BEGIN:VEVENT
UID:952A42C0-E06A-400D-BAE7-1F26DE702556-23-1000_homereminder@1942.badminto
 nners.net
DTSTAMP:20260420T055212Z
SUMMARY:Thuismatch ingevuld? (Sint job 1G (102) - Klein Boom 4G (91))
DESCRIPTION:Je hebt 36 uur na aanvang om een thuismatch op Badmintonvlaande
 ren in te vullen. Match info: Sint job 1G (102) - Klein Boom 4G (91) - Lin
 k: https://www.badmintonvlaanderen.be/sport/teammatch.aspx?id=952A42C0-E06
 A-400D-BAE7-1F26DE702556&match=1000
DTSTART;TZID=Europe/Brussels:20231124T083000
DTEND;TZID=Europe/Brussels:20231124T083000
END:VEVENT
BEGIN:VEVENT
UID:952A42C0-E06A-400D-BAE7-1F26DE702556-23-990_homereminder@1942.badminton
 ners.net
DTSTAMP:20260420T055212Z
SUMMARY:Thuismatch ingevuld? (Sint job 1G (102) - Brasschaat 5G (85))
DESCRIPTION:Je hebt 36 uur na aanvang om een thuismatch op Badmintonvlaande
 ren in te vullen. Match info: Sint job 1G (102) - Brasschaat 5G (85) - Lin
 k: https://www.badmintonvlaanderen.be/sport/teammatch.aspx?id=952A42C0-E06
 A-400D-BAE7-1F26DE702556&match=990
DTSTART;TZID=Europe/Brussels:20231127T220000
DTEND;TZID=Europe/Brussels:20231127T220000
END:VEVENT
BEGIN:VEVENT
UID:952A42C0-E06A-400D-BAE7-1F26DE702556-23-1010_homereminder@1942.badminto
 nners.net
DTSTAMP:20260420T055212Z
SUMMARY:Thuismatch ingevuld? (Sint job 1G (102) - Plumula 3G (102))
DESCRIPTION:Je hebt 36 uur na aanvang om een thuismatch op Badmintonvlaande
 ren in te vullen. Match info: Sint job 1G (102) - Plumula 3G (102) - Link:
  https://www.badmintonvlaanderen.be/sport/teammatch.aspx?id=952A42C0-E06A-
 400D-BAE7-1F26DE702556&match=1010
DTSTART;TZID=Europe/Brussels:20231211T220000
DTEND;TZID=Europe/Brussels:20231211T220000
END:VEVENT
BEGIN:VEVENT
UID:952A42C0-E06A-400D-BAE7-1F26DE702556-23-995_homereminder@1942.badminton
 ners.net
DTSTAMP:20260420T055212Z
SUMMARY:Thuismatch ingevuld? (Sint job 1G (102) - Zandhoven 1G (91))
DESCRIPTION:Je hebt 36 uur na aanvang om een thuismatch op Badmintonvlaande
 ren in te vullen. Match info: Sint job 1G (102) - Zandhoven 1G (91) - Link
 : https://www.badmintonvlaanderen.be/sport/teammatch.aspx?id=952A42C0-E06A
 -400D-BAE7-1F26DE702556&match=995
DTSTART;TZID=Europe/Brussels:20240304T220000
DTEND;TZID=Europe/Brussels:20240304T220000
END:VEVENT
BEGIN:VEVENT
UID:952A42C0-E06A-400D-BAE7-1F26DE702556-23-1005_homereminder@1942.badminto
 nners.net
DTSTAMP:20260420T055212Z
SUMMARY:Thuismatch ingevuld? (Sint job 1G (102) - Herentals 4G (96))
DESCRIPTION:Je hebt 36 uur na aanvang om een thuismatch op Badmintonvlaande
 ren in te vullen. Match info: Sint job 1G (102) - Herentals 4G (96) - Link
 : https://www.badmintonvlaanderen.be/sport/teammatch.aspx?id=952A42C0-E06A
 -400D-BAE7-1F26DE702556&match=1005
DTSTART;TZID=Europe/Brussels:20240318T220000
DTEND;TZID=Europe/Brussels:20240318T220000
END:VEVENT
BEGIN:VEVENT
UID:952A42C0-E06A-400D-BAE7-1F26DE702556-23-988_awayreminder@1942.badminton
 ners.net
DTSTAMP:20260420T055212Z
SUMMARY:Uitmatch bevestigd? (Herentals 4G (96) - Sint job 1G (102))
DESCRIPTION:Je hebt 72 uur na aanvang om een uitmatch op Badmintonvlaandere
 n in te vullen. Match info: Herentals 4G (96) - Sint job 1G (102) - Link: 
 https://www.badmintonvlaanderen.be/sport/teammatch.aspx?id=952A42C0-E06A-4
 00D-BAE7-1F26DE702556&match=988
DTSTART;TZID=Europe/Brussels:20230928T210000
DTEND;TZID=Europe/Brussels:20230928T210000
END:VEVENT
BEGIN:VEVENT
UID:952A42C0-E06A-400D-BAE7-1F26DE702556-23-986_awayreminder@1942.badminton
 ners.net
DTSTAMP:20260420T055212Z
SUMMARY:Uitmatch bevestigd? (Zandhoven 1G (91) - Sint job 1G (102))
DESCRIPTION:Je hebt 72 uur na aanvang om een uitmatch op Badmintonvlaandere
 n in te vullen. Match info: Zandhoven 1G (91) - Sint job 1G (102) - Link: 
 https://www.badmintonvlaanderen.be/sport/teammatch.aspx?id=952A42C0-E06A-4
 00D-BAE7-1F26DE702556&match=986
DTSTART;TZID=Europe/Brussels:20231026T200000
DTEND;TZID=Europe/Brussels:20231026T200000
END:VEVENT
BEGIN:VEVENT
UID:952A42C0-E06A-400D-BAE7-1F26DE702556-23-989_awayreminder@1942.badminton
 ners.net
DTSTAMP:20260420T055212Z
SUMMARY:Uitmatch bevestigd? (Plumula 3G (102) - Sint job 1G (102))
DESCRIPTION:Je hebt 72 uur na aanvang om een uitmatch op Badmintonvlaandere
 n in te vullen. Match info: Plumula 3G (102) - Sint job 1G (102) - Link: h
 ttps://www.badmintonvlaanderen.be/sport/teammatch.aspx?id=952A42C0-E06A-40
 0D-BAE7-1F26DE702556&match=989
DTSTART;TZID=Europe/Brussels:20240124T173000
DTEND;TZID=Europe/Brussels:20240124T173000
END:VEVENT
BEGIN:VEVENT
UID:952A42C0-E06A-400D-BAE7-1F26DE702556-23-985_awayreminder@1942.badminton
 ners.net
DTSTAMP:20260420T055212Z
SUMMARY:Uitmatch bevestigd? (Brasschaat 5G (85) - Sint job 1G (102))
DESCRIPTION:Je hebt 72 uur na aanvang om een uitmatch op Badmintonvlaandere
 n in te vullen. Match info: Brasschaat 5G (85) - Sint job 1G (102) - Link:
  https://www.badmintonvlaanderen.be/sport/teammatch.aspx?id=952A42C0-E06A-
 400D-BAE7-1F26DE702556&match=985
DTSTART;TZID=Europe/Brussels:20240221T190000
DTEND;TZID=Europe/Brussels:20240221T190000
END:VEVENT
BEGIN:VEVENT
UID:952A42C0-E06A-400D-BAE7-1F26DE702556-23-987_awayreminder@1942.badminton
 ners.net
DTSTAMP:20260420T055212Z
SUMMARY:Uitmatch bevestigd? (Klein Boom 4G (91) - Sint job 1G (102))
DESCRIPTION:Je hebt 72 uur na aanvang om een uitmatch op Badmintonvlaandere
 n in te vullen. Match info: Klein Boom 4G (91) - Sint job 1G (102) - Link:
  https://www.badmintonvlaanderen.be/sport/teammatch.aspx?id=952A42C0-E06A-
 400D-BAE7-1F26DE702556&match=987
DTSTART;TZID=Europe/Brussels:20240417T190000
DTEND;TZID=Europe/Brussels:20240417T190000
END:VEVENT
END:VCALENDAR