BEGIN:VCALENDAR
VERSION:2.0
PRODID:spatie/icalendar-generator
NAME:heibac_1g_116_reminders
X-WR-CALNAME:heibac_1g_116_reminders
BEGIN:VTIMEZONE
TZID:Europe/Brussels
BEGIN:DAYLIGHT
DTSTART:20230326T010000
TZOFFSETFROM:+0100
TZOFFSETTO:+0200
END:DAYLIGHT
BEGIN:STANDARD
DTSTART:20231029T030000
TZOFFSETFROM:+0200
TZOFFSETTO:+0100
END:STANDARD
BEGIN:DAYLIGHT
DTSTART:20240331T010000
TZOFFSETFROM:+0100
TZOFFSETTO:+0200
END:DAYLIGHT
BEGIN:STANDARD
DTSTART:20241027T030000
TZOFFSETFROM:+0200
TZOFFSETTO:+0100
END:STANDARD
END:VTIMEZONE
BEGIN:VTIMEZONE
TZID:UTC
BEGIN:STANDARD
DTSTART:20250724T072405
TZOFFSETFROM:+0000
TZOFFSETTO:+0000
END:STANDARD
END:VTIMEZONE
BEGIN:VEVENT
UID:952A42C0-E06A-400D-BAE7-1F26DE702556-24-1057_homereminder@1973.badminto
 nners.net
DTSTAMP:20260420T072405Z
SUMMARY:Thuismatch ingevuld? (Heibac 1G (116) - Poona 3G (99))
DESCRIPTION:Je hebt 36 uur na aanvang om een thuismatch op Badmintonvlaande
 ren in te vullen. Match info: Heibac 1G (116) - Poona 3G (99) - Link: http
 s://www.badmintonvlaanderen.be/sport/teammatch.aspx?id=952A42C0-E06A-400D-
 BAE7-1F26DE702556&match=1057
DTSTART;TZID=Europe/Brussels:20231010T073000
DTEND;TZID=Europe/Brussels:20231010T073000
END:VEVENT
BEGIN:VEVENT
UID:952A42C0-E06A-400D-BAE7-1F26DE702556-24-1064_homereminder@1973.badminto
 nners.net
DTSTAMP:20260420T072405Z
SUMMARY:Thuismatch ingevuld? (Heibac 1G (116) - Berlaar 2G (103))
DESCRIPTION:Je hebt 36 uur na aanvang om een thuismatch op Badmintonvlaande
 ren in te vullen. Match info: Heibac 1G (116) - Berlaar 2G (103) - Link: h
 ttps://www.badmintonvlaanderen.be/sport/teammatch.aspx?id=952A42C0-E06A-40
 0D-BAE7-1F26DE702556&match=1064
DTSTART;TZID=Europe/Brussels:20231031T073000
DTEND;TZID=Europe/Brussels:20231031T073000
END:VEVENT
BEGIN:VEVENT
UID:952A42C0-E06A-400D-BAE7-1F26DE702556-24-1071_homereminder@1973.badminto
 nners.net
DTSTAMP:20260420T072405Z
SUMMARY:Thuismatch ingevuld? (Heibac 1G (116) - Olve 5G (112))
DESCRIPTION:Je hebt 36 uur na aanvang om een thuismatch op Badmintonvlaande
 ren in te vullen. Match info: Heibac 1G (116) - Olve 5G (112) - Link: http
 s://www.badmintonvlaanderen.be/sport/teammatch.aspx?id=952A42C0-E06A-400D-
 BAE7-1F26DE702556&match=1071
DTSTART;TZID=Europe/Brussels:20231212T073000
DTEND;TZID=Europe/Brussels:20231212T073000
END:VEVENT
BEGIN:VEVENT
UID:952A42C0-E06A-400D-BAE7-1F26DE702556-24-1029_homereminder@1973.badminto
 nners.net
DTSTAMP:20260420T072405Z
SUMMARY:Thuismatch ingevuld? (Heibac 1G (116) - Brasschaat 6G (104))
DESCRIPTION:Je hebt 36 uur na aanvang om een thuismatch op Badmintonvlaande
 ren in te vullen. Match info: Heibac 1G (116) - Brasschaat 6G (104) - Link
 : https://www.badmintonvlaanderen.be/sport/teammatch.aspx?id=952A42C0-E06A
 -400D-BAE7-1F26DE702556&match=1029
DTSTART;TZID=Europe/Brussels:20240123T073000
DTEND;TZID=Europe/Brussels:20240123T073000
END:VEVENT
BEGIN:VEVENT
UID:952A42C0-E06A-400D-BAE7-1F26DE702556-24-1050_homereminder@1973.badminto
 nners.net
DTSTAMP:20260420T072405Z
SUMMARY:Thuismatch ingevuld? (Heibac 1G (116) - Bacss 3G (103))
DESCRIPTION:Je hebt 36 uur na aanvang om een thuismatch op Badmintonvlaande
 ren in te vullen. Match info: Heibac 1G (116) - Bacss 3G (103) - Link: htt
 ps://www.badmintonvlaanderen.be/sport/teammatch.aspx?id=952A42C0-E06A-400D
 -BAE7-1F26DE702556&match=1050
DTSTART;TZID=Europe/Brussels:20240206T073000
DTEND;TZID=Europe/Brussels:20240206T073000
END:VEVENT
BEGIN:VEVENT
UID:952A42C0-E06A-400D-BAE7-1F26DE702556-24-1043_homereminder@1973.badminto
 nners.net
DTSTAMP:20260420T072405Z
SUMMARY:Thuismatch ingevuld? (Heibac 1G (116) - Rita Serveert 3G (109))
DESCRIPTION:Je hebt 36 uur na aanvang om een thuismatch op Badmintonvlaande
 ren in te vullen. Match info: Heibac 1G (116) - Rita Serveert 3G (109) - L
 ink: https://www.badmintonvlaanderen.be/sport/teammatch.aspx?id=952A42C0-E
 06A-400D-BAE7-1F26DE702556&match=1043
DTSTART;TZID=Europe/Brussels:20240305T073000
DTEND;TZID=Europe/Brussels:20240305T073000
END:VEVENT
BEGIN:VEVENT
UID:952A42C0-E06A-400D-BAE7-1F26DE702556-24-1036_homereminder@1973.badminto
 nners.net
DTSTAMP:20260420T072405Z
SUMMARY:Thuismatch ingevuld? (Heibac 1G (116) - Klein Boom 8G (109))
DESCRIPTION:Je hebt 36 uur na aanvang om een thuismatch op Badmintonvlaande
 ren in te vullen. Match info: Heibac 1G (116) - Klein Boom 8G (109) - Link
 : https://www.badmintonvlaanderen.be/sport/teammatch.aspx?id=952A42C0-E06A
 -400D-BAE7-1F26DE702556&match=1036
DTSTART;TZID=Europe/Brussels:20240409T073000
DTEND;TZID=Europe/Brussels:20240409T073000
END:VEVENT
BEGIN:VEVENT
UID:952A42C0-E06A-400D-BAE7-1F26DE702556-24-1072_awayreminder@1973.badminto
 nners.net
DTSTAMP:20260420T072405Z
SUMMARY:Uitmatch bevestigd? (Brasschaat 6G (104) - Heibac 1G (116))
DESCRIPTION:Je hebt 72 uur na aanvang om een uitmatch op Badmintonvlaandere
 n in te vullen. Match info: Brasschaat 6G (104) - Heibac 1G (116) - Link: 
 https://www.badmintonvlaanderen.be/sport/teammatch.aspx?id=952A42C0-E06A-4
 00D-BAE7-1F26DE702556&match=1072
DTSTART;TZID=Europe/Brussels:20230920T190000
DTEND;TZID=Europe/Brussels:20230920T190000
END:VEVENT
BEGIN:VEVENT
UID:952A42C0-E06A-400D-BAE7-1F26DE702556-24-1073_awayreminder@1973.badminto
 nners.net
DTSTAMP:20260420T072405Z
SUMMARY:Uitmatch bevestigd? (Klein Boom 8G (109) - Heibac 1G (116))
DESCRIPTION:Je hebt 72 uur na aanvang om een uitmatch op Badmintonvlaandere
 n in te vullen. Match info: Klein Boom 8G (109) - Heibac 1G (116) - Link: 
 https://www.badmintonvlaanderen.be/sport/teammatch.aspx?id=952A42C0-E06A-4
 00D-BAE7-1F26DE702556&match=1073
DTSTART;TZID=Europe/Brussels:20231206T190000
DTEND;TZID=Europe/Brussels:20231206T190000
END:VEVENT
BEGIN:VEVENT
UID:952A42C0-E06A-400D-BAE7-1F26DE702556-24-1075_awayreminder@1973.badminto
 nners.net
DTSTAMP:20260420T072405Z
SUMMARY:Uitmatch bevestigd? (Bacss 3G (103) - Heibac 1G (116))
DESCRIPTION:Je hebt 72 uur na aanvang om een uitmatch op Badmintonvlaandere
 n in te vullen. Match info: Bacss 3G (103) - Heibac 1G (116) - Link: https
 ://www.badmintonvlaanderen.be/sport/teammatch.aspx?id=952A42C0-E06A-400D-B
 AE7-1F26DE702556&match=1075
DTSTART;TZID=Europe/Brussels:20231211T201500
DTEND;TZID=Europe/Brussels:20231211T201500
END:VEVENT
BEGIN:VEVENT
UID:952A42C0-E06A-400D-BAE7-1F26DE702556-24-1074_awayreminder@1973.badminto
 nners.net
DTSTAMP:20260420T072405Z
SUMMARY:Uitmatch bevestigd? (Rita Serveert 3G (109) - Heibac 1G (116))
DESCRIPTION:Je hebt 72 uur na aanvang om een uitmatch op Badmintonvlaandere
 n in te vullen. Match info: Rita Serveert 3G (109) - Heibac 1G (116) - Lin
 k: https://www.badmintonvlaanderen.be/sport/teammatch.aspx?id=952A42C0-E06
 A-400D-BAE7-1F26DE702556&match=1074
DTSTART;TZID=Europe/Brussels:20231220T190000
DTEND;TZID=Europe/Brussels:20231220T190000
END:VEVENT
BEGIN:VEVENT
UID:952A42C0-E06A-400D-BAE7-1F26DE702556-24-1078_awayreminder@1973.badminto
 nners.net
DTSTAMP:20260420T072405Z
SUMMARY:Uitmatch bevestigd? (Olve 5G (112) - Heibac 1G (116))
DESCRIPTION:Je hebt 72 uur na aanvang om een uitmatch op Badmintonvlaandere
 n in te vullen. Match info: Olve 5G (112) - Heibac 1G (116) - Link: https:
 //www.badmintonvlaanderen.be/sport/teammatch.aspx?id=952A42C0-E06A-400D-BA
 E7-1F26DE702556&match=1078
DTSTART;TZID=Europe/Brussels:20240220T103000
DTEND;TZID=Europe/Brussels:20240220T103000
END:VEVENT
BEGIN:VEVENT
UID:952A42C0-E06A-400D-BAE7-1F26DE702556-24-1077_awayreminder@1973.badminto
 nners.net
DTSTAMP:20260420T072405Z
SUMMARY:Uitmatch bevestigd? (Berlaar 2G (103) - Heibac 1G (116))
DESCRIPTION:Je hebt 72 uur na aanvang om een uitmatch op Badmintonvlaandere
 n in te vullen. Match info: Berlaar 2G (103) - Heibac 1G (116) - Link: htt
 ps://www.badmintonvlaanderen.be/sport/teammatch.aspx?id=952A42C0-E06A-400D
 -BAE7-1F26DE702556&match=1077
DTSTART;TZID=Europe/Brussels:20240320T100000
DTEND;TZID=Europe/Brussels:20240320T100000
END:VEVENT
BEGIN:VEVENT
UID:952A42C0-E06A-400D-BAE7-1F26DE702556-24-1076_awayreminder@1973.badminto
 nners.net
DTSTAMP:20260420T072405Z
SUMMARY:Uitmatch bevestigd? (Poona 3G (99) - Heibac 1G (116))
DESCRIPTION:Je hebt 72 uur na aanvang om een uitmatch op Badmintonvlaandere
 n in te vullen. Match info: Poona 3G (99) - Heibac 1G (116) - Link: https:
 //www.badmintonvlaanderen.be/sport/teammatch.aspx?id=952A42C0-E06A-400D-BA
 E7-1F26DE702556&match=1076
DTSTART;TZID=Europe/Brussels:20240425T200000
DTEND;TZID=Europe/Brussels:20240425T200000
END:VEVENT
END:VCALENDAR