BEGIN:VCALENDAR
VERSION:2.0
PRODID:spatie/icalendar-generator
NAME:poona_3g_99_reminders
X-WR-CALNAME:poona_3g_99_reminders
BEGIN:VTIMEZONE
TZID:Europe/Brussels
BEGIN:DAYLIGHT
DTSTART:20230326T010000
TZOFFSETFROM:+0100
TZOFFSETTO:+0200
END:DAYLIGHT
BEGIN:STANDARD
DTSTART:20231029T030000
TZOFFSETFROM:+0200
TZOFFSETTO:+0100
END:STANDARD
BEGIN:DAYLIGHT
DTSTART:20240331T010000
TZOFFSETFROM:+0100
TZOFFSETTO:+0200
END:DAYLIGHT
BEGIN:STANDARD
DTSTART:20241027T030000
TZOFFSETFROM:+0200
TZOFFSETTO:+0100
END:STANDARD
END:VTIMEZONE
BEGIN:VTIMEZONE
TZID:UTC
BEGIN:STANDARD
DTSTART:20250724T055207
TZOFFSETFROM:+0000
TZOFFSETTO:+0000
END:STANDARD
END:VTIMEZONE
BEGIN:VEVENT
UID:952A42C0-E06A-400D-BAE7-1F26DE702556-24-1047_homereminder@1975.badminto
 nners.net
DTSTAMP:20260420T055207Z
SUMMARY:Thuismatch ingevuld? (Poona 3G (99) - Bacss 3G (103))
DESCRIPTION:Je hebt 36 uur na aanvang om een thuismatch op Badmintonvlaande
 ren in te vullen. Match info: Poona 3G (99) - Bacss 3G (103) - Link: https
 ://www.badmintonvlaanderen.be/sport/teammatch.aspx?id=952A42C0-E06A-400D-B
 AE7-1F26DE702556&match=1047
DTSTART;TZID=Europe/Brussels:20230913T080000
DTEND;TZID=Europe/Brussels:20230913T080000
END:VEVENT
BEGIN:VEVENT
UID:952A42C0-E06A-400D-BAE7-1F26DE702556-24-1062_homereminder@1975.badminto
 nners.net
DTSTAMP:20260420T055207Z
SUMMARY:Thuismatch ingevuld? (Poona 3G (99) - Berlaar 2G (103))
DESCRIPTION:Je hebt 36 uur na aanvang om een thuismatch op Badmintonvlaande
 ren in te vullen. Match info: Poona 3G (99) - Berlaar 2G (103) - Link: htt
 ps://www.badmintonvlaanderen.be/sport/teammatch.aspx?id=952A42C0-E06A-400D
 -BAE7-1F26DE702556&match=1062
DTSTART;TZID=Europe/Brussels:20230927T080000
DTEND;TZID=Europe/Brussels:20230927T080000
END:VEVENT
BEGIN:VEVENT
UID:952A42C0-E06A-400D-BAE7-1F26DE702556-24-1026_homereminder@1975.badminto
 nners.net
DTSTAMP:20260420T055207Z
SUMMARY:Thuismatch ingevuld? (Poona 3G (99) - Brasschaat 6G (104))
DESCRIPTION:Je hebt 36 uur na aanvang om een thuismatch op Badmintonvlaande
 ren in te vullen. Match info: Poona 3G (99) - Brasschaat 6G (104) - Link: 
 https://www.badmintonvlaanderen.be/sport/teammatch.aspx?id=952A42C0-E06A-4
 00D-BAE7-1F26DE702556&match=1026
DTSTART;TZID=Europe/Brussels:20231108T080000
DTEND;TZID=Europe/Brussels:20231108T080000
END:VEVENT
BEGIN:VEVENT
UID:952A42C0-E06A-400D-BAE7-1F26DE702556-24-1040_homereminder@1975.badminto
 nners.net
DTSTAMP:20260420T055207Z
SUMMARY:Thuismatch ingevuld? (Poona 3G (99) - Rita Serveert 3G (109))
DESCRIPTION:Je hebt 36 uur na aanvang om een thuismatch op Badmintonvlaande
 ren in te vullen. Match info: Poona 3G (99) - Rita Serveert 3G (109) - Lin
 k: https://www.badmintonvlaanderen.be/sport/teammatch.aspx?id=952A42C0-E06
 A-400D-BAE7-1F26DE702556&match=1040
DTSTART;TZID=Europe/Brussels:20231206T080000
DTEND;TZID=Europe/Brussels:20231206T080000
END:VEVENT
BEGIN:VEVENT
UID:952A42C0-E06A-400D-BAE7-1F26DE702556-24-1033_homereminder@1975.badminto
 nners.net
DTSTAMP:20260420T055207Z
SUMMARY:Thuismatch ingevuld? (Poona 3G (99) - Klein Boom 8G (109))
DESCRIPTION:Je hebt 36 uur na aanvang om een thuismatch op Badmintonvlaande
 ren in te vullen. Match info: Poona 3G (99) - Klein Boom 8G (109) - Link: 
 https://www.badmintonvlaanderen.be/sport/teammatch.aspx?id=952A42C0-E06A-4
 00D-BAE7-1F26DE702556&match=1033
DTSTART;TZID=Europe/Brussels:20240221T080000
DTEND;TZID=Europe/Brussels:20240221T080000
END:VEVENT
BEGIN:VEVENT
UID:952A42C0-E06A-400D-BAE7-1F26DE702556-24-1069_homereminder@1975.badminto
 nners.net
DTSTAMP:20260420T055207Z
SUMMARY:Thuismatch ingevuld? (Poona 3G (99) - Olve 5G (112))
DESCRIPTION:Je hebt 36 uur na aanvang om een thuismatch op Badmintonvlaande
 ren in te vullen. Match info: Poona 3G (99) - Olve 5G (112) - Link: https:
 //www.badmintonvlaanderen.be/sport/teammatch.aspx?id=952A42C0-E06A-400D-BA
 E7-1F26DE702556&match=1069
DTSTART;TZID=Europe/Brussels:20240313T080000
DTEND;TZID=Europe/Brussels:20240313T080000
END:VEVENT
BEGIN:VEVENT
UID:952A42C0-E06A-400D-BAE7-1F26DE702556-24-1076_homereminder@1975.badminto
 nners.net
DTSTAMP:20260420T055207Z
SUMMARY:Thuismatch ingevuld? (Poona 3G (99) - Heibac 1G (116))
DESCRIPTION:Je hebt 36 uur na aanvang om een thuismatch op Badmintonvlaande
 ren in te vullen. Match info: Poona 3G (99) - Heibac 1G (116) - Link: http
 s://www.badmintonvlaanderen.be/sport/teammatch.aspx?id=952A42C0-E06A-400D-
 BAE7-1F26DE702556&match=1076
DTSTART;TZID=Europe/Brussels:20240424T080000
DTEND;TZID=Europe/Brussels:20240424T080000
END:VEVENT
BEGIN:VEVENT
UID:952A42C0-E06A-400D-BAE7-1F26DE702556-24-1057_awayreminder@1975.badminto
 nners.net
DTSTAMP:20260420T055207Z
SUMMARY:Uitmatch bevestigd? (Heibac 1G (116) - Poona 3G (99))
DESCRIPTION:Je hebt 72 uur na aanvang om een uitmatch op Badmintonvlaandere
 n in te vullen. Match info: Heibac 1G (116) - Poona 3G (99) - Link: https:
 //www.badmintonvlaanderen.be/sport/teammatch.aspx?id=952A42C0-E06A-400D-BA
 E7-1F26DE702556&match=1057
DTSTART;TZID=Europe/Brussels:20231011T193000
DTEND;TZID=Europe/Brussels:20231011T193000
END:VEVENT
BEGIN:VEVENT
UID:952A42C0-E06A-400D-BAE7-1F26DE702556-24-1056_awayreminder@1975.badminto
 nners.net
DTSTAMP:20260420T055207Z
SUMMARY:Uitmatch bevestigd? (Olve 5G (112) - Poona 3G (99))
DESCRIPTION:Je hebt 72 uur na aanvang om een uitmatch op Badmintonvlaandere
 n in te vullen. Match info: Olve 5G (112) - Poona 3G (99) - Link: https://
 www.badmintonvlaanderen.be/sport/teammatch.aspx?id=952A42C0-E06A-400D-BAE7
 -1F26DE702556&match=1056
DTSTART;TZID=Europe/Brussels:20231121T103000
DTEND;TZID=Europe/Brussels:20231121T103000
END:VEVENT
BEGIN:VEVENT
UID:952A42C0-E06A-400D-BAE7-1F26DE702556-24-1052_awayreminder@1975.badminto
 nners.net
DTSTAMP:20260420T055207Z
SUMMARY:Uitmatch bevestigd? (Klein Boom 8G (109) - Poona 3G (99))
DESCRIPTION:Je hebt 72 uur na aanvang om een uitmatch op Badmintonvlaandere
 n in te vullen. Match info: Klein Boom 8G (109) - Poona 3G (99) - Link: ht
 tps://www.badmintonvlaanderen.be/sport/teammatch.aspx?id=952A42C0-E06A-400
 D-BAE7-1F26DE702556&match=1052
DTSTART;TZID=Europe/Brussels:20231129T190000
DTEND;TZID=Europe/Brussels:20231129T190000
END:VEVENT
BEGIN:VEVENT
UID:952A42C0-E06A-400D-BAE7-1F26DE702556-24-1054_awayreminder@1975.badminto
 nners.net
DTSTAMP:20260420T055207Z
SUMMARY:Uitmatch bevestigd? (Bacss 3G (103) - Poona 3G (99))
DESCRIPTION:Je hebt 72 uur na aanvang om een uitmatch op Badmintonvlaandere
 n in te vullen. Match info: Bacss 3G (103) - Poona 3G (99) - Link: https:/
 /www.badmintonvlaanderen.be/sport/teammatch.aspx?id=952A42C0-E06A-400D-BAE
 7-1F26DE702556&match=1054
DTSTART;TZID=Europe/Brussels:20240117T100000
DTEND;TZID=Europe/Brussels:20240117T100000
END:VEVENT
BEGIN:VEVENT
UID:952A42C0-E06A-400D-BAE7-1F26DE702556-24-1051_awayreminder@1975.badminto
 nners.net
DTSTAMP:20260420T055207Z
SUMMARY:Uitmatch bevestigd? (Brasschaat 6G (104) - Poona 3G (99))
DESCRIPTION:Je hebt 72 uur na aanvang om een uitmatch op Badmintonvlaandere
 n in te vullen. Match info: Brasschaat 6G (104) - Poona 3G (99) - Link: ht
 tps://www.badmintonvlaanderen.be/sport/teammatch.aspx?id=952A42C0-E06A-400
 D-BAE7-1F26DE702556&match=1051
DTSTART;TZID=Europe/Brussels:20240306T190000
DTEND;TZID=Europe/Brussels:20240306T190000
END:VEVENT
BEGIN:VEVENT
UID:952A42C0-E06A-400D-BAE7-1F26DE702556-24-1053_awayreminder@1975.badminto
 nners.net
DTSTAMP:20260420T055207Z
SUMMARY:Uitmatch bevestigd? (Rita Serveert 3G (109) - Poona 3G (99))
DESCRIPTION:Je hebt 72 uur na aanvang om een uitmatch op Badmintonvlaandere
 n in te vullen. Match info: Rita Serveert 3G (109) - Poona 3G (99) - Link:
  https://www.badmintonvlaanderen.be/sport/teammatch.aspx?id=952A42C0-E06A-
 400D-BAE7-1F26DE702556&match=1053
DTSTART;TZID=Europe/Brussels:20240421T200000
DTEND;TZID=Europe/Brussels:20240421T200000
END:VEVENT
BEGIN:VEVENT
UID:952A42C0-E06A-400D-BAE7-1F26DE702556-24-1055_awayreminder@1975.badminto
 nners.net
DTSTAMP:20260420T055207Z
SUMMARY:Uitmatch bevestigd? (Berlaar 2G (103) - Poona 3G (99))
DESCRIPTION:Je hebt 72 uur na aanvang om een uitmatch op Badmintonvlaandere
 n in te vullen. Match info: Berlaar 2G (103) - Poona 3G (99) - Link: https
 ://www.badmintonvlaanderen.be/sport/teammatch.aspx?id=952A42C0-E06A-400D-B
 AE7-1F26DE702556&match=1055
DTSTART;TZID=Europe/Brussels:20240501T100000
DTEND;TZID=Europe/Brussels:20240501T100000
END:VEVENT
END:VCALENDAR