BEGIN:VCALENDAR
VERSION:2.0
PRODID:spatie/icalendar-generator
NAME:klein_boom_8g_109_reminders
X-WR-CALNAME:klein_boom_8g_109_reminders
BEGIN:VTIMEZONE
TZID:Europe/Brussels
BEGIN:DAYLIGHT
DTSTART:20230326T010000
TZOFFSETFROM:+0100
TZOFFSETTO:+0200
END:DAYLIGHT
BEGIN:STANDARD
DTSTART:20231029T030000
TZOFFSETFROM:+0200
TZOFFSETTO:+0100
END:STANDARD
BEGIN:DAYLIGHT
DTSTART:20240331T010000
TZOFFSETFROM:+0100
TZOFFSETTO:+0200
END:DAYLIGHT
END:VTIMEZONE
BEGIN:VTIMEZONE
TZID:UTC
BEGIN:STANDARD
DTSTART:20250724T072406
TZOFFSETFROM:+0000
TZOFFSETTO:+0000
END:STANDARD
END:VTIMEZONE
BEGIN:VEVENT
UID:952A42C0-E06A-400D-BAE7-1F26DE702556-24-1066_homereminder@1978.badminto
 nners.net
DTSTAMP:20260420T072406Z
SUMMARY:Thuismatch ingevuld? (Klein Boom 8G (109) - Olve 5G (112))
DESCRIPTION:Je hebt 36 uur na aanvang om een thuismatch op Badmintonvlaande
 ren in te vullen. Match info: Klein Boom 8G (109) - Olve 5G (112) - Link: 
 https://www.badmintonvlaanderen.be/sport/teammatch.aspx?id=952A42C0-E06A-4
 00D-BAE7-1F26DE702556&match=1066
DTSTART;TZID=Europe/Brussels:20230919T070000
DTEND;TZID=Europe/Brussels:20230919T070000
END:VEVENT
BEGIN:VEVENT
UID:952A42C0-E06A-400D-BAE7-1F26DE702556-24-1038_homereminder@1978.badminto
 nners.net
DTSTAMP:20260420T072406Z
SUMMARY:Thuismatch ingevuld? (Klein Boom 8G (109) - Rita Serveert 3G (109))
DESCRIPTION:Je hebt 36 uur na aanvang om een thuismatch op Badmintonvlaande
 ren in te vullen. Match info: Klein Boom 8G (109) - Rita Serveert 3G (109)
  - Link: https://www.badmintonvlaanderen.be/sport/teammatch.aspx?id=952A42
 C0-E06A-400D-BAE7-1F26DE702556&match=1038
DTSTART;TZID=Europe/Brussels:20231031T070000
DTEND;TZID=Europe/Brussels:20231031T070000
END:VEVENT
BEGIN:VEVENT
UID:952A42C0-E06A-400D-BAE7-1F26DE702556-24-1052_homereminder@1978.badminto
 nners.net
DTSTAMP:20260420T072406Z
SUMMARY:Thuismatch ingevuld? (Klein Boom 8G (109) - Poona 3G (99))
DESCRIPTION:Je hebt 36 uur na aanvang om een thuismatch op Badmintonvlaande
 ren in te vullen. Match info: Klein Boom 8G (109) - Poona 3G (99) - Link: 
 https://www.badmintonvlaanderen.be/sport/teammatch.aspx?id=952A42C0-E06A-4
 00D-BAE7-1F26DE702556&match=1052
DTSTART;TZID=Europe/Brussels:20231128T070000
DTEND;TZID=Europe/Brussels:20231128T070000
END:VEVENT
BEGIN:VEVENT
UID:952A42C0-E06A-400D-BAE7-1F26DE702556-24-1073_homereminder@1978.badminto
 nners.net
DTSTAMP:20260420T072406Z
SUMMARY:Thuismatch ingevuld? (Klein Boom 8G (109) - Heibac 1G (116))
DESCRIPTION:Je hebt 36 uur na aanvang om een thuismatch op Badmintonvlaande
 ren in te vullen. Match info: Klein Boom 8G (109) - Heibac 1G (116) - Link
 : https://www.badmintonvlaanderen.be/sport/teammatch.aspx?id=952A42C0-E06A
 -400D-BAE7-1F26DE702556&match=1073
DTSTART;TZID=Europe/Brussels:20231205T070000
DTEND;TZID=Europe/Brussels:20231205T070000
END:VEVENT
BEGIN:VEVENT
UID:952A42C0-E06A-400D-BAE7-1F26DE702556-24-1059_homereminder@1978.badminto
 nners.net
DTSTAMP:20260420T072406Z
SUMMARY:Thuismatch ingevuld? (Klein Boom 8G (109) - Berlaar 2G (103))
DESCRIPTION:Je hebt 36 uur na aanvang om een thuismatch op Badmintonvlaande
 ren in te vullen. Match info: Klein Boom 8G (109) - Berlaar 2G (103) - Lin
 k: https://www.badmintonvlaanderen.be/sport/teammatch.aspx?id=952A42C0-E06
 A-400D-BAE7-1F26DE702556&match=1059
DTSTART;TZID=Europe/Brussels:20240206T070000
DTEND;TZID=Europe/Brussels:20240206T070000
END:VEVENT
BEGIN:VEVENT
UID:952A42C0-E06A-400D-BAE7-1F26DE702556-24-1045_homereminder@1978.badminto
 nners.net
DTSTAMP:20260420T072406Z
SUMMARY:Thuismatch ingevuld? (Klein Boom 8G (109) - Bacss 3G (103))
DESCRIPTION:Je hebt 36 uur na aanvang om een thuismatch op Badmintonvlaande
 ren in te vullen. Match info: Klein Boom 8G (109) - Bacss 3G (103) - Link:
  https://www.badmintonvlaanderen.be/sport/teammatch.aspx?id=952A42C0-E06A-
 400D-BAE7-1F26DE702556&match=1045
DTSTART;TZID=Europe/Brussels:20240305T070000
DTEND;TZID=Europe/Brussels:20240305T070000
END:VEVENT
BEGIN:VEVENT
UID:952A42C0-E06A-400D-BAE7-1F26DE702556-24-1023_homereminder@1978.badminto
 nners.net
DTSTAMP:20260420T072406Z
SUMMARY:Thuismatch ingevuld? (Klein Boom 8G (109) - Brasschaat 6G (104))
DESCRIPTION:Je hebt 36 uur na aanvang om een thuismatch op Badmintonvlaande
 ren in te vullen. Match info: Klein Boom 8G (109) - Brasschaat 6G (104) - 
 Link: https://www.badmintonvlaanderen.be/sport/teammatch.aspx?id=952A42C0-
 E06A-400D-BAE7-1F26DE702556&match=1023
DTSTART;TZID=Europe/Brussels:20240416T070000
DTEND;TZID=Europe/Brussels:20240416T070000
END:VEVENT
BEGIN:VEVENT
UID:952A42C0-E06A-400D-BAE7-1F26DE702556-24-1030_awayreminder@1978.badminto
 nners.net
DTSTAMP:20260420T072406Z
SUMMARY:Uitmatch bevestigd? (Brasschaat 6G (104) - Klein Boom 8G (109))
DESCRIPTION:Je hebt 72 uur na aanvang om een uitmatch op Badmintonvlaandere
 n in te vullen. Match info: Brasschaat 6G (104) - Klein Boom 8G (109) - Li
 nk: https://www.badmintonvlaanderen.be/sport/teammatch.aspx?id=952A42C0-E0
 6A-400D-BAE7-1F26DE702556&match=1030
DTSTART;TZID=Europe/Brussels:20231004T190000
DTEND;TZID=Europe/Brussels:20231004T190000
END:VEVENT
BEGIN:VEVENT
UID:952A42C0-E06A-400D-BAE7-1F26DE702556-24-1032_awayreminder@1978.badminto
 nners.net
DTSTAMP:20260420T072406Z
SUMMARY:Uitmatch bevestigd? (Bacss 3G (103) - Klein Boom 8G (109))
DESCRIPTION:Je hebt 72 uur na aanvang om een uitmatch op Badmintonvlaandere
 n in te vullen. Match info: Bacss 3G (103) - Klein Boom 8G (109) - Link: h
 ttps://www.badmintonvlaanderen.be/sport/teammatch.aspx?id=952A42C0-E06A-40
 0D-BAE7-1F26DE702556&match=1032
DTSTART;TZID=Europe/Brussels:20231113T201500
DTEND;TZID=Europe/Brussels:20231113T201500
END:VEVENT
BEGIN:VEVENT
UID:952A42C0-E06A-400D-BAE7-1F26DE702556-24-1034_awayreminder@1978.badminto
 nners.net
DTSTAMP:20260420T072406Z
SUMMARY:Uitmatch bevestigd? (Berlaar 2G (103) - Klein Boom 8G (109))
DESCRIPTION:Je hebt 72 uur na aanvang om een uitmatch op Badmintonvlaandere
 n in te vullen. Match info: Berlaar 2G (103) - Klein Boom 8G (109) - Link:
  https://www.badmintonvlaanderen.be/sport/teammatch.aspx?id=952A42C0-E06A-
 400D-BAE7-1F26DE702556&match=1034
DTSTART;TZID=Europe/Brussels:20231213T100000
DTEND;TZID=Europe/Brussels:20231213T100000
END:VEVENT
BEGIN:VEVENT
UID:952A42C0-E06A-400D-BAE7-1F26DE702556-24-1035_awayreminder@1978.badminto
 nners.net
DTSTAMP:20260420T072406Z
SUMMARY:Uitmatch bevestigd? (Olve 5G (112) - Klein Boom 8G (109))
DESCRIPTION:Je hebt 72 uur na aanvang om een uitmatch op Badmintonvlaandere
 n in te vullen. Match info: Olve 5G (112) - Klein Boom 8G (109) - Link: ht
 tps://www.badmintonvlaanderen.be/sport/teammatch.aspx?id=952A42C0-E06A-400
 D-BAE7-1F26DE702556&match=1035
DTSTART;TZID=Europe/Brussels:20240123T103000
DTEND;TZID=Europe/Brussels:20240123T103000
END:VEVENT
BEGIN:VEVENT
UID:952A42C0-E06A-400D-BAE7-1F26DE702556-24-1033_awayreminder@1978.badminto
 nners.net
DTSTAMP:20260420T072406Z
SUMMARY:Uitmatch bevestigd? (Poona 3G (99) - Klein Boom 8G (109))
DESCRIPTION:Je hebt 72 uur na aanvang om een uitmatch op Badmintonvlaandere
 n in te vullen. Match info: Poona 3G (99) - Klein Boom 8G (109) - Link: ht
 tps://www.badmintonvlaanderen.be/sport/teammatch.aspx?id=952A42C0-E06A-400
 D-BAE7-1F26DE702556&match=1033
DTSTART;TZID=Europe/Brussels:20240222T200000
DTEND;TZID=Europe/Brussels:20240222T200000
END:VEVENT
BEGIN:VEVENT
UID:952A42C0-E06A-400D-BAE7-1F26DE702556-24-1031_awayreminder@1978.badminto
 nners.net
DTSTAMP:20260420T072406Z
SUMMARY:Uitmatch bevestigd? (Rita Serveert 3G (109) - Klein Boom 8G (109))
DESCRIPTION:Je hebt 72 uur na aanvang om een uitmatch op Badmintonvlaandere
 n in te vullen. Match info: Rita Serveert 3G (109) - Klein Boom 8G (109) -
  Link: https://www.badmintonvlaanderen.be/sport/teammatch.aspx?id=952A42C0
 -E06A-400D-BAE7-1F26DE702556&match=1031
DTSTART;TZID=Europe/Brussels:20240320T190000
DTEND;TZID=Europe/Brussels:20240320T190000
END:VEVENT
BEGIN:VEVENT
UID:952A42C0-E06A-400D-BAE7-1F26DE702556-24-1036_awayreminder@1978.badminto
 nners.net
DTSTAMP:20260420T072406Z
SUMMARY:Uitmatch bevestigd? (Heibac 1G (116) - Klein Boom 8G (109))
DESCRIPTION:Je hebt 72 uur na aanvang om een uitmatch op Badmintonvlaandere
 n in te vullen. Match info: Heibac 1G (116) - Klein Boom 8G (109) - Link: 
 https://www.badmintonvlaanderen.be/sport/teammatch.aspx?id=952A42C0-E06A-4
 00D-BAE7-1F26DE702556&match=1036
DTSTART;TZID=Europe/Brussels:20240410T193000
DTEND;TZID=Europe/Brussels:20240410T193000
END:VEVENT
END:VCALENDAR