BEGIN:VCALENDAR
VERSION:2.0
PRODID:spatie/icalendar-generator
NAME:berlaar_2g_103_reminders
X-WR-CALNAME:berlaar_2g_103_reminders
BEGIN:VTIMEZONE
TZID:Europe/Brussels
BEGIN:DAYLIGHT
DTSTART:20230326T010000
TZOFFSETFROM:+0100
TZOFFSETTO:+0200
END:DAYLIGHT
BEGIN:STANDARD
DTSTART:20231029T030000
TZOFFSETFROM:+0200
TZOFFSETTO:+0100
END:STANDARD
BEGIN:DAYLIGHT
DTSTART:20240331T010000
TZOFFSETFROM:+0100
TZOFFSETTO:+0200
END:DAYLIGHT
BEGIN:STANDARD
DTSTART:20241027T030000
TZOFFSETFROM:+0200
TZOFFSETTO:+0100
END:STANDARD
END:VTIMEZONE
BEGIN:VTIMEZONE
TZID:UTC
BEGIN:STANDARD
DTSTART:20250724T073529
TZOFFSETFROM:+0000
TZOFFSETTO:+0000
END:STANDARD
END:VTIMEZONE
BEGIN:VEVENT
UID:952A42C0-E06A-400D-BAE7-1F26DE702556-24-1048_homereminder@1985.badminto
 nners.net
DTSTAMP:20260420T073529Z
SUMMARY:Thuismatch ingevuld? (Berlaar 2G (103) - Bacss 3G (103))
DESCRIPTION:Je hebt 36 uur na aanvang om een thuismatch op Badmintonvlaande
 ren in te vullen. Match info: Berlaar 2G (103) - Bacss 3G (103) - Link: ht
 tps://www.badmintonvlaanderen.be/sport/teammatch.aspx?id=952A42C0-E06A-400
 D-BAE7-1F26DE702556&match=1048
DTSTART;TZID=Europe/Brussels:20230904T220000
DTEND;TZID=Europe/Brussels:20230904T220000
END:VEVENT
BEGIN:VEVENT
UID:952A42C0-E06A-400D-BAE7-1F26DE702556-24-1070_homereminder@1985.badminto
 nners.net
DTSTAMP:20260420T073529Z
SUMMARY:Thuismatch ingevuld? (Berlaar 2G (103) - Olve 5G (112))
DESCRIPTION:Je hebt 36 uur na aanvang om een thuismatch op Badmintonvlaande
 ren in te vullen. Match info: Berlaar 2G (103) - Olve 5G (112) - Link: htt
 ps://www.badmintonvlaanderen.be/sport/teammatch.aspx?id=952A42C0-E06A-400D
 -BAE7-1F26DE702556&match=1070
DTSTART;TZID=Europe/Brussels:20231113T220000
DTEND;TZID=Europe/Brussels:20231113T220000
END:VEVENT
BEGIN:VEVENT
UID:952A42C0-E06A-400D-BAE7-1F26DE702556-24-1034_homereminder@1985.badminto
 nners.net
DTSTAMP:20260420T073529Z
SUMMARY:Thuismatch ingevuld? (Berlaar 2G (103) - Klein Boom 8G (109))
DESCRIPTION:Je hebt 36 uur na aanvang om een thuismatch op Badmintonvlaande
 ren in te vullen. Match info: Berlaar 2G (103) - Klein Boom 8G (109) - Lin
 k: https://www.badmintonvlaanderen.be/sport/teammatch.aspx?id=952A42C0-E06
 A-400D-BAE7-1F26DE702556&match=1034
DTSTART;TZID=Europe/Brussels:20231211T220000
DTEND;TZID=Europe/Brussels:20231211T220000
END:VEVENT
BEGIN:VEVENT
UID:952A42C0-E06A-400D-BAE7-1F26DE702556-24-1041_homereminder@1985.badminto
 nners.net
DTSTAMP:20260420T073529Z
SUMMARY:Thuismatch ingevuld? (Berlaar 2G (103) - Rita Serveert 3G (109))
DESCRIPTION:Je hebt 36 uur na aanvang om een thuismatch op Badmintonvlaande
 ren in te vullen. Match info: Berlaar 2G (103) - Rita Serveert 3G (109) - 
 Link: https://www.badmintonvlaanderen.be/sport/teammatch.aspx?id=952A42C0-
 E06A-400D-BAE7-1F26DE702556&match=1041
DTSTART;TZID=Europe/Brussels:20240212T220000
DTEND;TZID=Europe/Brussels:20240212T220000
END:VEVENT
BEGIN:VEVENT
UID:952A42C0-E06A-400D-BAE7-1F26DE702556-24-1027_homereminder@1985.badminto
 nners.net
DTSTAMP:20260420T073529Z
SUMMARY:Thuismatch ingevuld? (Berlaar 2G (103) - Brasschaat 6G (104))
DESCRIPTION:Je hebt 36 uur na aanvang om een thuismatch op Badmintonvlaande
 ren in te vullen. Match info: Berlaar 2G (103) - Brasschaat 6G (104) - Lin
 k: https://www.badmintonvlaanderen.be/sport/teammatch.aspx?id=952A42C0-E06
 A-400D-BAE7-1F26DE702556&match=1027
DTSTART;TZID=Europe/Brussels:20240219T220000
DTEND;TZID=Europe/Brussels:20240219T220000
END:VEVENT
BEGIN:VEVENT
UID:952A42C0-E06A-400D-BAE7-1F26DE702556-24-1077_homereminder@1985.badminto
 nners.net
DTSTAMP:20260420T073529Z
SUMMARY:Thuismatch ingevuld? (Berlaar 2G (103) - Heibac 1G (116))
DESCRIPTION:Je hebt 36 uur na aanvang om een thuismatch op Badmintonvlaande
 ren in te vullen. Match info: Berlaar 2G (103) - Heibac 1G (116) - Link: h
 ttps://www.badmintonvlaanderen.be/sport/teammatch.aspx?id=952A42C0-E06A-40
 0D-BAE7-1F26DE702556&match=1077
DTSTART;TZID=Europe/Brussels:20240318T220000
DTEND;TZID=Europe/Brussels:20240318T220000
END:VEVENT
BEGIN:VEVENT
UID:952A42C0-E06A-400D-BAE7-1F26DE702556-24-1055_homereminder@1985.badminto
 nners.net
DTSTAMP:20260420T073529Z
SUMMARY:Thuismatch ingevuld? (Berlaar 2G (103) - Poona 3G (99))
DESCRIPTION:Je hebt 36 uur na aanvang om een thuismatch op Badmintonvlaande
 ren in te vullen. Match info: Berlaar 2G (103) - Poona 3G (99) - Link: htt
 ps://www.badmintonvlaanderen.be/sport/teammatch.aspx?id=952A42C0-E06A-400D
 -BAE7-1F26DE702556&match=1055
DTSTART;TZID=Europe/Brussels:20240429T220000
DTEND;TZID=Europe/Brussels:20240429T220000
END:VEVENT
BEGIN:VEVENT
UID:952A42C0-E06A-400D-BAE7-1F26DE702556-24-1060_awayreminder@1985.badminto
 nners.net
DTSTAMP:20260420T073529Z
SUMMARY:Uitmatch bevestigd? (Rita Serveert 3G (109) - Berlaar 2G (103))
DESCRIPTION:Je hebt 72 uur na aanvang om een uitmatch op Badmintonvlaandere
 n in te vullen. Match info: Rita Serveert 3G (109) - Berlaar 2G (103) - Li
 nk: https://www.badmintonvlaanderen.be/sport/teammatch.aspx?id=952A42C0-E0
 6A-400D-BAE7-1F26DE702556&match=1060
DTSTART;TZID=Europe/Brussels:20230920T190000
DTEND;TZID=Europe/Brussels:20230920T190000
END:VEVENT
BEGIN:VEVENT
UID:952A42C0-E06A-400D-BAE7-1F26DE702556-24-1062_awayreminder@1985.badminto
 nners.net
DTSTAMP:20260420T073529Z
SUMMARY:Uitmatch bevestigd? (Poona 3G (99) - Berlaar 2G (103))
DESCRIPTION:Je hebt 72 uur na aanvang om een uitmatch op Badmintonvlaandere
 n in te vullen. Match info: Poona 3G (99) - Berlaar 2G (103) - Link: https
 ://www.badmintonvlaanderen.be/sport/teammatch.aspx?id=952A42C0-E06A-400D-B
 AE7-1F26DE702556&match=1062
DTSTART;TZID=Europe/Brussels:20230928T200000
DTEND;TZID=Europe/Brussels:20230928T200000
END:VEVENT
BEGIN:VEVENT
UID:952A42C0-E06A-400D-BAE7-1F26DE702556-24-1064_awayreminder@1985.badminto
 nners.net
DTSTAMP:20260420T073529Z
SUMMARY:Uitmatch bevestigd? (Heibac 1G (116) - Berlaar 2G (103))
DESCRIPTION:Je hebt 72 uur na aanvang om een uitmatch op Badmintonvlaandere
 n in te vullen. Match info: Heibac 1G (116) - Berlaar 2G (103) - Link: htt
 ps://www.badmintonvlaanderen.be/sport/teammatch.aspx?id=952A42C0-E06A-400D
 -BAE7-1F26DE702556&match=1064
DTSTART;TZID=Europe/Brussels:20231101T193000
DTEND;TZID=Europe/Brussels:20231101T193000
END:VEVENT
BEGIN:VEVENT
UID:952A42C0-E06A-400D-BAE7-1F26DE702556-24-1058_awayreminder@1985.badminto
 nners.net
DTSTAMP:20260420T073529Z
SUMMARY:Uitmatch bevestigd? (Brasschaat 6G (104) - Berlaar 2G (103))
DESCRIPTION:Je hebt 72 uur na aanvang om een uitmatch op Badmintonvlaandere
 n in te vullen. Match info: Brasschaat 6G (104) - Berlaar 2G (103) - Link:
  https://www.badmintonvlaanderen.be/sport/teammatch.aspx?id=952A42C0-E06A-
 400D-BAE7-1F26DE702556&match=1058
DTSTART;TZID=Europe/Brussels:20231129T190000
DTEND;TZID=Europe/Brussels:20231129T190000
END:VEVENT
BEGIN:VEVENT
UID:952A42C0-E06A-400D-BAE7-1F26DE702556-24-1059_awayreminder@1985.badminto
 nners.net
DTSTAMP:20260420T073529Z
SUMMARY:Uitmatch bevestigd? (Klein Boom 8G (109) - Berlaar 2G (103))
DESCRIPTION:Je hebt 72 uur na aanvang om een uitmatch op Badmintonvlaandere
 n in te vullen. Match info: Klein Boom 8G (109) - Berlaar 2G (103) - Link:
  https://www.badmintonvlaanderen.be/sport/teammatch.aspx?id=952A42C0-E06A-
 400D-BAE7-1F26DE702556&match=1059
DTSTART;TZID=Europe/Brussels:20240207T190000
DTEND;TZID=Europe/Brussels:20240207T190000
END:VEVENT
BEGIN:VEVENT
UID:952A42C0-E06A-400D-BAE7-1F26DE702556-24-1063_awayreminder@1985.badminto
 nners.net
DTSTAMP:20260420T073529Z
SUMMARY:Uitmatch bevestigd? (Olve 5G (112) - Berlaar 2G (103))
DESCRIPTION:Je hebt 72 uur na aanvang om een uitmatch op Badmintonvlaandere
 n in te vullen. Match info: Olve 5G (112) - Berlaar 2G (103) - Link: https
 ://www.badmintonvlaanderen.be/sport/teammatch.aspx?id=952A42C0-E06A-400D-B
 AE7-1F26DE702556&match=1063
DTSTART;TZID=Europe/Brussels:20240319T103000
DTEND;TZID=Europe/Brussels:20240319T103000
END:VEVENT
BEGIN:VEVENT
UID:952A42C0-E06A-400D-BAE7-1F26DE702556-24-1061_awayreminder@1985.badminto
 nners.net
DTSTAMP:20260420T073529Z
SUMMARY:Uitmatch bevestigd? (Bacss 3G (103) - Berlaar 2G (103))
DESCRIPTION:Je hebt 72 uur na aanvang om een uitmatch op Badmintonvlaandere
 n in te vullen. Match info: Bacss 3G (103) - Berlaar 2G (103) - Link: http
 s://www.badmintonvlaanderen.be/sport/teammatch.aspx?id=952A42C0-E06A-400D-
 BAE7-1F26DE702556&match=1061
DTSTART;TZID=Europe/Brussels:20240401T211500
DTEND;TZID=Europe/Brussels:20240401T211500
END:VEVENT
END:VCALENDAR