BEGIN:VCALENDAR
VERSION:2.0
PRODID:spatie/icalendar-generator
NAME:brasschaat_6g_104_reminders
X-WR-CALNAME:brasschaat_6g_104_reminders
BEGIN:VTIMEZONE
TZID:Europe/Brussels
BEGIN:DAYLIGHT
DTSTART:20230326T010000
TZOFFSETFROM:+0100
TZOFFSETTO:+0200
END:DAYLIGHT
BEGIN:STANDARD
DTSTART:20231029T030000
TZOFFSETFROM:+0200
TZOFFSETTO:+0100
END:STANDARD
BEGIN:DAYLIGHT
DTSTART:20240331T010000
TZOFFSETFROM:+0100
TZOFFSETTO:+0200
END:DAYLIGHT
BEGIN:STANDARD
DTSTART:20241027T030000
TZOFFSETFROM:+0200
TZOFFSETTO:+0100
END:STANDARD
END:VTIMEZONE
BEGIN:VTIMEZONE
TZID:UTC
BEGIN:STANDARD
DTSTART:20250724T055208
TZOFFSETFROM:+0000
TZOFFSETTO:+0000
END:STANDARD
END:VTIMEZONE
BEGIN:VEVENT
UID:952A42C0-E06A-400D-BAE7-1F26DE702556-24-1072_homereminder@1988.badminto
 nners.net
DTSTAMP:20260420T055208Z
SUMMARY:Thuismatch ingevuld? (Brasschaat 6G (104) - Heibac 1G (116))
DESCRIPTION:Je hebt 36 uur na aanvang om een thuismatch op Badmintonvlaande
 ren in te vullen. Match info: Brasschaat 6G (104) - Heibac 1G (116) - Link
 : https://www.badmintonvlaanderen.be/sport/teammatch.aspx?id=952A42C0-E06A
 -400D-BAE7-1F26DE702556&match=1072
DTSTART;TZID=Europe/Brussels:20230919T070000
DTEND;TZID=Europe/Brussels:20230919T070000
END:VEVENT
BEGIN:VEVENT
UID:952A42C0-E06A-400D-BAE7-1F26DE702556-24-1030_homereminder@1988.badminto
 nners.net
DTSTAMP:20260420T055208Z
SUMMARY:Thuismatch ingevuld? (Brasschaat 6G (104) - Klein Boom 8G (109))
DESCRIPTION:Je hebt 36 uur na aanvang om een thuismatch op Badmintonvlaande
 ren in te vullen. Match info: Brasschaat 6G (104) - Klein Boom 8G (109) - 
 Link: https://www.badmintonvlaanderen.be/sport/teammatch.aspx?id=952A42C0-
 E06A-400D-BAE7-1F26DE702556&match=1030
DTSTART;TZID=Europe/Brussels:20231003T070000
DTEND;TZID=Europe/Brussels:20231003T070000
END:VEVENT
BEGIN:VEVENT
UID:952A42C0-E06A-400D-BAE7-1F26DE702556-24-1044_homereminder@1988.badminto
 nners.net
DTSTAMP:20260420T055208Z
SUMMARY:Thuismatch ingevuld? (Brasschaat 6G (104) - Bacss 3G (103))
DESCRIPTION:Je hebt 36 uur na aanvang om een thuismatch op Badmintonvlaande
 ren in te vullen. Match info: Brasschaat 6G (104) - Bacss 3G (103) - Link:
  https://www.badmintonvlaanderen.be/sport/teammatch.aspx?id=952A42C0-E06A-
 400D-BAE7-1F26DE702556&match=1044
DTSTART;TZID=Europe/Brussels:20231031T070000
DTEND;TZID=Europe/Brussels:20231031T070000
END:VEVENT
BEGIN:VEVENT
UID:952A42C0-E06A-400D-BAE7-1F26DE702556-24-1058_homereminder@1988.badminto
 nners.net
DTSTAMP:20260420T055208Z
SUMMARY:Thuismatch ingevuld? (Brasschaat 6G (104) - Berlaar 2G (103))
DESCRIPTION:Je hebt 36 uur na aanvang om een thuismatch op Badmintonvlaande
 ren in te vullen. Match info: Brasschaat 6G (104) - Berlaar 2G (103) - Lin
 k: https://www.badmintonvlaanderen.be/sport/teammatch.aspx?id=952A42C0-E06
 A-400D-BAE7-1F26DE702556&match=1058
DTSTART;TZID=Europe/Brussels:20231128T070000
DTEND;TZID=Europe/Brussels:20231128T070000
END:VEVENT
BEGIN:VEVENT
UID:952A42C0-E06A-400D-BAE7-1F26DE702556-24-1065_homereminder@1988.badminto
 nners.net
DTSTAMP:20260420T055208Z
SUMMARY:Thuismatch ingevuld? (Brasschaat 6G (104) - Olve 5G (112))
DESCRIPTION:Je hebt 36 uur na aanvang om een thuismatch op Badmintonvlaande
 ren in te vullen. Match info: Brasschaat 6G (104) - Olve 5G (112) - Link: 
 https://www.badmintonvlaanderen.be/sport/teammatch.aspx?id=952A42C0-E06A-4
 00D-BAE7-1F26DE702556&match=1065
DTSTART;TZID=Europe/Brussels:20240206T070000
DTEND;TZID=Europe/Brussels:20240206T070000
END:VEVENT
BEGIN:VEVENT
UID:952A42C0-E06A-400D-BAE7-1F26DE702556-24-1051_homereminder@1988.badminto
 nners.net
DTSTAMP:20260420T055208Z
SUMMARY:Thuismatch ingevuld? (Brasschaat 6G (104) - Poona 3G (99))
DESCRIPTION:Je hebt 36 uur na aanvang om een thuismatch op Badmintonvlaande
 ren in te vullen. Match info: Brasschaat 6G (104) - Poona 3G (99) - Link: 
 https://www.badmintonvlaanderen.be/sport/teammatch.aspx?id=952A42C0-E06A-4
 00D-BAE7-1F26DE702556&match=1051
DTSTART;TZID=Europe/Brussels:20240305T070000
DTEND;TZID=Europe/Brussels:20240305T070000
END:VEVENT
BEGIN:VEVENT
UID:952A42C0-E06A-400D-BAE7-1F26DE702556-24-1037_homereminder@1988.badminto
 nners.net
DTSTAMP:20260420T055208Z
SUMMARY:Thuismatch ingevuld? (Brasschaat 6G (104) - Rita Serveert 3G (109))
DESCRIPTION:Je hebt 36 uur na aanvang om een thuismatch op Badmintonvlaande
 ren in te vullen. Match info: Brasschaat 6G (104) - Rita Serveert 3G (109)
  - Link: https://www.badmintonvlaanderen.be/sport/teammatch.aspx?id=952A42
 C0-E06A-400D-BAE7-1F26DE702556&match=1037
DTSTART;TZID=Europe/Brussels:20240430T070000
DTEND;TZID=Europe/Brussels:20240430T070000
END:VEVENT
BEGIN:VEVENT
UID:952A42C0-E06A-400D-BAE7-1F26DE702556-24-1024_awayreminder@1988.badminto
 nners.net
DTSTAMP:20260420T055208Z
SUMMARY:Uitmatch bevestigd? (Rita Serveert 3G (109) - Brasschaat 6G (104))
DESCRIPTION:Je hebt 72 uur na aanvang om een uitmatch op Badmintonvlaandere
 n in te vullen. Match info: Rita Serveert 3G (109) - Brasschaat 6G (104) -
  Link: https://www.badmintonvlaanderen.be/sport/teammatch.aspx?id=952A42C0
 -E06A-400D-BAE7-1F26DE702556&match=1024
DTSTART;TZID=Europe/Brussels:20231011T190000
DTEND;TZID=Europe/Brussels:20231011T190000
END:VEVENT
BEGIN:VEVENT
UID:952A42C0-E06A-400D-BAE7-1F26DE702556-24-1026_awayreminder@1988.badminto
 nners.net
DTSTAMP:20260420T055208Z
SUMMARY:Uitmatch bevestigd? (Poona 3G (99) - Brasschaat 6G (104))
DESCRIPTION:Je hebt 72 uur na aanvang om een uitmatch op Badmintonvlaandere
 n in te vullen. Match info: Poona 3G (99) - Brasschaat 6G (104) - Link: ht
 tps://www.badmintonvlaanderen.be/sport/teammatch.aspx?id=952A42C0-E06A-400
 D-BAE7-1F26DE702556&match=1026
DTSTART;TZID=Europe/Brussels:20231109T200000
DTEND;TZID=Europe/Brussels:20231109T200000
END:VEVENT
BEGIN:VEVENT
UID:952A42C0-E06A-400D-BAE7-1F26DE702556-24-1028_awayreminder@1988.badminto
 nners.net
DTSTAMP:20260420T055208Z
SUMMARY:Uitmatch bevestigd? (Olve 5G (112) - Brasschaat 6G (104))
DESCRIPTION:Je hebt 72 uur na aanvang om een uitmatch op Badmintonvlaandere
 n in te vullen. Match info: Olve 5G (112) - Brasschaat 6G (104) - Link: ht
 tps://www.badmintonvlaanderen.be/sport/teammatch.aspx?id=952A42C0-E06A-400
 D-BAE7-1F26DE702556&match=1028
DTSTART;TZID=Europe/Brussels:20231212T103000
DTEND;TZID=Europe/Brussels:20231212T103000
END:VEVENT
BEGIN:VEVENT
UID:952A42C0-E06A-400D-BAE7-1F26DE702556-24-1029_awayreminder@1988.badminto
 nners.net
DTSTAMP:20260420T055208Z
SUMMARY:Uitmatch bevestigd? (Heibac 1G (116) - Brasschaat 6G (104))
DESCRIPTION:Je hebt 72 uur na aanvang om een uitmatch op Badmintonvlaandere
 n in te vullen. Match info: Heibac 1G (116) - Brasschaat 6G (104) - Link: 
 https://www.badmintonvlaanderen.be/sport/teammatch.aspx?id=952A42C0-E06A-4
 00D-BAE7-1F26DE702556&match=1029
DTSTART;TZID=Europe/Brussels:20240124T193000
DTEND;TZID=Europe/Brussels:20240124T193000
END:VEVENT
BEGIN:VEVENT
UID:952A42C0-E06A-400D-BAE7-1F26DE702556-24-1027_awayreminder@1988.badminto
 nners.net
DTSTAMP:20260420T055208Z
SUMMARY:Uitmatch bevestigd? (Berlaar 2G (103) - Brasschaat 6G (104))
DESCRIPTION:Je hebt 72 uur na aanvang om een uitmatch op Badmintonvlaandere
 n in te vullen. Match info: Berlaar 2G (103) - Brasschaat 6G (104) - Link:
  https://www.badmintonvlaanderen.be/sport/teammatch.aspx?id=952A42C0-E06A-
 400D-BAE7-1F26DE702556&match=1027
DTSTART;TZID=Europe/Brussels:20240221T100000
DTEND;TZID=Europe/Brussels:20240221T100000
END:VEVENT
BEGIN:VEVENT
UID:952A42C0-E06A-400D-BAE7-1F26DE702556-24-1023_awayreminder@1988.badminto
 nners.net
DTSTAMP:20260420T055208Z
SUMMARY:Uitmatch bevestigd? (Klein Boom 8G (109) - Brasschaat 6G (104))
DESCRIPTION:Je hebt 72 uur na aanvang om een uitmatch op Badmintonvlaandere
 n in te vullen. Match info: Klein Boom 8G (109) - Brasschaat 6G (104) - Li
 nk: https://www.badmintonvlaanderen.be/sport/teammatch.aspx?id=952A42C0-E0
 6A-400D-BAE7-1F26DE702556&match=1023
DTSTART;TZID=Europe/Brussels:20240417T190000
DTEND;TZID=Europe/Brussels:20240417T190000
END:VEVENT
BEGIN:VEVENT
UID:952A42C0-E06A-400D-BAE7-1F26DE702556-24-1025_awayreminder@1988.badminto
 nners.net
DTSTAMP:20260420T055208Z
SUMMARY:Uitmatch bevestigd? (Bacss 3G (103) - Brasschaat 6G (104))
DESCRIPTION:Je hebt 72 uur na aanvang om een uitmatch op Badmintonvlaandere
 n in te vullen. Match info: Bacss 3G (103) - Brasschaat 6G (104) - Link: h
 ttps://www.badmintonvlaanderen.be/sport/teammatch.aspx?id=952A42C0-E06A-40
 0D-BAE7-1F26DE702556&match=1025
DTSTART;TZID=Europe/Brussels:20240424T100000
DTEND;TZID=Europe/Brussels:20240424T100000
END:VEVENT
END:VCALENDAR