BEGIN:VCALENDAR
VERSION:2.0
PRODID:spatie/icalendar-generator
NAME:bacss_3g_103_reminders
X-WR-CALNAME:bacss_3g_103_reminders
BEGIN:VTIMEZONE
TZID:Europe/Brussels
BEGIN:DAYLIGHT
DTSTART:20230326T010000
TZOFFSETFROM:+0100
TZOFFSETTO:+0200
END:DAYLIGHT
BEGIN:STANDARD
DTSTART:20231029T030000
TZOFFSETFROM:+0200
TZOFFSETTO:+0100
END:STANDARD
BEGIN:DAYLIGHT
DTSTART:20240331T010000
TZOFFSETFROM:+0100
TZOFFSETTO:+0200
END:DAYLIGHT
BEGIN:STANDARD
DTSTART:20241027T030000
TZOFFSETFROM:+0200
TZOFFSETTO:+0100
END:STANDARD
END:VTIMEZONE
BEGIN:VTIMEZONE
TZID:UTC
BEGIN:STANDARD
DTSTART:20250724T055210
TZOFFSETFROM:+0000
TZOFFSETTO:+0000
END:STANDARD
END:VTIMEZONE
BEGIN:VEVENT
UID:952A42C0-E06A-400D-BAE7-1F26DE702556-24-1068_homereminder@1989.badminto
 nners.net
DTSTAMP:20260420T055210Z
SUMMARY:Thuismatch ingevuld? (Bacss 3G (103) - Olve 5G (112))
DESCRIPTION:Je hebt 36 uur na aanvang om een thuismatch op Badmintonvlaande
 ren in te vullen. Match info: Bacss 3G (103) - Olve 5G (112) - Link: https
 ://www.badmintonvlaanderen.be/sport/teammatch.aspx?id=952A42C0-E06A-400D-B
 AE7-1F26DE702556&match=1068
DTSTART;TZID=Europe/Brussels:20231015T081500
DTEND;TZID=Europe/Brussels:20231015T081500
END:VEVENT
BEGIN:VEVENT
UID:952A42C0-E06A-400D-BAE7-1F26DE702556-24-1032_homereminder@1989.badminto
 nners.net
DTSTAMP:20260420T055210Z
SUMMARY:Thuismatch ingevuld? (Bacss 3G (103) - Klein Boom 8G (109))
DESCRIPTION:Je hebt 36 uur na aanvang om een thuismatch op Badmintonvlaande
 ren in te vullen. Match info: Bacss 3G (103) - Klein Boom 8G (109) - Link:
  https://www.badmintonvlaanderen.be/sport/teammatch.aspx?id=952A42C0-E06A-
 400D-BAE7-1F26DE702556&match=1032
DTSTART;TZID=Europe/Brussels:20231112T081500
DTEND;TZID=Europe/Brussels:20231112T081500
END:VEVENT
BEGIN:VEVENT
UID:952A42C0-E06A-400D-BAE7-1F26DE702556-24-1075_homereminder@1989.badminto
 nners.net
DTSTAMP:20260420T055210Z
SUMMARY:Thuismatch ingevuld? (Bacss 3G (103) - Heibac 1G (116))
DESCRIPTION:Je hebt 36 uur na aanvang om een thuismatch op Badmintonvlaande
 ren in te vullen. Match info: Bacss 3G (103) - Heibac 1G (116) - Link: htt
 ps://www.badmintonvlaanderen.be/sport/teammatch.aspx?id=952A42C0-E06A-400D
 -BAE7-1F26DE702556&match=1075
DTSTART;TZID=Europe/Brussels:20231210T081500
DTEND;TZID=Europe/Brussels:20231210T081500
END:VEVENT
BEGIN:VEVENT
UID:952A42C0-E06A-400D-BAE7-1F26DE702556-24-1054_homereminder@1989.badminto
 nners.net
DTSTAMP:20260420T055210Z
SUMMARY:Thuismatch ingevuld? (Bacss 3G (103) - Poona 3G (99))
DESCRIPTION:Je hebt 36 uur na aanvang om een thuismatch op Badmintonvlaande
 ren in te vullen. Match info: Bacss 3G (103) - Poona 3G (99) - Link: https
 ://www.badmintonvlaanderen.be/sport/teammatch.aspx?id=952A42C0-E06A-400D-B
 AE7-1F26DE702556&match=1054
DTSTART;TZID=Europe/Brussels:20240115T220000
DTEND;TZID=Europe/Brussels:20240115T220000
END:VEVENT
BEGIN:VEVENT
UID:952A42C0-E06A-400D-BAE7-1F26DE702556-24-1039_homereminder@1989.badminto
 nners.net
DTSTAMP:20260420T055210Z
SUMMARY:Thuismatch ingevuld? (Bacss 3G (103) - Rita Serveert 3G (109))
DESCRIPTION:Je hebt 36 uur na aanvang om een thuismatch op Badmintonvlaande
 ren in te vullen. Match info: Bacss 3G (103) - Rita Serveert 3G (109) - Li
 nk: https://www.badmintonvlaanderen.be/sport/teammatch.aspx?id=952A42C0-E0
 6A-400D-BAE7-1F26DE702556&match=1039
DTSTART;TZID=Europe/Brussels:20240218T081500
DTEND;TZID=Europe/Brussels:20240218T081500
END:VEVENT
BEGIN:VEVENT
UID:952A42C0-E06A-400D-BAE7-1F26DE702556-24-1061_homereminder@1989.badminto
 nners.net
DTSTAMP:20260420T055210Z
SUMMARY:Thuismatch ingevuld? (Bacss 3G (103) - Berlaar 2G (103))
DESCRIPTION:Je hebt 36 uur na aanvang om een thuismatch op Badmintonvlaande
 ren in te vullen. Match info: Bacss 3G (103) - Berlaar 2G (103) - Link: ht
 tps://www.badmintonvlaanderen.be/sport/teammatch.aspx?id=952A42C0-E06A-400
 D-BAE7-1F26DE702556&match=1061
DTSTART;TZID=Europe/Brussels:20240331T091500
DTEND;TZID=Europe/Brussels:20240331T091500
END:VEVENT
BEGIN:VEVENT
UID:952A42C0-E06A-400D-BAE7-1F26DE702556-24-1025_homereminder@1989.badminto
 nners.net
DTSTAMP:20260420T055210Z
SUMMARY:Thuismatch ingevuld? (Bacss 3G (103) - Brasschaat 6G (104))
DESCRIPTION:Je hebt 36 uur na aanvang om een thuismatch op Badmintonvlaande
 ren in te vullen. Match info: Bacss 3G (103) - Brasschaat 6G (104) - Link:
  https://www.badmintonvlaanderen.be/sport/teammatch.aspx?id=952A42C0-E06A-
 400D-BAE7-1F26DE702556&match=1025
DTSTART;TZID=Europe/Brussels:20240422T220000
DTEND;TZID=Europe/Brussels:20240422T220000
END:VEVENT
BEGIN:VEVENT
UID:952A42C0-E06A-400D-BAE7-1F26DE702556-24-1048_awayreminder@1989.badminto
 nners.net
DTSTAMP:20260420T055210Z
SUMMARY:Uitmatch bevestigd? (Berlaar 2G (103) - Bacss 3G (103))
DESCRIPTION:Je hebt 72 uur na aanvang om een uitmatch op Badmintonvlaandere
 n in te vullen. Match info: Berlaar 2G (103) - Bacss 3G (103) - Link: http
 s://www.badmintonvlaanderen.be/sport/teammatch.aspx?id=952A42C0-E06A-400D-
 BAE7-1F26DE702556&match=1048
DTSTART;TZID=Europe/Brussels:20230906T100000
DTEND;TZID=Europe/Brussels:20230906T100000
END:VEVENT
BEGIN:VEVENT
UID:952A42C0-E06A-400D-BAE7-1F26DE702556-24-1047_awayreminder@1989.badminto
 nners.net
DTSTAMP:20260420T055210Z
SUMMARY:Uitmatch bevestigd? (Poona 3G (99) - Bacss 3G (103))
DESCRIPTION:Je hebt 72 uur na aanvang om een uitmatch op Badmintonvlaandere
 n in te vullen. Match info: Poona 3G (99) - Bacss 3G (103) - Link: https:/
 /www.badmintonvlaanderen.be/sport/teammatch.aspx?id=952A42C0-E06A-400D-BAE
 7-1F26DE702556&match=1047
DTSTART;TZID=Europe/Brussels:20230914T200000
DTEND;TZID=Europe/Brussels:20230914T200000
END:VEVENT
BEGIN:VEVENT
UID:952A42C0-E06A-400D-BAE7-1F26DE702556-24-1044_awayreminder@1989.badminto
 nners.net
DTSTAMP:20260420T055210Z
SUMMARY:Uitmatch bevestigd? (Brasschaat 6G (104) - Bacss 3G (103))
DESCRIPTION:Je hebt 72 uur na aanvang om een uitmatch op Badmintonvlaandere
 n in te vullen. Match info: Brasschaat 6G (104) - Bacss 3G (103) - Link: h
 ttps://www.badmintonvlaanderen.be/sport/teammatch.aspx?id=952A42C0-E06A-40
 0D-BAE7-1F26DE702556&match=1044
DTSTART;TZID=Europe/Brussels:20231101T190000
DTEND;TZID=Europe/Brussels:20231101T190000
END:VEVENT
BEGIN:VEVENT
UID:952A42C0-E06A-400D-BAE7-1F26DE702556-24-1046_awayreminder@1989.badminto
 nners.net
DTSTAMP:20260420T055210Z
SUMMARY:Uitmatch bevestigd? (Rita Serveert 3G (109) - Bacss 3G (103))
DESCRIPTION:Je hebt 72 uur na aanvang om een uitmatch op Badmintonvlaandere
 n in te vullen. Match info: Rita Serveert 3G (109) - Bacss 3G (103) - Link
 : https://www.badmintonvlaanderen.be/sport/teammatch.aspx?id=952A42C0-E06A
 -400D-BAE7-1F26DE702556&match=1046
DTSTART;TZID=Europe/Brussels:20231129T190000
DTEND;TZID=Europe/Brussels:20231129T190000
END:VEVENT
BEGIN:VEVENT
UID:952A42C0-E06A-400D-BAE7-1F26DE702556-24-1050_awayreminder@1989.badminto
 nners.net
DTSTAMP:20260420T055210Z
SUMMARY:Uitmatch bevestigd? (Heibac 1G (116) - Bacss 3G (103))
DESCRIPTION:Je hebt 72 uur na aanvang om een uitmatch op Badmintonvlaandere
 n in te vullen. Match info: Heibac 1G (116) - Bacss 3G (103) - Link: https
 ://www.badmintonvlaanderen.be/sport/teammatch.aspx?id=952A42C0-E06A-400D-B
 AE7-1F26DE702556&match=1050
DTSTART;TZID=Europe/Brussels:20240207T193000
DTEND;TZID=Europe/Brussels:20240207T193000
END:VEVENT
BEGIN:VEVENT
UID:952A42C0-E06A-400D-BAE7-1F26DE702556-24-1045_awayreminder@1989.badminto
 nners.net
DTSTAMP:20260420T055210Z
SUMMARY:Uitmatch bevestigd? (Klein Boom 8G (109) - Bacss 3G (103))
DESCRIPTION:Je hebt 72 uur na aanvang om een uitmatch op Badmintonvlaandere
 n in te vullen. Match info: Klein Boom 8G (109) - Bacss 3G (103) - Link: h
 ttps://www.badmintonvlaanderen.be/sport/teammatch.aspx?id=952A42C0-E06A-40
 0D-BAE7-1F26DE702556&match=1045
DTSTART;TZID=Europe/Brussels:20240306T190000
DTEND;TZID=Europe/Brussels:20240306T190000
END:VEVENT
BEGIN:VEVENT
UID:952A42C0-E06A-400D-BAE7-1F26DE702556-24-1049_awayreminder@1989.badminto
 nners.net
DTSTAMP:20260420T055210Z
SUMMARY:Uitmatch bevestigd? (Olve 5G (112) - Bacss 3G (103))
DESCRIPTION:Je hebt 72 uur na aanvang om een uitmatch op Badmintonvlaandere
 n in te vullen. Match info: Olve 5G (112) - Bacss 3G (103) - Link: https:/
 /www.badmintonvlaanderen.be/sport/teammatch.aspx?id=952A42C0-E06A-400D-BAE
 7-1F26DE702556&match=1049
DTSTART;TZID=Europe/Brussels:20240430T103000
DTEND;TZID=Europe/Brussels:20240430T103000
END:VEVENT
END:VCALENDAR