BEGIN:VCALENDAR
VERSION:2.0
PRODID:spatie/icalendar-generator
NAME:rita_serveert_3g_109_reminders
X-WR-CALNAME:rita_serveert_3g_109_reminders
BEGIN:VTIMEZONE
TZID:Europe/Brussels
BEGIN:DAYLIGHT
DTSTART:20230326T010000
TZOFFSETFROM:+0100
TZOFFSETTO:+0200
END:DAYLIGHT
BEGIN:STANDARD
DTSTART:20231029T030000
TZOFFSETFROM:+0200
TZOFFSETTO:+0100
END:STANDARD
BEGIN:DAYLIGHT
DTSTART:20240331T010000
TZOFFSETFROM:+0100
TZOFFSETTO:+0200
END:DAYLIGHT
BEGIN:STANDARD
DTSTART:20241027T030000
TZOFFSETFROM:+0200
TZOFFSETTO:+0100
END:STANDARD
END:VTIMEZONE
BEGIN:VTIMEZONE
TZID:UTC
BEGIN:STANDARD
DTSTART:20250724T072406
TZOFFSETFROM:+0000
TZOFFSETTO:+0000
END:STANDARD
END:VTIMEZONE
BEGIN:VEVENT
UID:952A42C0-E06A-400D-BAE7-1F26DE702556-24-1060_homereminder@1990.badminto
 nners.net
DTSTAMP:20260420T072406Z
SUMMARY:Thuismatch ingevuld? (Rita Serveert 3G (109) - Berlaar 2G (103))
DESCRIPTION:Je hebt 36 uur na aanvang om een thuismatch op Badmintonvlaande
 ren in te vullen. Match info: Rita Serveert 3G (109) - Berlaar 2G (103) - 
 Link: https://www.badmintonvlaanderen.be/sport/teammatch.aspx?id=952A42C0-
 E06A-400D-BAE7-1F26DE702556&match=1060
DTSTART;TZID=Europe/Brussels:20230919T070000
DTEND;TZID=Europe/Brussels:20230919T070000
END:VEVENT
BEGIN:VEVENT
UID:952A42C0-E06A-400D-BAE7-1F26DE702556-24-1024_homereminder@1990.badminto
 nners.net
DTSTAMP:20260420T072406Z
SUMMARY:Thuismatch ingevuld? (Rita Serveert 3G (109) - Brasschaat 6G (104))
DESCRIPTION:Je hebt 36 uur na aanvang om een thuismatch op Badmintonvlaande
 ren in te vullen. Match info: Rita Serveert 3G (109) - Brasschaat 6G (104)
  - Link: https://www.badmintonvlaanderen.be/sport/teammatch.aspx?id=952A42
 C0-E06A-400D-BAE7-1F26DE702556&match=1024
DTSTART;TZID=Europe/Brussels:20231010T070000
DTEND;TZID=Europe/Brussels:20231010T070000
END:VEVENT
BEGIN:VEVENT
UID:952A42C0-E06A-400D-BAE7-1F26DE702556-24-1046_homereminder@1990.badminto
 nners.net
DTSTAMP:20260420T072406Z
SUMMARY:Thuismatch ingevuld? (Rita Serveert 3G (109) - Bacss 3G (103))
DESCRIPTION:Je hebt 36 uur na aanvang om een thuismatch op Badmintonvlaande
 ren in te vullen. Match info: Rita Serveert 3G (109) - Bacss 3G (103) - Li
 nk: https://www.badmintonvlaanderen.be/sport/teammatch.aspx?id=952A42C0-E0
 6A-400D-BAE7-1F26DE702556&match=1046
DTSTART;TZID=Europe/Brussels:20231128T070000
DTEND;TZID=Europe/Brussels:20231128T070000
END:VEVENT
BEGIN:VEVENT
UID:952A42C0-E06A-400D-BAE7-1F26DE702556-24-1074_homereminder@1990.badminto
 nners.net
DTSTAMP:20260420T072406Z
SUMMARY:Thuismatch ingevuld? (Rita Serveert 3G (109) - Heibac 1G (116))
DESCRIPTION:Je hebt 36 uur na aanvang om een thuismatch op Badmintonvlaande
 ren in te vullen. Match info: Rita Serveert 3G (109) - Heibac 1G (116) - L
 ink: https://www.badmintonvlaanderen.be/sport/teammatch.aspx?id=952A42C0-E
 06A-400D-BAE7-1F26DE702556&match=1074
DTSTART;TZID=Europe/Brussels:20231219T070000
DTEND;TZID=Europe/Brussels:20231219T070000
END:VEVENT
BEGIN:VEVENT
UID:952A42C0-E06A-400D-BAE7-1F26DE702556-24-1031_homereminder@1990.badminto
 nners.net
DTSTAMP:20260420T072406Z
SUMMARY:Thuismatch ingevuld? (Rita Serveert 3G (109) - Klein Boom 8G (109))
DESCRIPTION:Je hebt 36 uur na aanvang om een thuismatch op Badmintonvlaande
 ren in te vullen. Match info: Rita Serveert 3G (109) - Klein Boom 8G (109)
  - Link: https://www.badmintonvlaanderen.be/sport/teammatch.aspx?id=952A42
 C0-E06A-400D-BAE7-1F26DE702556&match=1031
DTSTART;TZID=Europe/Brussels:20240319T070000
DTEND;TZID=Europe/Brussels:20240319T070000
END:VEVENT
BEGIN:VEVENT
UID:952A42C0-E06A-400D-BAE7-1F26DE702556-24-1067_homereminder@1990.badminto
 nners.net
DTSTAMP:20260420T072406Z
SUMMARY:Thuismatch ingevuld? (Rita Serveert 3G (109) - Olve 5G (112))
DESCRIPTION:Je hebt 36 uur na aanvang om een thuismatch op Badmintonvlaande
 ren in te vullen. Match info: Rita Serveert 3G (109) - Olve 5G (112) - Lin
 k: https://www.badmintonvlaanderen.be/sport/teammatch.aspx?id=952A42C0-E06
 A-400D-BAE7-1F26DE702556&match=1067
DTSTART;TZID=Europe/Brussels:20240416T070000
DTEND;TZID=Europe/Brussels:20240416T070000
END:VEVENT
BEGIN:VEVENT
UID:952A42C0-E06A-400D-BAE7-1F26DE702556-24-1053_homereminder@1990.badminto
 nners.net
DTSTAMP:20260420T072406Z
SUMMARY:Thuismatch ingevuld? (Rita Serveert 3G (109) - Poona 3G (99))
DESCRIPTION:Je hebt 36 uur na aanvang om een thuismatch op Badmintonvlaande
 ren in te vullen. Match info: Rita Serveert 3G (109) - Poona 3G (99) - Lin
 k: https://www.badmintonvlaanderen.be/sport/teammatch.aspx?id=952A42C0-E06
 A-400D-BAE7-1F26DE702556&match=1053
DTSTART;TZID=Europe/Brussels:20240420T080000
DTEND;TZID=Europe/Brussels:20240420T080000
END:VEVENT
BEGIN:VEVENT
UID:952A42C0-E06A-400D-BAE7-1F26DE702556-24-1042_awayreminder@1990.badminto
 nners.net
DTSTAMP:20260420T072406Z
SUMMARY:Uitmatch bevestigd? (Olve 5G (112) - Rita Serveert 3G (109))
DESCRIPTION:Je hebt 72 uur na aanvang om een uitmatch op Badmintonvlaandere
 n in te vullen. Match info: Olve 5G (112) - Rita Serveert 3G (109) - Link:
  https://www.badmintonvlaanderen.be/sport/teammatch.aspx?id=952A42C0-E06A-
 400D-BAE7-1F26DE702556&match=1042
DTSTART;TZID=Europe/Brussels:20231003T103000
DTEND;TZID=Europe/Brussels:20231003T103000
END:VEVENT
BEGIN:VEVENT
UID:952A42C0-E06A-400D-BAE7-1F26DE702556-24-1038_awayreminder@1990.badminto
 nners.net
DTSTAMP:20260420T072406Z
SUMMARY:Uitmatch bevestigd? (Klein Boom 8G (109) - Rita Serveert 3G (109))
DESCRIPTION:Je hebt 72 uur na aanvang om een uitmatch op Badmintonvlaandere
 n in te vullen. Match info: Klein Boom 8G (109) - Rita Serveert 3G (109) -
  Link: https://www.badmintonvlaanderen.be/sport/teammatch.aspx?id=952A42C0
 -E06A-400D-BAE7-1F26DE702556&match=1038
DTSTART;TZID=Europe/Brussels:20231101T190000
DTEND;TZID=Europe/Brussels:20231101T190000
END:VEVENT
BEGIN:VEVENT
UID:952A42C0-E06A-400D-BAE7-1F26DE702556-24-1040_awayreminder@1990.badminto
 nners.net
DTSTAMP:20260420T072406Z
SUMMARY:Uitmatch bevestigd? (Poona 3G (99) - Rita Serveert 3G (109))
DESCRIPTION:Je hebt 72 uur na aanvang om een uitmatch op Badmintonvlaandere
 n in te vullen. Match info: Poona 3G (99) - Rita Serveert 3G (109) - Link:
  https://www.badmintonvlaanderen.be/sport/teammatch.aspx?id=952A42C0-E06A-
 400D-BAE7-1F26DE702556&match=1040
DTSTART;TZID=Europe/Brussels:20231207T200000
DTEND;TZID=Europe/Brussels:20231207T200000
END:VEVENT
BEGIN:VEVENT
UID:952A42C0-E06A-400D-BAE7-1F26DE702556-24-1041_awayreminder@1990.badminto
 nners.net
DTSTAMP:20260420T072406Z
SUMMARY:Uitmatch bevestigd? (Berlaar 2G (103) - Rita Serveert 3G (109))
DESCRIPTION:Je hebt 72 uur na aanvang om een uitmatch op Badmintonvlaandere
 n in te vullen. Match info: Berlaar 2G (103) - Rita Serveert 3G (109) - Li
 nk: https://www.badmintonvlaanderen.be/sport/teammatch.aspx?id=952A42C0-E0
 6A-400D-BAE7-1F26DE702556&match=1041
DTSTART;TZID=Europe/Brussels:20240214T100000
DTEND;TZID=Europe/Brussels:20240214T100000
END:VEVENT
BEGIN:VEVENT
UID:952A42C0-E06A-400D-BAE7-1F26DE702556-24-1039_awayreminder@1990.badminto
 nners.net
DTSTAMP:20260420T072406Z
SUMMARY:Uitmatch bevestigd? (Bacss 3G (103) - Rita Serveert 3G (109))
DESCRIPTION:Je hebt 72 uur na aanvang om een uitmatch op Badmintonvlaandere
 n in te vullen. Match info: Bacss 3G (103) - Rita Serveert 3G (109) - Link
 : https://www.badmintonvlaanderen.be/sport/teammatch.aspx?id=952A42C0-E06A
 -400D-BAE7-1F26DE702556&match=1039
DTSTART;TZID=Europe/Brussels:20240219T201500
DTEND;TZID=Europe/Brussels:20240219T201500
END:VEVENT
BEGIN:VEVENT
UID:952A42C0-E06A-400D-BAE7-1F26DE702556-24-1043_awayreminder@1990.badminto
 nners.net
DTSTAMP:20260420T072406Z
SUMMARY:Uitmatch bevestigd? (Heibac 1G (116) - Rita Serveert 3G (109))
DESCRIPTION:Je hebt 72 uur na aanvang om een uitmatch op Badmintonvlaandere
 n in te vullen. Match info: Heibac 1G (116) - Rita Serveert 3G (109) - Lin
 k: https://www.badmintonvlaanderen.be/sport/teammatch.aspx?id=952A42C0-E06
 A-400D-BAE7-1F26DE702556&match=1043
DTSTART;TZID=Europe/Brussels:20240306T193000
DTEND;TZID=Europe/Brussels:20240306T193000
END:VEVENT
BEGIN:VEVENT
UID:952A42C0-E06A-400D-BAE7-1F26DE702556-24-1037_awayreminder@1990.badminto
 nners.net
DTSTAMP:20260420T072406Z
SUMMARY:Uitmatch bevestigd? (Brasschaat 6G (104) - Rita Serveert 3G (109))
DESCRIPTION:Je hebt 72 uur na aanvang om een uitmatch op Badmintonvlaandere
 n in te vullen. Match info: Brasschaat 6G (104) - Rita Serveert 3G (109) -
  Link: https://www.badmintonvlaanderen.be/sport/teammatch.aspx?id=952A42C0
 -E06A-400D-BAE7-1F26DE702556&match=1037
DTSTART;TZID=Europe/Brussels:20240501T190000
DTEND;TZID=Europe/Brussels:20240501T190000
END:VEVENT
END:VCALENDAR