BEGIN:VCALENDAR
VERSION:2.0
PRODID:spatie/icalendar-generator
NAME:olve_5g_112_reminders
X-WR-CALNAME:olve_5g_112_reminders
BEGIN:VTIMEZONE
TZID:Europe/Brussels
BEGIN:DAYLIGHT
DTSTART:20230326T010000
TZOFFSETFROM:+0100
TZOFFSETTO:+0200
END:DAYLIGHT
BEGIN:STANDARD
DTSTART:20231029T030000
TZOFFSETFROM:+0200
TZOFFSETTO:+0100
END:STANDARD
BEGIN:DAYLIGHT
DTSTART:20240331T010000
TZOFFSETFROM:+0100
TZOFFSETTO:+0200
END:DAYLIGHT
BEGIN:STANDARD
DTSTART:20241027T030000
TZOFFSETFROM:+0200
TZOFFSETTO:+0100
END:STANDARD
END:VTIMEZONE
BEGIN:VTIMEZONE
TZID:UTC
BEGIN:STANDARD
DTSTART:20250724T055128
TZOFFSETFROM:+0000
TZOFFSETTO:+0000
END:STANDARD
END:VTIMEZONE
BEGIN:VEVENT
UID:952A42C0-E06A-400D-BAE7-1F26DE702556-24-1042_homereminder@2018.badminto
 nners.net
DTSTAMP:20260420T055128Z
SUMMARY:Thuismatch ingevuld? (Olve 5G (112) - Rita Serveert 3G (109))
DESCRIPTION:Je hebt 36 uur na aanvang om een thuismatch op Badmintonvlaande
 ren in te vullen. Match info: Olve 5G (112) - Rita Serveert 3G (109) - Lin
 k: https://www.badmintonvlaanderen.be/sport/teammatch.aspx?id=952A42C0-E06
 A-400D-BAE7-1F26DE702556&match=1042
DTSTART;TZID=Europe/Brussels:20231001T223000
DTEND;TZID=Europe/Brussels:20231001T223000
END:VEVENT
BEGIN:VEVENT
UID:952A42C0-E06A-400D-BAE7-1F26DE702556-24-1056_homereminder@2018.badminto
 nners.net
DTSTAMP:20260420T055128Z
SUMMARY:Thuismatch ingevuld? (Olve 5G (112) - Poona 3G (99))
DESCRIPTION:Je hebt 36 uur na aanvang om een thuismatch op Badmintonvlaande
 ren in te vullen. Match info: Olve 5G (112) - Poona 3G (99) - Link: https:
 //www.badmintonvlaanderen.be/sport/teammatch.aspx?id=952A42C0-E06A-400D-BA
 E7-1F26DE702556&match=1056
DTSTART;TZID=Europe/Brussels:20231119T223000
DTEND;TZID=Europe/Brussels:20231119T223000
END:VEVENT
BEGIN:VEVENT
UID:952A42C0-E06A-400D-BAE7-1F26DE702556-24-1028_homereminder@2018.badminto
 nners.net
DTSTAMP:20260420T055128Z
SUMMARY:Thuismatch ingevuld? (Olve 5G (112) - Brasschaat 6G (104))
DESCRIPTION:Je hebt 36 uur na aanvang om een thuismatch op Badmintonvlaande
 ren in te vullen. Match info: Olve 5G (112) - Brasschaat 6G (104) - Link: 
 https://www.badmintonvlaanderen.be/sport/teammatch.aspx?id=952A42C0-E06A-4
 00D-BAE7-1F26DE702556&match=1028
DTSTART;TZID=Europe/Brussels:20231210T223000
DTEND;TZID=Europe/Brussels:20231210T223000
END:VEVENT
BEGIN:VEVENT
UID:952A42C0-E06A-400D-BAE7-1F26DE702556-24-1035_homereminder@2018.badminto
 nners.net
DTSTAMP:20260420T055128Z
SUMMARY:Thuismatch ingevuld? (Olve 5G (112) - Klein Boom 8G (109))
DESCRIPTION:Je hebt 36 uur na aanvang om een thuismatch op Badmintonvlaande
 ren in te vullen. Match info: Olve 5G (112) - Klein Boom 8G (109) - Link: 
 https://www.badmintonvlaanderen.be/sport/teammatch.aspx?id=952A42C0-E06A-4
 00D-BAE7-1F26DE702556&match=1035
DTSTART;TZID=Europe/Brussels:20240121T223000
DTEND;TZID=Europe/Brussels:20240121T223000
END:VEVENT
BEGIN:VEVENT
UID:952A42C0-E06A-400D-BAE7-1F26DE702556-24-1078_homereminder@2018.badminto
 nners.net
DTSTAMP:20260420T055128Z
SUMMARY:Thuismatch ingevuld? (Olve 5G (112) - Heibac 1G (116))
DESCRIPTION:Je hebt 36 uur na aanvang om een thuismatch op Badmintonvlaande
 ren in te vullen. Match info: Olve 5G (112) - Heibac 1G (116) - Link: http
 s://www.badmintonvlaanderen.be/sport/teammatch.aspx?id=952A42C0-E06A-400D-
 BAE7-1F26DE702556&match=1078
DTSTART;TZID=Europe/Brussels:20240218T223000
DTEND;TZID=Europe/Brussels:20240218T223000
END:VEVENT
BEGIN:VEVENT
UID:952A42C0-E06A-400D-BAE7-1F26DE702556-24-1063_homereminder@2018.badminto
 nners.net
DTSTAMP:20260420T055128Z
SUMMARY:Thuismatch ingevuld? (Olve 5G (112) - Berlaar 2G (103))
DESCRIPTION:Je hebt 36 uur na aanvang om een thuismatch op Badmintonvlaande
 ren in te vullen. Match info: Olve 5G (112) - Berlaar 2G (103) - Link: htt
 ps://www.badmintonvlaanderen.be/sport/teammatch.aspx?id=952A42C0-E06A-400D
 -BAE7-1F26DE702556&match=1063
DTSTART;TZID=Europe/Brussels:20240317T223000
DTEND;TZID=Europe/Brussels:20240317T223000
END:VEVENT
BEGIN:VEVENT
UID:952A42C0-E06A-400D-BAE7-1F26DE702556-24-1049_homereminder@2018.badminto
 nners.net
DTSTAMP:20260420T055128Z
SUMMARY:Thuismatch ingevuld? (Olve 5G (112) - Bacss 3G (103))
DESCRIPTION:Je hebt 36 uur na aanvang om een thuismatch op Badmintonvlaande
 ren in te vullen. Match info: Olve 5G (112) - Bacss 3G (103) - Link: https
 ://www.badmintonvlaanderen.be/sport/teammatch.aspx?id=952A42C0-E06A-400D-B
 AE7-1F26DE702556&match=1049
DTSTART;TZID=Europe/Brussels:20240428T223000
DTEND;TZID=Europe/Brussels:20240428T223000
END:VEVENT
BEGIN:VEVENT
UID:952A42C0-E06A-400D-BAE7-1F26DE702556-24-1066_awayreminder@2018.badminto
 nners.net
DTSTAMP:20260420T055128Z
SUMMARY:Uitmatch bevestigd? (Klein Boom 8G (109) - Olve 5G (112))
DESCRIPTION:Je hebt 72 uur na aanvang om een uitmatch op Badmintonvlaandere
 n in te vullen. Match info: Klein Boom 8G (109) - Olve 5G (112) - Link: ht
 tps://www.badmintonvlaanderen.be/sport/teammatch.aspx?id=952A42C0-E06A-400
 D-BAE7-1F26DE702556&match=1066
DTSTART;TZID=Europe/Brussels:20230920T190000
DTEND;TZID=Europe/Brussels:20230920T190000
END:VEVENT
BEGIN:VEVENT
UID:952A42C0-E06A-400D-BAE7-1F26DE702556-24-1068_awayreminder@2018.badminto
 nners.net
DTSTAMP:20260420T055128Z
SUMMARY:Uitmatch bevestigd? (Bacss 3G (103) - Olve 5G (112))
DESCRIPTION:Je hebt 72 uur na aanvang om een uitmatch op Badmintonvlaandere
 n in te vullen. Match info: Bacss 3G (103) - Olve 5G (112) - Link: https:/
 /www.badmintonvlaanderen.be/sport/teammatch.aspx?id=952A42C0-E06A-400D-BAE
 7-1F26DE702556&match=1068
DTSTART;TZID=Europe/Brussels:20231016T201500
DTEND;TZID=Europe/Brussels:20231016T201500
END:VEVENT
BEGIN:VEVENT
UID:952A42C0-E06A-400D-BAE7-1F26DE702556-24-1070_awayreminder@2018.badminto
 nners.net
DTSTAMP:20260420T055128Z
SUMMARY:Uitmatch bevestigd? (Berlaar 2G (103) - Olve 5G (112))
DESCRIPTION:Je hebt 72 uur na aanvang om een uitmatch op Badmintonvlaandere
 n in te vullen. Match info: Berlaar 2G (103) - Olve 5G (112) - Link: https
 ://www.badmintonvlaanderen.be/sport/teammatch.aspx?id=952A42C0-E06A-400D-B
 AE7-1F26DE702556&match=1070
DTSTART;TZID=Europe/Brussels:20231115T100000
DTEND;TZID=Europe/Brussels:20231115T100000
END:VEVENT
BEGIN:VEVENT
UID:952A42C0-E06A-400D-BAE7-1F26DE702556-24-1071_awayreminder@2018.badminto
 nners.net
DTSTAMP:20260420T055128Z
SUMMARY:Uitmatch bevestigd? (Heibac 1G (116) - Olve 5G (112))
DESCRIPTION:Je hebt 72 uur na aanvang om een uitmatch op Badmintonvlaandere
 n in te vullen. Match info: Heibac 1G (116) - Olve 5G (112) - Link: https:
 //www.badmintonvlaanderen.be/sport/teammatch.aspx?id=952A42C0-E06A-400D-BA
 E7-1F26DE702556&match=1071
DTSTART;TZID=Europe/Brussels:20231213T193000
DTEND;TZID=Europe/Brussels:20231213T193000
END:VEVENT
BEGIN:VEVENT
UID:952A42C0-E06A-400D-BAE7-1F26DE702556-24-1065_awayreminder@2018.badminto
 nners.net
DTSTAMP:20260420T055128Z
SUMMARY:Uitmatch bevestigd? (Brasschaat 6G (104) - Olve 5G (112))
DESCRIPTION:Je hebt 72 uur na aanvang om een uitmatch op Badmintonvlaandere
 n in te vullen. Match info: Brasschaat 6G (104) - Olve 5G (112) - Link: ht
 tps://www.badmintonvlaanderen.be/sport/teammatch.aspx?id=952A42C0-E06A-400
 D-BAE7-1F26DE702556&match=1065
DTSTART;TZID=Europe/Brussels:20240207T190000
DTEND;TZID=Europe/Brussels:20240207T190000
END:VEVENT
BEGIN:VEVENT
UID:952A42C0-E06A-400D-BAE7-1F26DE702556-24-1069_awayreminder@2018.badminto
 nners.net
DTSTAMP:20260420T055128Z
SUMMARY:Uitmatch bevestigd? (Poona 3G (99) - Olve 5G (112))
DESCRIPTION:Je hebt 72 uur na aanvang om een uitmatch op Badmintonvlaandere
 n in te vullen. Match info: Poona 3G (99) - Olve 5G (112) - Link: https://
 www.badmintonvlaanderen.be/sport/teammatch.aspx?id=952A42C0-E06A-400D-BAE7
 -1F26DE702556&match=1069
DTSTART;TZID=Europe/Brussels:20240314T200000
DTEND;TZID=Europe/Brussels:20240314T200000
END:VEVENT
BEGIN:VEVENT
UID:952A42C0-E06A-400D-BAE7-1F26DE702556-24-1067_awayreminder@2018.badminto
 nners.net
DTSTAMP:20260420T055128Z
SUMMARY:Uitmatch bevestigd? (Rita Serveert 3G (109) - Olve 5G (112))
DESCRIPTION:Je hebt 72 uur na aanvang om een uitmatch op Badmintonvlaandere
 n in te vullen. Match info: Rita Serveert 3G (109) - Olve 5G (112) - Link:
  https://www.badmintonvlaanderen.be/sport/teammatch.aspx?id=952A42C0-E06A-
 400D-BAE7-1F26DE702556&match=1067
DTSTART;TZID=Europe/Brussels:20240417T190000
DTEND;TZID=Europe/Brussels:20240417T190000
END:VEVENT
END:VCALENDAR