BEGIN:VCALENDAR
VERSION:2.0
PRODID:spatie/icalendar-generator
NAME:zoersel_4g_107_reminders
X-WR-CALNAME:zoersel_4g_107_reminders
BEGIN:VTIMEZONE
TZID:Europe/Brussels
BEGIN:DAYLIGHT
DTSTART:20230326T010000
TZOFFSETFROM:+0100
TZOFFSETTO:+0200
END:DAYLIGHT
BEGIN:STANDARD
DTSTART:20231029T030000
TZOFFSETFROM:+0200
TZOFFSETTO:+0100
END:STANDARD
BEGIN:DAYLIGHT
DTSTART:20240331T010000
TZOFFSETFROM:+0100
TZOFFSETTO:+0200
END:DAYLIGHT
BEGIN:STANDARD
DTSTART:20241027T030000
TZOFFSETFROM:+0200
TZOFFSETTO:+0100
END:STANDARD
END:VTIMEZONE
BEGIN:VTIMEZONE
TZID:UTC
BEGIN:STANDARD
DTSTART:20250724T055217
TZOFFSETFROM:+0000
TZOFFSETTO:+0000
END:STANDARD
END:VTIMEZONE
BEGIN:VEVENT
UID:952A42C0-E06A-400D-BAE7-1F26DE702556-25-1123_homereminder@1976.badminto
 nners.net
DTSTAMP:20260420T055217Z
SUMMARY:Thuismatch ingevuld? (Zoersel 4G (107) - Spinshuttle 4G (106))
DESCRIPTION:Je hebt 36 uur na aanvang om een thuismatch op Badmintonvlaande
 ren in te vullen. Match info: Zoersel 4G (107) - Spinshuttle 4G (106) - Li
 nk: https://www.badmintonvlaanderen.be/sport/teammatch.aspx?id=952A42C0-E0
 6A-400D-BAE7-1F26DE702556&match=1123
DTSTART;TZID=Europe/Brussels:20230919T000000
DTEND;TZID=Europe/Brussels:20230919T000000
END:VEVENT
BEGIN:VEVENT
UID:952A42C0-E06A-400D-BAE7-1F26DE702556-25-1111_homereminder@1976.badminto
 nners.net
DTSTAMP:20260420T055217Z
SUMMARY:Thuismatch ingevuld? (Zoersel 4G (107) - Rita Serveert 2G (102))
DESCRIPTION:Je hebt 36 uur na aanvang om een thuismatch op Badmintonvlaande
 ren in te vullen. Match info: Zoersel 4G (107) - Rita Serveert 2G (102) - 
 Link: https://www.badmintonvlaanderen.be/sport/teammatch.aspx?id=952A42C0-
 E06A-400D-BAE7-1F26DE702556&match=1111
DTSTART;TZID=Europe/Brussels:20231017T000000
DTEND;TZID=Europe/Brussels:20231017T000000
END:VEVENT
BEGIN:VEVENT
UID:952A42C0-E06A-400D-BAE7-1F26DE702556-25-1099_homereminder@1976.badminto
 nners.net
DTSTAMP:20260420T055217Z
SUMMARY:Thuismatch ingevuld? (Zoersel 4G (107) - Merksplas 3G (109))
DESCRIPTION:Je hebt 36 uur na aanvang om een thuismatch op Badmintonvlaande
 ren in te vullen. Match info: Zoersel 4G (107) - Merksplas 3G (109) - Link
 : https://www.badmintonvlaanderen.be/sport/teammatch.aspx?id=952A42C0-E06A
 -400D-BAE7-1F26DE702556&match=1099
DTSTART;TZID=Europe/Brussels:20231128T000000
DTEND;TZID=Europe/Brussels:20231128T000000
END:VEVENT
BEGIN:VEVENT
UID:952A42C0-E06A-400D-BAE7-1F26DE702556-25-1105_homereminder@1976.badminto
 nners.net
DTSTAMP:20260420T055217Z
SUMMARY:Thuismatch ingevuld? (Zoersel 4G (107) - Zandhoven 2G (103))
DESCRIPTION:Je hebt 36 uur na aanvang om een thuismatch op Badmintonvlaande
 ren in te vullen. Match info: Zoersel 4G (107) - Zandhoven 2G (103) - Link
 : https://www.badmintonvlaanderen.be/sport/teammatch.aspx?id=952A42C0-E06A
 -400D-BAE7-1F26DE702556&match=1105
DTSTART;TZID=Europe/Brussels:20240116T000000
DTEND;TZID=Europe/Brussels:20240116T000000
END:VEVENT
BEGIN:VEVENT
UID:952A42C0-E06A-400D-BAE7-1F26DE702556-25-1086_homereminder@1976.badminto
 nners.net
DTSTAMP:20260420T055217Z
SUMMARY:Thuismatch ingevuld? (Zoersel 4G (107) - Olve 6G (117))
DESCRIPTION:Je hebt 36 uur na aanvang om een thuismatch op Badmintonvlaande
 ren in te vullen. Match info: Zoersel 4G (107) - Olve 6G (117) - Link: htt
 ps://www.badmintonvlaanderen.be/sport/teammatch.aspx?id=952A42C0-E06A-400D
 -BAE7-1F26DE702556&match=1086
DTSTART;TZID=Europe/Brussels:20240206T000000
DTEND;TZID=Europe/Brussels:20240206T000000
END:VEVENT
BEGIN:VEVENT
UID:952A42C0-E06A-400D-BAE7-1F26DE702556-25-1117_homereminder@1976.badminto
 nners.net
DTSTAMP:20260420T055217Z
SUMMARY:Thuismatch ingevuld? (Zoersel 4G (107) - Klein Boom 6G (106))
DESCRIPTION:Je hebt 36 uur na aanvang om een thuismatch op Badmintonvlaande
 ren in te vullen. Match info: Zoersel 4G (107) - Klein Boom 6G (106) - Lin
 k: https://www.badmintonvlaanderen.be/sport/teammatch.aspx?id=952A42C0-E06
 A-400D-BAE7-1F26DE702556&match=1117
DTSTART;TZID=Europe/Brussels:20240416T000000
DTEND;TZID=Europe/Brussels:20240416T000000
END:VEVENT
BEGIN:VEVENT
UID:952A42C0-E06A-400D-BAE7-1F26DE702556-25-1092_awayreminder@1976.badminto
 nners.net
DTSTAMP:20260420T055217Z
SUMMARY:Uitmatch bevestigd? (Olve 6G (117) - Zoersel 4G (107))
DESCRIPTION:Je hebt 72 uur na aanvang om een uitmatch op Badmintonvlaandere
 n in te vullen. Match info: Olve 6G (117) - Zoersel 4G (107) - Link: https
 ://www.badmintonvlaanderen.be/sport/teammatch.aspx?id=952A42C0-E06A-400D-B
 AE7-1F26DE702556&match=1092
DTSTART;TZID=Europe/Brussels:20231003T103000
DTEND;TZID=Europe/Brussels:20231003T103000
END:VEVENT
BEGIN:VEVENT
UID:952A42C0-E06A-400D-BAE7-1F26DE702556-25-1094_awayreminder@1976.badminto
 nners.net
DTSTAMP:20260420T055217Z
SUMMARY:Uitmatch bevestigd? (Zandhoven 2G (103) - Zoersel 4G (107))
DESCRIPTION:Je hebt 72 uur na aanvang om een uitmatch op Badmintonvlaandere
 n in te vullen. Match info: Zandhoven 2G (103) - Zoersel 4G (107) - Link: 
 https://www.badmintonvlaanderen.be/sport/teammatch.aspx?id=952A42C0-E06A-4
 00D-BAE7-1F26DE702556&match=1094
DTSTART;TZID=Europe/Brussels:20231109T200000
DTEND;TZID=Europe/Brussels:20231109T200000
END:VEVENT
BEGIN:VEVENT
UID:952A42C0-E06A-400D-BAE7-1F26DE702556-25-1096_awayreminder@1976.badminto
 nners.net
DTSTAMP:20260420T055217Z
SUMMARY:Uitmatch bevestigd? (Klein Boom 6G (106) - Zoersel 4G (107))
DESCRIPTION:Je hebt 72 uur na aanvang om een uitmatch op Badmintonvlaandere
 n in te vullen. Match info: Klein Boom 6G (106) - Zoersel 4G (107) - Link:
  https://www.badmintonvlaanderen.be/sport/teammatch.aspx?id=952A42C0-E06A-
 400D-BAE7-1F26DE702556&match=1096
DTSTART;TZID=Europe/Brussels:20231123T200000
DTEND;TZID=Europe/Brussels:20231123T200000
END:VEVENT
BEGIN:VEVENT
UID:952A42C0-E06A-400D-BAE7-1F26DE702556-25-1097_awayreminder@1976.badminto
 nners.net
DTSTAMP:20260420T055217Z
SUMMARY:Uitmatch bevestigd? (Spinshuttle 4G (106) - Zoersel 4G (107))
DESCRIPTION:Je hebt 72 uur na aanvang om een uitmatch op Badmintonvlaandere
 n in te vullen. Match info: Spinshuttle 4G (106) - Zoersel 4G (107) - Link
 : https://www.badmintonvlaanderen.be/sport/teammatch.aspx?id=952A42C0-E06A
 -400D-BAE7-1F26DE702556&match=1097
DTSTART;TZID=Europe/Brussels:20240110T093000
DTEND;TZID=Europe/Brussels:20240110T093000
END:VEVENT
BEGIN:VEVENT
UID:952A42C0-E06A-400D-BAE7-1F26DE702556-25-1093_awayreminder@1976.badminto
 nners.net
DTSTAMP:20260420T055217Z
SUMMARY:Uitmatch bevestigd? (Merksplas 3G (109) - Zoersel 4G (107))
DESCRIPTION:Je hebt 72 uur na aanvang om een uitmatch op Badmintonvlaandere
 n in te vullen. Match info: Merksplas 3G (109) - Zoersel 4G (107) - Link: 
 https://www.badmintonvlaanderen.be/sport/teammatch.aspx?id=952A42C0-E06A-4
 00D-BAE7-1F26DE702556&match=1093
DTSTART;TZID=Europe/Brussels:20240306T100000
DTEND;TZID=Europe/Brussels:20240306T100000
END:VEVENT
BEGIN:VEVENT
UID:952A42C0-E06A-400D-BAE7-1F26DE702556-25-1095_awayreminder@1976.badminto
 nners.net
DTSTAMP:20260420T055217Z
SUMMARY:Uitmatch bevestigd? (Rita Serveert 2G (102) - Zoersel 4G (107))
DESCRIPTION:Je hebt 72 uur na aanvang om een uitmatch op Badmintonvlaandere
 n in te vullen. Match info: Rita Serveert 2G (102) - Zoersel 4G (107) - Li
 nk: https://www.badmintonvlaanderen.be/sport/teammatch.aspx?id=952A42C0-E0
 6A-400D-BAE7-1F26DE702556&match=1095
DTSTART;TZID=Europe/Brussels:20240501T190000
DTEND;TZID=Europe/Brussels:20240501T190000
END:VEVENT
END:VCALENDAR