BEGIN:VCALENDAR
VERSION:2.0
PRODID:spatie/icalendar-generator
NAME:zandhoven_2g_103_reminders
X-WR-CALNAME:zandhoven_2g_103_reminders
BEGIN:VTIMEZONE
TZID:Europe/Brussels
BEGIN:DAYLIGHT
DTSTART:20230326T010000
TZOFFSETFROM:+0100
TZOFFSETTO:+0200
END:DAYLIGHT
BEGIN:STANDARD
DTSTART:20231029T030000
TZOFFSETFROM:+0200
TZOFFSETTO:+0100
END:STANDARD
BEGIN:DAYLIGHT
DTSTART:20240331T010000
TZOFFSETFROM:+0100
TZOFFSETTO:+0200
END:DAYLIGHT
END:VTIMEZONE
BEGIN:VTIMEZONE
TZID:UTC
BEGIN:STANDARD
DTSTART:20250724T073655
TZOFFSETFROM:+0000
TZOFFSETTO:+0000
END:STANDARD
END:VTIMEZONE
BEGIN:VEVENT
UID:952A42C0-E06A-400D-BAE7-1F26DE702556-25-1113_homereminder@1977.badminto
 nners.net
DTSTAMP:20260420T073655Z
SUMMARY:Thuismatch ingevuld? (Zandhoven 2G (103) - Rita Serveert 2G (102))
DESCRIPTION:Je hebt 36 uur na aanvang om een thuismatch op Badmintonvlaande
 ren in te vullen. Match info: Zandhoven 2G (103) - Rita Serveert 2G (102) 
 - Link: https://www.badmintonvlaanderen.be/sport/teammatch.aspx?id=952A42C
 0-E06A-400D-BAE7-1F26DE702556&match=1113
DTSTART;TZID=Europe/Brussels:20230913T080000
DTEND;TZID=Europe/Brussels:20230913T080000
END:VEVENT
BEGIN:VEVENT
UID:952A42C0-E06A-400D-BAE7-1F26DE702556-25-1125_homereminder@1977.badminto
 nners.net
DTSTAMP:20260420T073655Z
SUMMARY:Thuismatch ingevuld? (Zandhoven 2G (103) - Spinshuttle 4G (106))
DESCRIPTION:Je hebt 36 uur na aanvang om een thuismatch op Badmintonvlaande
 ren in te vullen. Match info: Zandhoven 2G (103) - Spinshuttle 4G (106) - 
 Link: https://www.badmintonvlaanderen.be/sport/teammatch.aspx?id=952A42C0-
 E06A-400D-BAE7-1F26DE702556&match=1125
DTSTART;TZID=Europe/Brussels:20231011T080000
DTEND;TZID=Europe/Brussels:20231011T080000
END:VEVENT
BEGIN:VEVENT
UID:952A42C0-E06A-400D-BAE7-1F26DE702556-25-1094_homereminder@1977.badminto
 nners.net
DTSTAMP:20260420T073655Z
SUMMARY:Thuismatch ingevuld? (Zandhoven 2G (103) - Zoersel 4G (107))
DESCRIPTION:Je hebt 36 uur na aanvang om een thuismatch op Badmintonvlaande
 ren in te vullen. Match info: Zandhoven 2G (103) - Zoersel 4G (107) - Link
 : https://www.badmintonvlaanderen.be/sport/teammatch.aspx?id=952A42C0-E06A
 -400D-BAE7-1F26DE702556&match=1094
DTSTART;TZID=Europe/Brussels:20231108T080000
DTEND;TZID=Europe/Brussels:20231108T080000
END:VEVENT
BEGIN:VEVENT
UID:952A42C0-E06A-400D-BAE7-1F26DE702556-25-1119_homereminder@1977.badminto
 nners.net
DTSTAMP:20260420T073655Z
SUMMARY:Thuismatch ingevuld? (Zandhoven 2G (103) - Klein Boom 6G (106))
DESCRIPTION:Je hebt 36 uur na aanvang om een thuismatch op Badmintonvlaande
 ren in te vullen. Match info: Zandhoven 2G (103) - Klein Boom 6G (106) - L
 ink: https://www.badmintonvlaanderen.be/sport/teammatch.aspx?id=952A42C0-E
 06A-400D-BAE7-1F26DE702556&match=1119
DTSTART;TZID=Europe/Brussels:20240131T080000
DTEND;TZID=Europe/Brussels:20240131T080000
END:VEVENT
BEGIN:VEVENT
UID:952A42C0-E06A-400D-BAE7-1F26DE702556-25-1088_homereminder@1977.badminto
 nners.net
DTSTAMP:20260420T073655Z
SUMMARY:Thuismatch ingevuld? (Zandhoven 2G (103) - Olve 6G (117))
DESCRIPTION:Je hebt 36 uur na aanvang om een thuismatch op Badmintonvlaande
 ren in te vullen. Match info: Zandhoven 2G (103) - Olve 6G (117) - Link: h
 ttps://www.badmintonvlaanderen.be/sport/teammatch.aspx?id=952A42C0-E06A-40
 0D-BAE7-1F26DE702556&match=1088
DTSTART;TZID=Europe/Brussels:20240228T080000
DTEND;TZID=Europe/Brussels:20240228T080000
END:VEVENT
BEGIN:VEVENT
UID:952A42C0-E06A-400D-BAE7-1F26DE702556-25-1100_homereminder@1977.badminto
 nners.net
DTSTAMP:20260420T073655Z
SUMMARY:Thuismatch ingevuld? (Zandhoven 2G (103) - Merksplas 3G (109))
DESCRIPTION:Je hebt 36 uur na aanvang om een thuismatch op Badmintonvlaande
 ren in te vullen. Match info: Zandhoven 2G (103) - Merksplas 3G (109) - Li
 nk: https://www.badmintonvlaanderen.be/sport/teammatch.aspx?id=952A42C0-E0
 6A-400D-BAE7-1F26DE702556&match=1100
DTSTART;TZID=Europe/Brussels:20240327T080000
DTEND;TZID=Europe/Brussels:20240327T080000
END:VEVENT
BEGIN:VEVENT
UID:952A42C0-E06A-400D-BAE7-1F26DE702556-25-1108_awayreminder@1977.badminto
 nners.net
DTSTAMP:20260420T073655Z
SUMMARY:Uitmatch bevestigd? (Klein Boom 6G (106) - Zandhoven 2G (103))
DESCRIPTION:Je hebt 72 uur na aanvang om een uitmatch op Badmintonvlaandere
 n in te vullen. Match info: Klein Boom 6G (106) - Zandhoven 2G (103) - Lin
 k: https://www.badmintonvlaanderen.be/sport/teammatch.aspx?id=952A42C0-E06
 A-400D-BAE7-1F26DE702556&match=1108
DTSTART;TZID=Europe/Brussels:20230928T200000
DTEND;TZID=Europe/Brussels:20230928T200000
END:VEVENT
BEGIN:VEVENT
UID:952A42C0-E06A-400D-BAE7-1F26DE702556-25-1104_awayreminder@1977.badminto
 nners.net
DTSTAMP:20260420T073655Z
SUMMARY:Uitmatch bevestigd? (Olve 6G (117) - Zandhoven 2G (103))
DESCRIPTION:Je hebt 72 uur na aanvang om een uitmatch op Badmintonvlaandere
 n in te vullen. Match info: Olve 6G (117) - Zandhoven 2G (103) - Link: htt
 ps://www.badmintonvlaanderen.be/sport/teammatch.aspx?id=952A42C0-E06A-400D
 -BAE7-1F26DE702556&match=1104
DTSTART;TZID=Europe/Brussels:20231031T093000
DTEND;TZID=Europe/Brussels:20231031T093000
END:VEVENT
BEGIN:VEVENT
UID:952A42C0-E06A-400D-BAE7-1F26DE702556-25-1106_awayreminder@1977.badminto
 nners.net
DTSTAMP:20260420T073655Z
SUMMARY:Uitmatch bevestigd? (Merksplas 3G (109) - Zandhoven 2G (103))
DESCRIPTION:Je hebt 72 uur na aanvang om een uitmatch op Badmintonvlaandere
 n in te vullen. Match info: Merksplas 3G (109) - Zandhoven 2G (103) - Link
 : https://www.badmintonvlaanderen.be/sport/teammatch.aspx?id=952A42C0-E06A
 -400D-BAE7-1F26DE702556&match=1106
DTSTART;TZID=Europe/Brussels:20231115T100000
DTEND;TZID=Europe/Brussels:20231115T100000
END:VEVENT
BEGIN:VEVENT
UID:952A42C0-E06A-400D-BAE7-1F26DE702556-25-1105_awayreminder@1977.badminto
 nners.net
DTSTAMP:20260420T073655Z
SUMMARY:Uitmatch bevestigd? (Zoersel 4G (107) - Zandhoven 2G (103))
DESCRIPTION:Je hebt 72 uur na aanvang om een uitmatch op Badmintonvlaandere
 n in te vullen. Match info: Zoersel 4G (107) - Zandhoven 2G (103) - Link: 
 https://www.badmintonvlaanderen.be/sport/teammatch.aspx?id=952A42C0-E06A-4
 00D-BAE7-1F26DE702556&match=1105
DTSTART;TZID=Europe/Brussels:20240117T120000
DTEND;TZID=Europe/Brussels:20240117T120000
END:VEVENT
BEGIN:VEVENT
UID:952A42C0-E06A-400D-BAE7-1F26DE702556-25-1107_awayreminder@1977.badminto
 nners.net
DTSTAMP:20260420T073655Z
SUMMARY:Uitmatch bevestigd? (Rita Serveert 2G (102) - Zandhoven 2G (103))
DESCRIPTION:Je hebt 72 uur na aanvang om een uitmatch op Badmintonvlaandere
 n in te vullen. Match info: Rita Serveert 2G (102) - Zandhoven 2G (103) - 
 Link: https://www.badmintonvlaanderen.be/sport/teammatch.aspx?id=952A42C0-
 E06A-400D-BAE7-1F26DE702556&match=1107
DTSTART;TZID=Europe/Brussels:20240124T190000
DTEND;TZID=Europe/Brussels:20240124T190000
END:VEVENT
BEGIN:VEVENT
UID:952A42C0-E06A-400D-BAE7-1F26DE702556-25-1109_awayreminder@1977.badminto
 nners.net
DTSTAMP:20260420T073655Z
SUMMARY:Uitmatch bevestigd? (Spinshuttle 4G (106) - Zandhoven 2G (103))
DESCRIPTION:Je hebt 72 uur na aanvang om een uitmatch op Badmintonvlaandere
 n in te vullen. Match info: Spinshuttle 4G (106) - Zandhoven 2G (103) - Li
 nk: https://www.badmintonvlaanderen.be/sport/teammatch.aspx?id=952A42C0-E0
 6A-400D-BAE7-1F26DE702556&match=1109
DTSTART;TZID=Europe/Brussels:20240221T093000
DTEND;TZID=Europe/Brussels:20240221T093000
END:VEVENT
END:VCALENDAR