BEGIN:VCALENDAR
VERSION:2.0
PRODID:spatie/icalendar-generator
NAME:klein_boom_6g_106_reminders
X-WR-CALNAME:klein_boom_6g_106_reminders
BEGIN:VTIMEZONE
TZID:Europe/Brussels
BEGIN:DAYLIGHT
DTSTART:20230326T010000
TZOFFSETFROM:+0100
TZOFFSETTO:+0200
END:DAYLIGHT
BEGIN:STANDARD
DTSTART:20231029T030000
TZOFFSETFROM:+0200
TZOFFSETTO:+0100
END:STANDARD
BEGIN:DAYLIGHT
DTSTART:20240331T010000
TZOFFSETFROM:+0100
TZOFFSETTO:+0200
END:DAYLIGHT
END:VTIMEZONE
BEGIN:VTIMEZONE
TZID:UTC
BEGIN:STANDARD
DTSTART:20250724T055214
TZOFFSETFROM:+0000
TZOFFSETTO:+0000
END:STANDARD
END:VTIMEZONE
BEGIN:VEVENT
UID:952A42C0-E06A-400D-BAE7-1F26DE702556-25-1108_homereminder@1979.badminto
 nners.net
DTSTAMP:20260420T055214Z
SUMMARY:Thuismatch ingevuld? (Klein Boom 6G (106) - Zandhoven 2G (103))
DESCRIPTION:Je hebt 36 uur na aanvang om een thuismatch op Badmintonvlaande
 ren in te vullen. Match info: Klein Boom 6G (106) - Zandhoven 2G (103) - L
 ink: https://www.badmintonvlaanderen.be/sport/teammatch.aspx?id=952A42C0-E
 06A-400D-BAE7-1F26DE702556&match=1108
DTSTART;TZID=Europe/Brussels:20230927T080000
DTEND;TZID=Europe/Brussels:20230927T080000
END:VEVENT
BEGIN:VEVENT
UID:952A42C0-E06A-400D-BAE7-1F26DE702556-25-1127_homereminder@1979.badminto
 nners.net
DTSTAMP:20260420T055214Z
SUMMARY:Thuismatch ingevuld? (Klein Boom 6G (106) - Spinshuttle 4G (106))
DESCRIPTION:Je hebt 36 uur na aanvang om een thuismatch op Badmintonvlaande
 ren in te vullen. Match info: Klein Boom 6G (106) - Spinshuttle 4G (106) -
  Link: https://www.badmintonvlaanderen.be/sport/teammatch.aspx?id=952A42C0
 -E06A-400D-BAE7-1F26DE702556&match=1127
DTSTART;TZID=Europe/Brussels:20231108T080000
DTEND;TZID=Europe/Brussels:20231108T080000
END:VEVENT
BEGIN:VEVENT
UID:952A42C0-E06A-400D-BAE7-1F26DE702556-25-1096_homereminder@1979.badminto
 nners.net
DTSTAMP:20260420T055214Z
SUMMARY:Thuismatch ingevuld? (Klein Boom 6G (106) - Zoersel 4G (107))
DESCRIPTION:Je hebt 36 uur na aanvang om een thuismatch op Badmintonvlaande
 ren in te vullen. Match info: Klein Boom 6G (106) - Zoersel 4G (107) - Lin
 k: https://www.badmintonvlaanderen.be/sport/teammatch.aspx?id=952A42C0-E06
 A-400D-BAE7-1F26DE702556&match=1096
DTSTART;TZID=Europe/Brussels:20231122T080000
DTEND;TZID=Europe/Brussels:20231122T080000
END:VEVENT
BEGIN:VEVENT
UID:952A42C0-E06A-400D-BAE7-1F26DE702556-25-1102_homereminder@1979.badminto
 nners.net
DTSTAMP:20260420T055214Z
SUMMARY:Thuismatch ingevuld? (Klein Boom 6G (106) - Merksplas 3G (109))
DESCRIPTION:Je hebt 36 uur na aanvang om een thuismatch op Badmintonvlaande
 ren in te vullen. Match info: Klein Boom 6G (106) - Merksplas 3G (109) - L
 ink: https://www.badmintonvlaanderen.be/sport/teammatch.aspx?id=952A42C0-E
 06A-400D-BAE7-1F26DE702556&match=1102
DTSTART;TZID=Europe/Brussels:20240117T080000
DTEND;TZID=Europe/Brussels:20240117T080000
END:VEVENT
BEGIN:VEVENT
UID:952A42C0-E06A-400D-BAE7-1F26DE702556-25-1114_homereminder@1979.badminto
 nners.net
DTSTAMP:20260420T055214Z
SUMMARY:Thuismatch ingevuld? (Klein Boom 6G (106) - Rita Serveert 2G (102))
DESCRIPTION:Je hebt 36 uur na aanvang om een thuismatch op Badmintonvlaande
 ren in te vullen. Match info: Klein Boom 6G (106) - Rita Serveert 2G (102)
  - Link: https://www.badmintonvlaanderen.be/sport/teammatch.aspx?id=952A42
 C0-E06A-400D-BAE7-1F26DE702556&match=1114
DTSTART;TZID=Europe/Brussels:20240214T080000
DTEND;TZID=Europe/Brussels:20240214T080000
END:VEVENT
BEGIN:VEVENT
UID:952A42C0-E06A-400D-BAE7-1F26DE702556-25-1090_homereminder@1979.badminto
 nners.net
DTSTAMP:20260420T055214Z
SUMMARY:Thuismatch ingevuld? (Klein Boom 6G (106) - Olve 6G (117))
DESCRIPTION:Je hebt 36 uur na aanvang om een thuismatch op Badmintonvlaande
 ren in te vullen. Match info: Klein Boom 6G (106) - Olve 6G (117) - Link: 
 https://www.badmintonvlaanderen.be/sport/teammatch.aspx?id=952A42C0-E06A-4
 00D-BAE7-1F26DE702556&match=1090
DTSTART;TZID=Europe/Brussels:20240327T080000
DTEND;TZID=Europe/Brussels:20240327T080000
END:VEVENT
BEGIN:VEVENT
UID:952A42C0-E06A-400D-BAE7-1F26DE702556-25-1118_awayreminder@1979.badminto
 nners.net
DTSTAMP:20260420T055214Z
SUMMARY:Uitmatch bevestigd? (Merksplas 3G (109) - Klein Boom 6G (106))
DESCRIPTION:Je hebt 72 uur na aanvang om een uitmatch op Badmintonvlaandere
 n in te vullen. Match info: Merksplas 3G (109) - Klein Boom 6G (106) - Lin
 k: https://www.badmintonvlaanderen.be/sport/teammatch.aspx?id=952A42C0-E06
 A-400D-BAE7-1F26DE702556&match=1118
DTSTART;TZID=Europe/Brussels:20230920T100000
DTEND;TZID=Europe/Brussels:20230920T100000
END:VEVENT
BEGIN:VEVENT
UID:952A42C0-E06A-400D-BAE7-1F26DE702556-25-1116_awayreminder@1979.badminto
 nners.net
DTSTAMP:20260420T055214Z
SUMMARY:Uitmatch bevestigd? (Olve 6G (117) - Klein Boom 6G (106))
DESCRIPTION:Je hebt 72 uur na aanvang om een uitmatch op Badmintonvlaandere
 n in te vullen. Match info: Olve 6G (117) - Klein Boom 6G (106) - Link: ht
 tps://www.badmintonvlaanderen.be/sport/teammatch.aspx?id=952A42C0-E06A-400
 D-BAE7-1F26DE702556&match=1116
DTSTART;TZID=Europe/Brussels:20231205T103000
DTEND;TZID=Europe/Brussels:20231205T103000
END:VEVENT
BEGIN:VEVENT
UID:952A42C0-E06A-400D-BAE7-1F26DE702556-25-1120_awayreminder@1979.badminto
 nners.net
DTSTAMP:20260420T055214Z
SUMMARY:Uitmatch bevestigd? (Rita Serveert 2G (102) - Klein Boom 6G (106))
DESCRIPTION:Je hebt 72 uur na aanvang om een uitmatch op Badmintonvlaandere
 n in te vullen. Match info: Rita Serveert 2G (102) - Klein Boom 6G (106) -
  Link: https://www.badmintonvlaanderen.be/sport/teammatch.aspx?id=952A42C0
 -E06A-400D-BAE7-1F26DE702556&match=1120
DTSTART;TZID=Europe/Brussels:20231206T190000
DTEND;TZID=Europe/Brussels:20231206T190000
END:VEVENT
BEGIN:VEVENT
UID:952A42C0-E06A-400D-BAE7-1F26DE702556-25-1119_awayreminder@1979.badminto
 nners.net
DTSTAMP:20260420T055214Z
SUMMARY:Uitmatch bevestigd? (Zandhoven 2G (103) - Klein Boom 6G (106))
DESCRIPTION:Je hebt 72 uur na aanvang om een uitmatch op Badmintonvlaandere
 n in te vullen. Match info: Zandhoven 2G (103) - Klein Boom 6G (106) - Lin
 k: https://www.badmintonvlaanderen.be/sport/teammatch.aspx?id=952A42C0-E06
 A-400D-BAE7-1F26DE702556&match=1119
DTSTART;TZID=Europe/Brussels:20240201T200000
DTEND;TZID=Europe/Brussels:20240201T200000
END:VEVENT
BEGIN:VEVENT
UID:952A42C0-E06A-400D-BAE7-1F26DE702556-25-1121_awayreminder@1979.badminto
 nners.net
DTSTAMP:20260420T055214Z
SUMMARY:Uitmatch bevestigd? (Spinshuttle 4G (106) - Klein Boom 6G (106))
DESCRIPTION:Je hebt 72 uur na aanvang om een uitmatch op Badmintonvlaandere
 n in te vullen. Match info: Spinshuttle 4G (106) - Klein Boom 6G (106) - L
 ink: https://www.badmintonvlaanderen.be/sport/teammatch.aspx?id=952A42C0-E
 06A-400D-BAE7-1F26DE702556&match=1121
DTSTART;TZID=Europe/Brussels:20240320T093000
DTEND;TZID=Europe/Brussels:20240320T093000
END:VEVENT
BEGIN:VEVENT
UID:952A42C0-E06A-400D-BAE7-1F26DE702556-25-1117_awayreminder@1979.badminto
 nners.net
DTSTAMP:20260420T055214Z
SUMMARY:Uitmatch bevestigd? (Zoersel 4G (107) - Klein Boom 6G (106))
DESCRIPTION:Je hebt 72 uur na aanvang om een uitmatch op Badmintonvlaandere
 n in te vullen. Match info: Zoersel 4G (107) - Klein Boom 6G (106) - Link:
  https://www.badmintonvlaanderen.be/sport/teammatch.aspx?id=952A42C0-E06A-
 400D-BAE7-1F26DE702556&match=1117
DTSTART;TZID=Europe/Brussels:20240417T120000
DTEND;TZID=Europe/Brussels:20240417T120000
END:VEVENT
END:VCALENDAR