BEGIN:VCALENDAR
VERSION:2.0
PRODID:spatie/icalendar-generator
NAME:merksplas_3g_109_reminders
X-WR-CALNAME:merksplas_3g_109_reminders
BEGIN:VTIMEZONE
TZID:Europe/Brussels
BEGIN:DAYLIGHT
DTSTART:20230326T010000
TZOFFSETFROM:+0100
TZOFFSETTO:+0200
END:DAYLIGHT
BEGIN:STANDARD
DTSTART:20231029T030000
TZOFFSETFROM:+0200
TZOFFSETTO:+0100
END:STANDARD
BEGIN:DAYLIGHT
DTSTART:20240331T010000
TZOFFSETFROM:+0100
TZOFFSETTO:+0200
END:DAYLIGHT
END:VTIMEZONE
BEGIN:VTIMEZONE
TZID:UTC
BEGIN:STANDARD
DTSTART:20250724T055209
TZOFFSETFROM:+0000
TZOFFSETTO:+0000
END:STANDARD
END:VTIMEZONE
BEGIN:VEVENT
UID:952A42C0-E06A-400D-BAE7-1F26DE702556-25-1118_homereminder@1986.badminto
 nners.net
DTSTAMP:20260420T055209Z
SUMMARY:Thuismatch ingevuld? (Merksplas 3G (109) - Klein Boom 6G (106))
DESCRIPTION:Je hebt 36 uur na aanvang om een thuismatch op Badmintonvlaande
 ren in te vullen. Match info: Merksplas 3G (109) - Klein Boom 6G (106) - L
 ink: https://www.badmintonvlaanderen.be/sport/teammatch.aspx?id=952A42C0-E
 06A-400D-BAE7-1F26DE702556&match=1118
DTSTART;TZID=Europe/Brussels:20230918T220000
DTEND;TZID=Europe/Brussels:20230918T220000
END:VEVENT
BEGIN:VEVENT
UID:952A42C0-E06A-400D-BAE7-1F26DE702556-25-1087_homereminder@1986.badminto
 nners.net
DTSTAMP:20260420T055209Z
SUMMARY:Thuismatch ingevuld? (Merksplas 3G (109) - Olve 6G (117))
DESCRIPTION:Je hebt 36 uur na aanvang om een thuismatch op Badmintonvlaande
 ren in te vullen. Match info: Merksplas 3G (109) - Olve 6G (117) - Link: h
 ttps://www.badmintonvlaanderen.be/sport/teammatch.aspx?id=952A42C0-E06A-40
 0D-BAE7-1F26DE702556&match=1087
DTSTART;TZID=Europe/Brussels:20231016T220000
DTEND;TZID=Europe/Brussels:20231016T220000
END:VEVENT
BEGIN:VEVENT
UID:952A42C0-E06A-400D-BAE7-1F26DE702556-25-1106_homereminder@1986.badminto
 nners.net
DTSTAMP:20260420T055209Z
SUMMARY:Thuismatch ingevuld? (Merksplas 3G (109) - Zandhoven 2G (103))
DESCRIPTION:Je hebt 36 uur na aanvang om een thuismatch op Badmintonvlaande
 ren in te vullen. Match info: Merksplas 3G (109) - Zandhoven 2G (103) - Li
 nk: https://www.badmintonvlaanderen.be/sport/teammatch.aspx?id=952A42C0-E0
 6A-400D-BAE7-1F26DE702556&match=1106
DTSTART;TZID=Europe/Brussels:20231113T220000
DTEND;TZID=Europe/Brussels:20231113T220000
END:VEVENT
BEGIN:VEVENT
UID:952A42C0-E06A-400D-BAE7-1F26DE702556-25-1112_homereminder@1986.badminto
 nners.net
DTSTAMP:20260420T055209Z
SUMMARY:Thuismatch ingevuld? (Merksplas 3G (109) - Rita Serveert 2G (102))
DESCRIPTION:Je hebt 36 uur na aanvang om een thuismatch op Badmintonvlaande
 ren in te vullen. Match info: Merksplas 3G (109) - Rita Serveert 2G (102) 
 - Link: https://www.badmintonvlaanderen.be/sport/teammatch.aspx?id=952A42C
 0-E06A-400D-BAE7-1F26DE702556&match=1112
DTSTART;TZID=Europe/Brussels:20240108T220000
DTEND;TZID=Europe/Brussels:20240108T220000
END:VEVENT
BEGIN:VEVENT
UID:952A42C0-E06A-400D-BAE7-1F26DE702556-25-1093_homereminder@1986.badminto
 nners.net
DTSTAMP:20260420T055209Z
SUMMARY:Thuismatch ingevuld? (Merksplas 3G (109) - Zoersel 4G (107))
DESCRIPTION:Je hebt 36 uur na aanvang om een thuismatch op Badmintonvlaande
 ren in te vullen. Match info: Merksplas 3G (109) - Zoersel 4G (107) - Link
 : https://www.badmintonvlaanderen.be/sport/teammatch.aspx?id=952A42C0-E06A
 -400D-BAE7-1F26DE702556&match=1093
DTSTART;TZID=Europe/Brussels:20240304T220000
DTEND;TZID=Europe/Brussels:20240304T220000
END:VEVENT
BEGIN:VEVENT
UID:952A42C0-E06A-400D-BAE7-1F26DE702556-25-1124_homereminder@1986.badminto
 nners.net
DTSTAMP:20260420T055209Z
SUMMARY:Thuismatch ingevuld? (Merksplas 3G (109) - Spinshuttle 4G (106))
DESCRIPTION:Je hebt 36 uur na aanvang om een thuismatch op Badmintonvlaande
 ren in te vullen. Match info: Merksplas 3G (109) - Spinshuttle 4G (106) - 
 Link: https://www.badmintonvlaanderen.be/sport/teammatch.aspx?id=952A42C0-
 E06A-400D-BAE7-1F26DE702556&match=1124
DTSTART;TZID=Europe/Brussels:20240416T063000
DTEND;TZID=Europe/Brussels:20240416T063000
END:VEVENT
BEGIN:VEVENT
UID:952A42C0-E06A-400D-BAE7-1F26DE702556-25-1101_awayreminder@1986.badminto
 nners.net
DTSTAMP:20260420T055209Z
SUMMARY:Uitmatch bevestigd? (Rita Serveert 2G (102) - Merksplas 3G (109))
DESCRIPTION:Je hebt 72 uur na aanvang om een uitmatch op Badmintonvlaandere
 n in te vullen. Match info: Rita Serveert 2G (102) - Merksplas 3G (109) - 
 Link: https://www.badmintonvlaanderen.be/sport/teammatch.aspx?id=952A42C0-
 E06A-400D-BAE7-1F26DE702556&match=1101
DTSTART;TZID=Europe/Brussels:20231011T190000
DTEND;TZID=Europe/Brussels:20231011T190000
END:VEVENT
BEGIN:VEVENT
UID:952A42C0-E06A-400D-BAE7-1F26DE702556-25-1099_awayreminder@1986.badminto
 nners.net
DTSTAMP:20260420T055209Z
SUMMARY:Uitmatch bevestigd? (Zoersel 4G (107) - Merksplas 3G (109))
DESCRIPTION:Je hebt 72 uur na aanvang om een uitmatch op Badmintonvlaandere
 n in te vullen. Match info: Zoersel 4G (107) - Merksplas 3G (109) - Link: 
 https://www.badmintonvlaanderen.be/sport/teammatch.aspx?id=952A42C0-E06A-4
 00D-BAE7-1F26DE702556&match=1099
DTSTART;TZID=Europe/Brussels:20231129T120000
DTEND;TZID=Europe/Brussels:20231129T120000
END:VEVENT
BEGIN:VEVENT
UID:952A42C0-E06A-400D-BAE7-1F26DE702556-25-1103_awayreminder@1986.badminto
 nners.net
DTSTAMP:20260420T055209Z
SUMMARY:Uitmatch bevestigd? (Spinshuttle 4G (106) - Merksplas 3G (109))
DESCRIPTION:Je hebt 72 uur na aanvang om een uitmatch op Badmintonvlaandere
 n in te vullen. Match info: Spinshuttle 4G (106) - Merksplas 3G (109) - Li
 nk: https://www.badmintonvlaanderen.be/sport/teammatch.aspx?id=952A42C0-E0
 6A-400D-BAE7-1F26DE702556&match=1103
DTSTART;TZID=Europe/Brussels:20231206T093000
DTEND;TZID=Europe/Brussels:20231206T093000
END:VEVENT
BEGIN:VEVENT
UID:952A42C0-E06A-400D-BAE7-1F26DE702556-25-1102_awayreminder@1986.badminto
 nners.net
DTSTAMP:20260420T055209Z
SUMMARY:Uitmatch bevestigd? (Klein Boom 6G (106) - Merksplas 3G (109))
DESCRIPTION:Je hebt 72 uur na aanvang om een uitmatch op Badmintonvlaandere
 n in te vullen. Match info: Klein Boom 6G (106) - Merksplas 3G (109) - Lin
 k: https://www.badmintonvlaanderen.be/sport/teammatch.aspx?id=952A42C0-E06
 A-400D-BAE7-1F26DE702556&match=1102
DTSTART;TZID=Europe/Brussels:20240118T200000
DTEND;TZID=Europe/Brussels:20240118T200000
END:VEVENT
BEGIN:VEVENT
UID:952A42C0-E06A-400D-BAE7-1F26DE702556-25-1098_awayreminder@1986.badminto
 nners.net
DTSTAMP:20260420T055209Z
SUMMARY:Uitmatch bevestigd? (Olve 6G (117) - Merksplas 3G (109))
DESCRIPTION:Je hebt 72 uur na aanvang om een uitmatch op Badmintonvlaandere
 n in te vullen. Match info: Olve 6G (117) - Merksplas 3G (109) - Link: htt
 ps://www.badmintonvlaanderen.be/sport/teammatch.aspx?id=952A42C0-E06A-400D
 -BAE7-1F26DE702556&match=1098
DTSTART;TZID=Europe/Brussels:20240220T103000
DTEND;TZID=Europe/Brussels:20240220T103000
END:VEVENT
BEGIN:VEVENT
UID:952A42C0-E06A-400D-BAE7-1F26DE702556-25-1100_awayreminder@1986.badminto
 nners.net
DTSTAMP:20260420T055209Z
SUMMARY:Uitmatch bevestigd? (Zandhoven 2G (103) - Merksplas 3G (109))
DESCRIPTION:Je hebt 72 uur na aanvang om een uitmatch op Badmintonvlaandere
 n in te vullen. Match info: Zandhoven 2G (103) - Merksplas 3G (109) - Link
 : https://www.badmintonvlaanderen.be/sport/teammatch.aspx?id=952A42C0-E06A
 -400D-BAE7-1F26DE702556&match=1100
DTSTART;TZID=Europe/Brussels:20240328T200000
DTEND;TZID=Europe/Brussels:20240328T200000
END:VEVENT
END:VCALENDAR