BEGIN:VCALENDAR
VERSION:2.0
PRODID:spatie/icalendar-generator
NAME:rita_serveert_2g_102_reminders
X-WR-CALNAME:rita_serveert_2g_102_reminders
BEGIN:VTIMEZONE
TZID:Europe/Brussels
BEGIN:DAYLIGHT
DTSTART:20230326T010000
TZOFFSETFROM:+0100
TZOFFSETTO:+0200
END:DAYLIGHT
BEGIN:STANDARD
DTSTART:20231029T030000
TZOFFSETFROM:+0200
TZOFFSETTO:+0100
END:STANDARD
BEGIN:DAYLIGHT
DTSTART:20240331T010000
TZOFFSETFROM:+0100
TZOFFSETTO:+0200
END:DAYLIGHT
BEGIN:STANDARD
DTSTART:20241027T030000
TZOFFSETFROM:+0200
TZOFFSETTO:+0100
END:STANDARD
END:VTIMEZONE
BEGIN:VTIMEZONE
TZID:UTC
BEGIN:STANDARD
DTSTART:20250724T073705
TZOFFSETFROM:+0000
TZOFFSETTO:+0000
END:STANDARD
END:VTIMEZONE
BEGIN:VEVENT
UID:952A42C0-E06A-400D-BAE7-1F26DE702556-25-1101_homereminder@1991.badminto
 nners.net
DTSTAMP:20260420T073705Z
SUMMARY:Thuismatch ingevuld? (Rita Serveert 2G (102) - Merksplas 3G (109))
DESCRIPTION:Je hebt 36 uur na aanvang om een thuismatch op Badmintonvlaande
 ren in te vullen. Match info: Rita Serveert 2G (102) - Merksplas 3G (109) 
 - Link: https://www.badmintonvlaanderen.be/sport/teammatch.aspx?id=952A42C
 0-E06A-400D-BAE7-1F26DE702556&match=1101
DTSTART;TZID=Europe/Brussels:20231010T070000
DTEND;TZID=Europe/Brussels:20231010T070000
END:VEVENT
BEGIN:VEVENT
UID:952A42C0-E06A-400D-BAE7-1F26DE702556-25-1089_homereminder@1991.badminto
 nners.net
DTSTAMP:20260420T073705Z
SUMMARY:Thuismatch ingevuld? (Rita Serveert 2G (102) - Olve 6G (117))
DESCRIPTION:Je hebt 36 uur na aanvang om een thuismatch op Badmintonvlaande
 ren in te vullen. Match info: Rita Serveert 2G (102) - Olve 6G (117) - Lin
 k: https://www.badmintonvlaanderen.be/sport/teammatch.aspx?id=952A42C0-E06
 A-400D-BAE7-1F26DE702556&match=1089
DTSTART;TZID=Europe/Brussels:20231121T070000
DTEND;TZID=Europe/Brussels:20231121T070000
END:VEVENT
BEGIN:VEVENT
UID:952A42C0-E06A-400D-BAE7-1F26DE702556-25-1120_homereminder@1991.badminto
 nners.net
DTSTAMP:20260420T073705Z
SUMMARY:Thuismatch ingevuld? (Rita Serveert 2G (102) - Klein Boom 6G (106))
DESCRIPTION:Je hebt 36 uur na aanvang om een thuismatch op Badmintonvlaande
 ren in te vullen. Match info: Rita Serveert 2G (102) - Klein Boom 6G (106)
  - Link: https://www.badmintonvlaanderen.be/sport/teammatch.aspx?id=952A42
 C0-E06A-400D-BAE7-1F26DE702556&match=1120
DTSTART;TZID=Europe/Brussels:20231205T070000
DTEND;TZID=Europe/Brussels:20231205T070000
END:VEVENT
BEGIN:VEVENT
UID:952A42C0-E06A-400D-BAE7-1F26DE702556-25-1107_homereminder@1991.badminto
 nners.net
DTSTAMP:20260420T073705Z
SUMMARY:Thuismatch ingevuld? (Rita Serveert 2G (102) - Zandhoven 2G (103))
DESCRIPTION:Je hebt 36 uur na aanvang om een thuismatch op Badmintonvlaande
 ren in te vullen. Match info: Rita Serveert 2G (102) - Zandhoven 2G (103) 
 - Link: https://www.badmintonvlaanderen.be/sport/teammatch.aspx?id=952A42C
 0-E06A-400D-BAE7-1F26DE702556&match=1107
DTSTART;TZID=Europe/Brussels:20240123T070000
DTEND;TZID=Europe/Brussels:20240123T070000
END:VEVENT
BEGIN:VEVENT
UID:952A42C0-E06A-400D-BAE7-1F26DE702556-25-1126_homereminder@1991.badminto
 nners.net
DTSTAMP:20260420T073705Z
SUMMARY:Thuismatch ingevuld? (Rita Serveert 2G (102) - Spinshuttle 4G (106)
 )
DESCRIPTION:Je hebt 36 uur na aanvang om een thuismatch op Badmintonvlaande
 ren in te vullen. Match info: Rita Serveert 2G (102) - Spinshuttle 4G (106
 ) - Link: https://www.badmintonvlaanderen.be/sport/teammatch.aspx?id=952A4
 2C0-E06A-400D-BAE7-1F26DE702556&match=1126
DTSTART;TZID=Europe/Brussels:20240305T070000
DTEND;TZID=Europe/Brussels:20240305T070000
END:VEVENT
BEGIN:VEVENT
UID:952A42C0-E06A-400D-BAE7-1F26DE702556-25-1095_homereminder@1991.badminto
 nners.net
DTSTAMP:20260420T073705Z
SUMMARY:Thuismatch ingevuld? (Rita Serveert 2G (102) - Zoersel 4G (107))
DESCRIPTION:Je hebt 36 uur na aanvang om een thuismatch op Badmintonvlaande
 ren in te vullen. Match info: Rita Serveert 2G (102) - Zoersel 4G (107) - 
 Link: https://www.badmintonvlaanderen.be/sport/teammatch.aspx?id=952A42C0-
 E06A-400D-BAE7-1F26DE702556&match=1095
DTSTART;TZID=Europe/Brussels:20240430T070000
DTEND;TZID=Europe/Brussels:20240430T070000
END:VEVENT
BEGIN:VEVENT
UID:952A42C0-E06A-400D-BAE7-1F26DE702556-25-1113_awayreminder@1991.badminto
 nners.net
DTSTAMP:20260420T073705Z
SUMMARY:Uitmatch bevestigd? (Zandhoven 2G (103) - Rita Serveert 2G (102))
DESCRIPTION:Je hebt 72 uur na aanvang om een uitmatch op Badmintonvlaandere
 n in te vullen. Match info: Zandhoven 2G (103) - Rita Serveert 2G (102) - 
 Link: https://www.badmintonvlaanderen.be/sport/teammatch.aspx?id=952A42C0-
 E06A-400D-BAE7-1F26DE702556&match=1113
DTSTART;TZID=Europe/Brussels:20230914T200000
DTEND;TZID=Europe/Brussels:20230914T200000
END:VEVENT
BEGIN:VEVENT
UID:952A42C0-E06A-400D-BAE7-1F26DE702556-25-1111_awayreminder@1991.badminto
 nners.net
DTSTAMP:20260420T073705Z
SUMMARY:Uitmatch bevestigd? (Zoersel 4G (107) - Rita Serveert 2G (102))
DESCRIPTION:Je hebt 72 uur na aanvang om een uitmatch op Badmintonvlaandere
 n in te vullen. Match info: Zoersel 4G (107) - Rita Serveert 2G (102) - Li
 nk: https://www.badmintonvlaanderen.be/sport/teammatch.aspx?id=952A42C0-E0
 6A-400D-BAE7-1F26DE702556&match=1111
DTSTART;TZID=Europe/Brussels:20231018T120000
DTEND;TZID=Europe/Brussels:20231018T120000
END:VEVENT
BEGIN:VEVENT
UID:952A42C0-E06A-400D-BAE7-1F26DE702556-25-1115_awayreminder@1991.badminto
 nners.net
DTSTAMP:20260420T073705Z
SUMMARY:Uitmatch bevestigd? (Spinshuttle 4G (106) - Rita Serveert 2G (102))
DESCRIPTION:Je hebt 72 uur na aanvang om een uitmatch op Badmintonvlaandere
 n in te vullen. Match info: Spinshuttle 4G (106) - Rita Serveert 2G (102) 
 - Link: https://www.badmintonvlaanderen.be/sport/teammatch.aspx?id=952A42C
 0-E06A-400D-BAE7-1F26DE702556&match=1115
DTSTART;TZID=Europe/Brussels:20231101T093000
DTEND;TZID=Europe/Brussels:20231101T093000
END:VEVENT
BEGIN:VEVENT
UID:952A42C0-E06A-400D-BAE7-1F26DE702556-25-1112_awayreminder@1991.badminto
 nners.net
DTSTAMP:20260420T073705Z
SUMMARY:Uitmatch bevestigd? (Merksplas 3G (109) - Rita Serveert 2G (102))
DESCRIPTION:Je hebt 72 uur na aanvang om een uitmatch op Badmintonvlaandere
 n in te vullen. Match info: Merksplas 3G (109) - Rita Serveert 2G (102) - 
 Link: https://www.badmintonvlaanderen.be/sport/teammatch.aspx?id=952A42C0-
 E06A-400D-BAE7-1F26DE702556&match=1112
DTSTART;TZID=Europe/Brussels:20240110T100000
DTEND;TZID=Europe/Brussels:20240110T100000
END:VEVENT
BEGIN:VEVENT
UID:952A42C0-E06A-400D-BAE7-1F26DE702556-25-1114_awayreminder@1991.badminto
 nners.net
DTSTAMP:20260420T073705Z
SUMMARY:Uitmatch bevestigd? (Klein Boom 6G (106) - Rita Serveert 2G (102))
DESCRIPTION:Je hebt 72 uur na aanvang om een uitmatch op Badmintonvlaandere
 n in te vullen. Match info: Klein Boom 6G (106) - Rita Serveert 2G (102) -
  Link: https://www.badmintonvlaanderen.be/sport/teammatch.aspx?id=952A42C0
 -E06A-400D-BAE7-1F26DE702556&match=1114
DTSTART;TZID=Europe/Brussels:20240215T200000
DTEND;TZID=Europe/Brussels:20240215T200000
END:VEVENT
BEGIN:VEVENT
UID:952A42C0-E06A-400D-BAE7-1F26DE702556-25-1110_awayreminder@1991.badminto
 nners.net
DTSTAMP:20260420T073705Z
SUMMARY:Uitmatch bevestigd? (Olve 6G (117) - Rita Serveert 2G (102))
DESCRIPTION:Je hebt 72 uur na aanvang om een uitmatch op Badmintonvlaandere
 n in te vullen. Match info: Olve 6G (117) - Rita Serveert 2G (102) - Link:
  https://www.badmintonvlaanderen.be/sport/teammatch.aspx?id=952A42C0-E06A-
 400D-BAE7-1F26DE702556&match=1110
DTSTART;TZID=Europe/Brussels:20240319T103000
DTEND;TZID=Europe/Brussels:20240319T103000
END:VEVENT
END:VCALENDAR