BEGIN:VCALENDAR
VERSION:2.0
PRODID:spatie/icalendar-generator
NAME:olve_6g_117_reminders
X-WR-CALNAME:olve_6g_117_reminders
BEGIN:VTIMEZONE
TZID:Europe/Brussels
BEGIN:DAYLIGHT
DTSTART:20230326T010000
TZOFFSETFROM:+0100
TZOFFSETTO:+0200
END:DAYLIGHT
BEGIN:STANDARD
DTSTART:20231029T030000
TZOFFSETFROM:+0200
TZOFFSETTO:+0100
END:STANDARD
BEGIN:DAYLIGHT
DTSTART:20240331T010000
TZOFFSETFROM:+0100
TZOFFSETTO:+0200
END:DAYLIGHT
BEGIN:STANDARD
DTSTART:20241027T030000
TZOFFSETFROM:+0200
TZOFFSETTO:+0100
END:STANDARD
END:VTIMEZONE
BEGIN:VTIMEZONE
TZID:UTC
BEGIN:STANDARD
DTSTART:20250724T072409
TZOFFSETFROM:+0000
TZOFFSETTO:+0000
END:STANDARD
END:VTIMEZONE
BEGIN:VEVENT
UID:952A42C0-E06A-400D-BAE7-1F26DE702556-25-1092_homereminder@2019.badminto
 nners.net
DTSTAMP:20260420T072409Z
SUMMARY:Thuismatch ingevuld? (Olve 6G (117) - Zoersel 4G (107))
DESCRIPTION:Je hebt 36 uur na aanvang om een thuismatch op Badmintonvlaande
 ren in te vullen. Match info: Olve 6G (117) - Zoersel 4G (107) - Link: htt
 ps://www.badmintonvlaanderen.be/sport/teammatch.aspx?id=952A42C0-E06A-400D
 -BAE7-1F26DE702556&match=1092
DTSTART;TZID=Europe/Brussels:20231001T223000
DTEND;TZID=Europe/Brussels:20231001T223000
END:VEVENT
BEGIN:VEVENT
UID:952A42C0-E06A-400D-BAE7-1F26DE702556-25-1104_homereminder@2019.badminto
 nners.net
DTSTAMP:20260420T072409Z
SUMMARY:Thuismatch ingevuld? (Olve 6G (117) - Zandhoven 2G (103))
DESCRIPTION:Je hebt 36 uur na aanvang om een thuismatch op Badmintonvlaande
 ren in te vullen. Match info: Olve 6G (117) - Zandhoven 2G (103) - Link: h
 ttps://www.badmintonvlaanderen.be/sport/teammatch.aspx?id=952A42C0-E06A-40
 0D-BAE7-1F26DE702556&match=1104
DTSTART;TZID=Europe/Brussels:20231029T213000
DTEND;TZID=Europe/Brussels:20231029T213000
END:VEVENT
BEGIN:VEVENT
UID:952A42C0-E06A-400D-BAE7-1F26DE702556-25-1116_homereminder@2019.badminto
 nners.net
DTSTAMP:20260420T072409Z
SUMMARY:Thuismatch ingevuld? (Olve 6G (117) - Klein Boom 6G (106))
DESCRIPTION:Je hebt 36 uur na aanvang om een thuismatch op Badmintonvlaande
 ren in te vullen. Match info: Olve 6G (117) - Klein Boom 6G (106) - Link: 
 https://www.badmintonvlaanderen.be/sport/teammatch.aspx?id=952A42C0-E06A-4
 00D-BAE7-1F26DE702556&match=1116
DTSTART;TZID=Europe/Brussels:20231203T223000
DTEND;TZID=Europe/Brussels:20231203T223000
END:VEVENT
BEGIN:VEVENT
UID:952A42C0-E06A-400D-BAE7-1F26DE702556-25-1098_homereminder@2019.badminto
 nners.net
DTSTAMP:20260420T072409Z
SUMMARY:Thuismatch ingevuld? (Olve 6G (117) - Merksplas 3G (109))
DESCRIPTION:Je hebt 36 uur na aanvang om een thuismatch op Badmintonvlaande
 ren in te vullen. Match info: Olve 6G (117) - Merksplas 3G (109) - Link: h
 ttps://www.badmintonvlaanderen.be/sport/teammatch.aspx?id=952A42C0-E06A-40
 0D-BAE7-1F26DE702556&match=1098
DTSTART;TZID=Europe/Brussels:20240218T223000
DTEND;TZID=Europe/Brussels:20240218T223000
END:VEVENT
BEGIN:VEVENT
UID:952A42C0-E06A-400D-BAE7-1F26DE702556-25-1110_homereminder@2019.badminto
 nners.net
DTSTAMP:20260420T072409Z
SUMMARY:Thuismatch ingevuld? (Olve 6G (117) - Rita Serveert 2G (102))
DESCRIPTION:Je hebt 36 uur na aanvang om een thuismatch op Badmintonvlaande
 ren in te vullen. Match info: Olve 6G (117) - Rita Serveert 2G (102) - Lin
 k: https://www.badmintonvlaanderen.be/sport/teammatch.aspx?id=952A42C0-E06
 A-400D-BAE7-1F26DE702556&match=1110
DTSTART;TZID=Europe/Brussels:20240317T223000
DTEND;TZID=Europe/Brussels:20240317T223000
END:VEVENT
BEGIN:VEVENT
UID:952A42C0-E06A-400D-BAE7-1F26DE702556-25-1122_homereminder@2019.badminto
 nners.net
DTSTAMP:20260420T072409Z
SUMMARY:Thuismatch ingevuld? (Olve 6G (117) - Spinshuttle 4G (106))
DESCRIPTION:Je hebt 36 uur na aanvang om een thuismatch op Badmintonvlaande
 ren in te vullen. Match info: Olve 6G (117) - Spinshuttle 4G (106) - Link:
  https://www.badmintonvlaanderen.be/sport/teammatch.aspx?id=952A42C0-E06A-
 400D-BAE7-1F26DE702556&match=1122
DTSTART;TZID=Europe/Brussels:20240428T223000
DTEND;TZID=Europe/Brussels:20240428T223000
END:VEVENT
BEGIN:VEVENT
UID:952A42C0-E06A-400D-BAE7-1F26DE702556-25-1087_awayreminder@2019.badminto
 nners.net
DTSTAMP:20260420T072409Z
SUMMARY:Uitmatch bevestigd? (Merksplas 3G (109) - Olve 6G (117))
DESCRIPTION:Je hebt 72 uur na aanvang om een uitmatch op Badmintonvlaandere
 n in te vullen. Match info: Merksplas 3G (109) - Olve 6G (117) - Link: htt
 ps://www.badmintonvlaanderen.be/sport/teammatch.aspx?id=952A42C0-E06A-400D
 -BAE7-1F26DE702556&match=1087
DTSTART;TZID=Europe/Brussels:20231018T100000
DTEND;TZID=Europe/Brussels:20231018T100000
END:VEVENT
BEGIN:VEVENT
UID:952A42C0-E06A-400D-BAE7-1F26DE702556-25-1089_awayreminder@2019.badminto
 nners.net
DTSTAMP:20260420T072409Z
SUMMARY:Uitmatch bevestigd? (Rita Serveert 2G (102) - Olve 6G (117))
DESCRIPTION:Je hebt 72 uur na aanvang om een uitmatch op Badmintonvlaandere
 n in te vullen. Match info: Rita Serveert 2G (102) - Olve 6G (117) - Link:
  https://www.badmintonvlaanderen.be/sport/teammatch.aspx?id=952A42C0-E06A-
 400D-BAE7-1F26DE702556&match=1089
DTSTART;TZID=Europe/Brussels:20231122T190000
DTEND;TZID=Europe/Brussels:20231122T190000
END:VEVENT
BEGIN:VEVENT
UID:952A42C0-E06A-400D-BAE7-1F26DE702556-25-1091_awayreminder@2019.badminto
 nners.net
DTSTAMP:20260420T072409Z
SUMMARY:Uitmatch bevestigd? (Spinshuttle 4G (106) - Olve 6G (117))
DESCRIPTION:Je hebt 72 uur na aanvang om een uitmatch op Badmintonvlaandere
 n in te vullen. Match info: Spinshuttle 4G (106) - Olve 6G (117) - Link: h
 ttps://www.badmintonvlaanderen.be/sport/teammatch.aspx?id=952A42C0-E06A-40
 0D-BAE7-1F26DE702556&match=1091
DTSTART;TZID=Europe/Brussels:20231129T093000
DTEND;TZID=Europe/Brussels:20231129T093000
END:VEVENT
BEGIN:VEVENT
UID:952A42C0-E06A-400D-BAE7-1F26DE702556-25-1086_awayreminder@2019.badminto
 nners.net
DTSTAMP:20260420T072409Z
SUMMARY:Uitmatch bevestigd? (Zoersel 4G (107) - Olve 6G (117))
DESCRIPTION:Je hebt 72 uur na aanvang om een uitmatch op Badmintonvlaandere
 n in te vullen. Match info: Zoersel 4G (107) - Olve 6G (117) - Link: https
 ://www.badmintonvlaanderen.be/sport/teammatch.aspx?id=952A42C0-E06A-400D-B
 AE7-1F26DE702556&match=1086
DTSTART;TZID=Europe/Brussels:20240207T120000
DTEND;TZID=Europe/Brussels:20240207T120000
END:VEVENT
BEGIN:VEVENT
UID:952A42C0-E06A-400D-BAE7-1F26DE702556-25-1088_awayreminder@2019.badminto
 nners.net
DTSTAMP:20260420T072409Z
SUMMARY:Uitmatch bevestigd? (Zandhoven 2G (103) - Olve 6G (117))
DESCRIPTION:Je hebt 72 uur na aanvang om een uitmatch op Badmintonvlaandere
 n in te vullen. Match info: Zandhoven 2G (103) - Olve 6G (117) - Link: htt
 ps://www.badmintonvlaanderen.be/sport/teammatch.aspx?id=952A42C0-E06A-400D
 -BAE7-1F26DE702556&match=1088
DTSTART;TZID=Europe/Brussels:20240229T200000
DTEND;TZID=Europe/Brussels:20240229T200000
END:VEVENT
BEGIN:VEVENT
UID:952A42C0-E06A-400D-BAE7-1F26DE702556-25-1090_awayreminder@2019.badminto
 nners.net
DTSTAMP:20260420T072409Z
SUMMARY:Uitmatch bevestigd? (Klein Boom 6G (106) - Olve 6G (117))
DESCRIPTION:Je hebt 72 uur na aanvang om een uitmatch op Badmintonvlaandere
 n in te vullen. Match info: Klein Boom 6G (106) - Olve 6G (117) - Link: ht
 tps://www.badmintonvlaanderen.be/sport/teammatch.aspx?id=952A42C0-E06A-400
 D-BAE7-1F26DE702556&match=1090
DTSTART;TZID=Europe/Brussels:20240328T200000
DTEND;TZID=Europe/Brussels:20240328T200000
END:VEVENT
END:VCALENDAR